BEGIN:VCALENDAR
VERSION:2.0
PRODID:-//Bienvenue sur le site du Musée du Pays de Hanau - ECPv6.15.20//NONSGML v1.0//EN
CALSCALE:GREGORIAN
METHOD:PUBLISH
X-WR-CALNAME:Bienvenue sur le site du Musée du Pays de Hanau
X-ORIGINAL-URL:https://www.museedupaysdehanau.eu
X-WR-CALDESC:Évènements pour Bienvenue sur le site du Musée du Pays de Hanau
REFRESH-INTERVAL;VALUE=DURATION:PT1H
X-Robots-Tag:noindex
X-PUBLISHED-TTL:PT1H
BEGIN:VTIMEZONE
TZID:Europe/Paris
BEGIN:DAYLIGHT
TZOFFSETFROM:+0100
TZOFFSETTO:+0200
TZNAME:CEST
DTSTART:20210328T010000
END:DAYLIGHT
BEGIN:STANDARD
TZOFFSETFROM:+0200
TZOFFSETTO:+0100
TZNAME:CET
DTSTART:20211031T010000
END:STANDARD
BEGIN:DAYLIGHT
TZOFFSETFROM:+0100
TZOFFSETTO:+0200
TZNAME:CEST
DTSTART:20220327T010000
END:DAYLIGHT
BEGIN:STANDARD
TZOFFSETFROM:+0200
TZOFFSETTO:+0100
TZNAME:CET
DTSTART:20221030T010000
END:STANDARD
BEGIN:DAYLIGHT
TZOFFSETFROM:+0100
TZOFFSETTO:+0200
TZNAME:CEST
DTSTART:20230326T010000
END:DAYLIGHT
BEGIN:STANDARD
TZOFFSETFROM:+0200
TZOFFSETTO:+0100
TZNAME:CET
DTSTART:20231029T010000
END:STANDARD
END:VTIMEZONE
BEGIN:VEVENT
DTSTART;TZID=Europe/Paris:20220729T170000
DTEND;TZID=Europe/Paris:20220729T170000
DTSTAMP:20260426T063536
CREATED:20220525T143053Z
LAST-MODIFIED:20220629T063003Z
UID:5728-1659114000-1659114000@www.museedupaysdehanau.eu
SUMMARY:Visite guidée de l’exposition « Inspiration Alsace »
DESCRIPTION:Découvrez le travail inspiré et inspirant de la couturière et costumière Rita Tataï\, mis en regard avec des pièces anciennes. En créant la marque Geht’s In\, elle s’est inspirée de pièces du costume traditionnel alsacien pour remettre au goût du jour des motifs\, des tissus\, une allure…En compagnie de Laure Lickel\, chargée de médiation\, dépoussiérez votre vision du costume alsacien ! \nExposition visible jusqu’au 23 octobre 2022. \nDurée : 1h\nTarif : Gratuit\nPlaces limitées. Réservations au 03 88 00 38 39 ou contact@museedupaysdehanau.eu\nLieu : Musée du Pays de Hanau\, 3 place du Château\, 67330 Bouxwiller
URL:https://www.museedupaysdehanau.eu/event/visite-guidee-de-lexposition-inspiration-alsace-2/
ATTACH;FMTTYPE=image/jpeg:https://www.museedupaysdehanau.eu/wp-content/uploads/2022/05/VG-expo-29-juillet-scaled-e1653488955256.jpg
END:VEVENT
END:VCALENDAR