BEGIN:VCALENDAR
VERSION:2.0
PRODID:-//Bienvenue sur le site du Musée du Pays de Hanau - ECPv6.15.20//NONSGML v1.0//EN
CALSCALE:GREGORIAN
METHOD:PUBLISH
X-WR-CALNAME:Bienvenue sur le site du Musée du Pays de Hanau
X-ORIGINAL-URL:https://www.museedupaysdehanau.eu
X-WR-CALDESC:Évènements pour Bienvenue sur le site du Musée du Pays de Hanau
REFRESH-INTERVAL;VALUE=DURATION:PT1H
X-Robots-Tag:noindex
X-PUBLISHED-TTL:PT1H
BEGIN:VTIMEZONE
TZID:Europe/Paris
BEGIN:DAYLIGHT
TZOFFSETFROM:+0100
TZOFFSETTO:+0200
TZNAME:CEST
DTSTART:20210328T010000
END:DAYLIGHT
BEGIN:STANDARD
TZOFFSETFROM:+0200
TZOFFSETTO:+0100
TZNAME:CET
DTSTART:20211031T010000
END:STANDARD
BEGIN:DAYLIGHT
TZOFFSETFROM:+0100
TZOFFSETTO:+0200
TZNAME:CEST
DTSTART:20220327T010000
END:DAYLIGHT
BEGIN:STANDARD
TZOFFSETFROM:+0200
TZOFFSETTO:+0100
TZNAME:CET
DTSTART:20221030T010000
END:STANDARD
BEGIN:DAYLIGHT
TZOFFSETFROM:+0100
TZOFFSETTO:+0200
TZNAME:CEST
DTSTART:20230326T010000
END:DAYLIGHT
BEGIN:STANDARD
TZOFFSETFROM:+0200
TZOFFSETTO:+0100
TZNAME:CET
DTSTART:20231029T010000
END:STANDARD
END:VTIMEZONE
BEGIN:VEVENT
DTSTART;TZID=Europe/Paris:20220803T143000
DTEND;TZID=Europe/Paris:20220803T143000
DTSTAMP:20260426T045920
CREATED:20220525T143355Z
LAST-MODIFIED:20220525T143707Z
UID:5731-1659537000-1659537000@www.museedupaysdehanau.eu
SUMMARY:Visite guidée de la colline du Bastberg « Mystérieuse colline »
DESCRIPTION:Venez percer les mystères de cette colline et des plantes qui l’habitent. Admirez ce magnifique panorama et découvrez pourquoi certaines plantes ont été liées à la sorcellerie. Redécouvrez en compagnie de Laure Lickel\, chargée de médiation\, les secrets de ce lieu unique. \nAnimation gratuite\nDurée : 3h\nPlaces limitées. Réservations obligatoires au 03 88 00 38 39 ou contact@museedupaysdehanau.eu\nSite internet : www.museedupaysdehanau.eu\nLieu de rendez-vous : Parking du Château d’eau
URL:https://www.museedupaysdehanau.eu/event/visite-guidee-de-la-colline-du-bastberg-mysterieuse-colline-3/
ATTACH;FMTTYPE=image/jpeg:https://www.museedupaysdehanau.eu/wp-content/uploads/2022/05/VG-03-aout-e1653489199309.jpg
END:VEVENT
END:VCALENDAR