BEGIN:VCALENDAR
VERSION:2.0
PRODID:-//Bienvenue sur le site du Musée du Pays de Hanau - ECPv6.15.20//NONSGML v1.0//EN
CALSCALE:GREGORIAN
METHOD:PUBLISH
X-ORIGINAL-URL:https://www.museedupaysdehanau.eu
X-WR-CALDESC:Évènements pour Bienvenue sur le site du Musée du Pays de Hanau
REFRESH-INTERVAL;VALUE=DURATION:PT1H
X-Robots-Tag:noindex
X-PUBLISHED-TTL:PT1H
BEGIN:VTIMEZONE
TZID:Europe/Paris
BEGIN:DAYLIGHT
TZOFFSETFROM:+0100
TZOFFSETTO:+0200
TZNAME:CEST
DTSTART:20210328T010000
END:DAYLIGHT
BEGIN:STANDARD
TZOFFSETFROM:+0200
TZOFFSETTO:+0100
TZNAME:CET
DTSTART:20211031T010000
END:STANDARD
BEGIN:DAYLIGHT
TZOFFSETFROM:+0100
TZOFFSETTO:+0200
TZNAME:CEST
DTSTART:20220327T010000
END:DAYLIGHT
BEGIN:STANDARD
TZOFFSETFROM:+0200
TZOFFSETTO:+0100
TZNAME:CET
DTSTART:20221030T010000
END:STANDARD
BEGIN:DAYLIGHT
TZOFFSETFROM:+0100
TZOFFSETTO:+0200
TZNAME:CEST
DTSTART:20230326T010000
END:DAYLIGHT
BEGIN:STANDARD
TZOFFSETFROM:+0200
TZOFFSETTO:+0100
TZNAME:CET
DTSTART:20231029T010000
END:STANDARD
END:VTIMEZONE
BEGIN:VEVENT
DTSTART;TZID=Europe/Paris:20220817T150000
DTEND;TZID=Europe/Paris:20220817T150000
DTSTAMP:20260426T050119
CREATED:20220525T150923Z
LAST-MODIFIED:20220525T150923Z
UID:5740-1660748400-1660748400@www.museedupaysdehanau.eu
SUMMARY:Visite guidée de la ville : « Bouxwiller au temps des Mines »
DESCRIPTION:Au 19ème siècle\, Bouxwiller participe à la Révolution industrielle grâce à un homme\, Charles Henri Schattenmann\, célèbre directeur de l’Administration des Mines. En compagnie de Laure LICKEL\, chargée de médiation\, replongez dans le passé industriel de la ville et découvrez le célèbre « Bleu de Bouxwiller ». \nAnimation gratuite\nDurée : 1h30\nPlaces limitées. Réservations obligatoires au 03 88 00 38 39 ou contact@museedupaysdehanau.eu\nSite internet : www.museedupaysdehanau.eu\nLieu de rendez-vous : Musée du Pays de Hanau\, 3 place du Château\, 67330 Bouxwiller
URL:https://www.museedupaysdehanau.eu/event/visite-guidee-de-la-ville-bouxwiller-au-temps-des-mines-2/
ATTACH;FMTTYPE=image/jpeg:https://www.museedupaysdehanau.eu/wp-content/uploads/2016/03/mines10-e1653491308880.jpg
END:VEVENT
END:VCALENDAR