BEGIN:VCALENDAR
VERSION:2.0
PRODID:-//Bienvenue sur le site du Musée du Pays de Hanau - ECPv6.15.20//NONSGML v1.0//EN
CALSCALE:GREGORIAN
METHOD:PUBLISH
X-ORIGINAL-URL:https://www.museedupaysdehanau.eu
X-WR-CALDESC:Évènements pour Bienvenue sur le site du Musée du Pays de Hanau
REFRESH-INTERVAL;VALUE=DURATION:PT1H
X-Robots-Tag:noindex
X-PUBLISHED-TTL:PT1H
BEGIN:VTIMEZONE
TZID:Europe/Paris
BEGIN:DAYLIGHT
TZOFFSETFROM:+0100
TZOFFSETTO:+0200
TZNAME:CEST
DTSTART:20210328T010000
END:DAYLIGHT
BEGIN:STANDARD
TZOFFSETFROM:+0200
TZOFFSETTO:+0100
TZNAME:CET
DTSTART:20211031T010000
END:STANDARD
BEGIN:DAYLIGHT
TZOFFSETFROM:+0100
TZOFFSETTO:+0200
TZNAME:CEST
DTSTART:20220327T010000
END:DAYLIGHT
BEGIN:STANDARD
TZOFFSETFROM:+0200
TZOFFSETTO:+0100
TZNAME:CET
DTSTART:20221030T010000
END:STANDARD
BEGIN:DAYLIGHT
TZOFFSETFROM:+0100
TZOFFSETTO:+0200
TZNAME:CEST
DTSTART:20230326T010000
END:DAYLIGHT
BEGIN:STANDARD
TZOFFSETFROM:+0200
TZOFFSETTO:+0100
TZNAME:CET
DTSTART:20231029T010000
END:STANDARD
END:VTIMEZONE
BEGIN:VEVENT
DTSTART;TZID=Europe/Paris:20220825T160000
DTEND;TZID=Europe/Paris:20220825T160000
DTSTAMP:20260426T050211
CREATED:20220525T151103Z
LAST-MODIFIED:20220525T151135Z
UID:5742-1661443200-1661443200@www.museedupaysdehanau.eu
SUMMARY:Visite guidée insolite de la ville de Bouxwiller\, entre mythe et réalité
DESCRIPTION:En compagnie de Laure LICKEL\, chargée de médiation\, découvrez la cité mystérieuse de Bouxwiller\, entre légendes et réalité. Laissez-vous emporter par le tourbillon du Temps qui vous propulsera dans le passé\, où croyances\, sorcellerie et symbolisme se côtoyaient quotidiennement. Peut-être\, serez-vous surpris au détour d’une rue par une créature sortie d’un monde merveilleux\, où sorcières\, animaux fantastiques et personnages curieux se coudoient. Seules les âmes pures et sensibles pourront prétendre à ces rencontres extraordinaires et cela uniquement à Minuit ! \nCependant\, ne soyez pas déçu(e)s\, d’autres mystères seront dévoilés qui eux vous mèneront sur des sentiers semés d’énigmes… \nMais chut\, ne dévoilons pas tout\, le mystère doit rester entier ! \n  \nAnimation gratuite \nDurée : 2h \nPlaces limitées. Réservations obligatoires au 03 88 00 38 39 ou contact@museedupaysdehanau.eu \nLieu de départ : Musée du Pays de Hanau – 3 place du Château 67330 Bouxwiller
URL:https://www.museedupaysdehanau.eu/event/visite-guidee-insolite-de-la-ville-de-bouxwiller-entre-mythe-et-realite-4/
ATTACH;FMTTYPE=image/jpeg:https://www.museedupaysdehanau.eu/wp-content/uploads/2022/05/VG_20-juillet-scaled-e1653488198112.jpg
END:VEVENT
END:VCALENDAR