BEGIN:VCALENDAR
VERSION:2.0
PRODID:-//Bienvenue sur le site du Musée du Pays de Hanau - ECPv6.15.20//NONSGML v1.0//EN
CALSCALE:GREGORIAN
METHOD:PUBLISH
X-ORIGINAL-URL:https://www.museedupaysdehanau.eu
X-WR-CALDESC:Évènements pour Bienvenue sur le site du Musée du Pays de Hanau
REFRESH-INTERVAL;VALUE=DURATION:PT1H
X-Robots-Tag:noindex
X-PUBLISHED-TTL:PT1H
BEGIN:VTIMEZONE
TZID:Europe/Paris
BEGIN:DAYLIGHT
TZOFFSETFROM:+0100
TZOFFSETTO:+0200
TZNAME:CEST
DTSTART:20210328T010000
END:DAYLIGHT
BEGIN:STANDARD
TZOFFSETFROM:+0200
TZOFFSETTO:+0100
TZNAME:CET
DTSTART:20211031T010000
END:STANDARD
BEGIN:DAYLIGHT
TZOFFSETFROM:+0100
TZOFFSETTO:+0200
TZNAME:CEST
DTSTART:20220327T010000
END:DAYLIGHT
BEGIN:STANDARD
TZOFFSETFROM:+0200
TZOFFSETTO:+0100
TZNAME:CET
DTSTART:20221030T010000
END:STANDARD
BEGIN:DAYLIGHT
TZOFFSETFROM:+0100
TZOFFSETTO:+0200
TZNAME:CEST
DTSTART:20230326T010000
END:DAYLIGHT
BEGIN:STANDARD
TZOFFSETFROM:+0200
TZOFFSETTO:+0100
TZNAME:CET
DTSTART:20231029T010000
END:STANDARD
END:VTIMEZONE
BEGIN:VEVENT
DTSTART;TZID=Europe/Paris:20220828T100000
DTEND;TZID=Europe/Paris:20220828T100000
DTSTAMP:20260426T050118
CREATED:20220616T075806Z
LAST-MODIFIED:20220622T143424Z
UID:5757-1661680800-1661680800@www.museedupaysdehanau.eu
SUMMARY:Animation familiale à Schillersdorf : Une ferme traditionnelle du Pays de Hanau
DESCRIPTION:Le Musée du Pays de Hanau s’exporte pour une animation au cœur d’un village du Pays de Hanau\, chargé d’histoire. Grâce à Mélanie Le Hir\, chargée de pédagogie au musée\, les fermes traditionnelles du territoire n’auront plus de secret pour vous. \nCette visite sera l’occasion d’inaugurer une maquette de fermes\, réalisée grâce au soutien de la Région Grand Est et à celui de l’Union européenne\, dans le cadre du programme européen LEADER (FEADER\, fonds européens pour l’aménagement et le développement rural). \n  \nAnimation gratuite à partir de 7 ans\nDurée : 2h – La visite sera suivie d’un pot.\nPlaces limitées. Réservations obligatoires au 03 88 00 38 39 ou contact@museedupaysdehanau.eu\nDépart : à Schillersdorf\, lieu précis communiqué à l’inscription
URL:https://www.museedupaysdehanau.eu/event/animation-a-schillersdorf-une-ferme-traditionnelle-du-pays-de-hanau/
ATTACH;FMTTYPE=image/jpeg:https://www.museedupaysdehanau.eu/wp-content/uploads/2022/06/DSC_2798_1-scaled-e1655366180556.jpg
END:VEVENT
END:VCALENDAR