BEGIN:VCALENDAR
VERSION:2.0
PRODID:-//Bienvenue sur le site du Musée du Pays de Hanau - ECPv6.15.20//NONSGML v1.0//EN
CALSCALE:GREGORIAN
METHOD:PUBLISH
X-ORIGINAL-URL:https://www.museedupaysdehanau.eu
X-WR-CALDESC:Évènements pour Bienvenue sur le site du Musée du Pays de Hanau
REFRESH-INTERVAL;VALUE=DURATION:PT1H
X-Robots-Tag:noindex
X-PUBLISHED-TTL:PT1H
BEGIN:VTIMEZONE
TZID:Europe/Paris
BEGIN:DAYLIGHT
TZOFFSETFROM:+0100
TZOFFSETTO:+0200
TZNAME:CEST
DTSTART:20210328T010000
END:DAYLIGHT
BEGIN:STANDARD
TZOFFSETFROM:+0200
TZOFFSETTO:+0100
TZNAME:CET
DTSTART:20211031T010000
END:STANDARD
BEGIN:DAYLIGHT
TZOFFSETFROM:+0100
TZOFFSETTO:+0200
TZNAME:CEST
DTSTART:20220327T010000
END:DAYLIGHT
BEGIN:STANDARD
TZOFFSETFROM:+0200
TZOFFSETTO:+0100
TZNAME:CET
DTSTART:20221030T010000
END:STANDARD
BEGIN:DAYLIGHT
TZOFFSETFROM:+0100
TZOFFSETTO:+0200
TZNAME:CEST
DTSTART:20230326T010000
END:DAYLIGHT
BEGIN:STANDARD
TZOFFSETFROM:+0200
TZOFFSETTO:+0100
TZNAME:CET
DTSTART:20231029T010000
END:STANDARD
END:VTIMEZONE
BEGIN:VEVENT
DTSTART;TZID=Europe/Paris:20221002T150000
DTEND;TZID=Europe/Paris:20221002T150000
DTSTAMP:20260426T014003
CREATED:20220902T101022Z
LAST-MODIFIED:20220902T101832Z
UID:5997-1664722800-1664722800@www.museedupaysdehanau.eu
SUMMARY:Conférence « Revisiter les costumes traditionnels »
DESCRIPTION:Conférence « Revisiter les costumes traditionnels »\nPar Rita Tataï \nDepuis six ans\, Rita TATAÏ\, à travers la marque Geht’s In\, propose de revisiter le costume alsacien. D’autres propositions se côtoient\, tandis que\, de l’autre côté du Rhin\, le Dirndl et la Lederhose originaires de Bavière\, connaissent un essor exponentiel grâce aux fêtes de la bière. À la fois produits bon marché et pièces uniques de créateur ou d’artisan\, ils explorent toutes les fantaisies en s’éloignant des codes des costumes traditionnels. \nComment trouver une identité alsacienne sans se noyer dans les propositions d’Outre-Rhin ? Quelle est la place d’une démarche de revisite du costume alsacien ? La costumière et couturière\, Rita Tataï\, nous dévoile l’histoire singulière de Geht’s In\, l’histoire d’une passion… \nDans le cadre de l’exposition « Inspiration Alsace »\, visible jusqu’au 23 octobre 2022. \nDurée : 1h\nTarif : Gratuit\nPlaces limitées. Réservations au 03 88 00 38 39 ou contact@museedupaysdehanau.eu\nLieu : Musée du Pays de Hanau\, 3 place du Château\, 67330 Bouxwiller \nCrédit photographique : Faon Photography
URL:https://www.museedupaysdehanau.eu/event/conference-revisiter-les-costumes-traditionnels-par-rita-tatai/
ATTACH;FMTTYPE=image/jpeg:https://www.museedupaysdehanau.eu/wp-content/uploads/2022/09/Conference-Rita-TATAI-02102022-credit-photo-FAON-PHOTOGRAPHY-scaled-e1662113151253.jpg
END:VEVENT
END:VCALENDAR