BEGIN:VCALENDAR
VERSION:2.0
PRODID:-//Bienvenue sur le site du Musée du Pays de Hanau - ECPv6.15.20//NONSGML v1.0//EN
CALSCALE:GREGORIAN
METHOD:PUBLISH
X-WR-CALNAME:Bienvenue sur le site du Musée du Pays de Hanau
X-ORIGINAL-URL:https://www.museedupaysdehanau.eu
X-WR-CALDESC:Évènements pour Bienvenue sur le site du Musée du Pays de Hanau
REFRESH-INTERVAL;VALUE=DURATION:PT1H
X-Robots-Tag:noindex
X-PUBLISHED-TTL:PT1H
BEGIN:VTIMEZONE
TZID:Europe/Paris
BEGIN:DAYLIGHT
TZOFFSETFROM:+0100
TZOFFSETTO:+0200
TZNAME:CEST
DTSTART:20210328T010000
END:DAYLIGHT
BEGIN:STANDARD
TZOFFSETFROM:+0200
TZOFFSETTO:+0100
TZNAME:CET
DTSTART:20211031T010000
END:STANDARD
BEGIN:DAYLIGHT
TZOFFSETFROM:+0100
TZOFFSETTO:+0200
TZNAME:CEST
DTSTART:20220327T010000
END:DAYLIGHT
BEGIN:STANDARD
TZOFFSETFROM:+0200
TZOFFSETTO:+0100
TZNAME:CET
DTSTART:20221030T010000
END:STANDARD
BEGIN:DAYLIGHT
TZOFFSETFROM:+0100
TZOFFSETTO:+0200
TZNAME:CEST
DTSTART:20230326T010000
END:DAYLIGHT
BEGIN:STANDARD
TZOFFSETFROM:+0200
TZOFFSETTO:+0100
TZNAME:CET
DTSTART:20231029T010000
END:STANDARD
END:VTIMEZONE
BEGIN:VEVENT
DTSTART;TZID=Europe/Paris:20221009T143000
DTEND;TZID=Europe/Paris:20221009T143000
DTSTAMP:20260426T013746
CREATED:20220902T101600Z
LAST-MODIFIED:20220902T101600Z
UID:6002-1665325800-1665325800@www.museedupaysdehanau.eu
SUMMARY:Atelier pour les 7-14 ans : « La couture\, c’est pas si dur ! »
DESCRIPTION:La costumière et couturière\, Rita Tataï\, invite les enfants à moderniser le point de croix ! Après une petite visite de l’exposition « Inspiration Alsace »\, dans laquelle ils pourront observer les chemises et anciennes broderies\, ils s’initieront à la technique du point de croix. Ils apprendront ainsi à personnaliser et customiser une pièce de vêtement en y apposant leurs initiales ou un motif simple de leur choix !\nDans le cadre de l’exposition « Inspiration Alsace »\, visible jusqu’au 23 octobre 2022. \nDurée : 2h30\nTarif : 5 euros\nPlaces limitées. Réservations au 03 88 00 38 39 ou contact@museedupaysdehanau.eu\nLieu : Musée du Pays de Hanau\, 3 place du Château\, 67330 Bouxwiller
URL:https://www.museedupaysdehanau.eu/event/atelier-pour-les-7-14-ans-la-couture-cest-pas-si-dur/
ATTACH;FMTTYPE=image/jpeg:https://www.museedupaysdehanau.eu/wp-content/uploads/2022/09/Atelier-enfants-9-octobre-2022_photo-Melanie-Le-Hir-scaled-e1662113520809.jpg
END:VEVENT
END:VCALENDAR