BEGIN:VCALENDAR
VERSION:2.0
PRODID:-//Bienvenue sur le site du Musée du Pays de Hanau - ECPv6.15.20//NONSGML v1.0//EN
CALSCALE:GREGORIAN
METHOD:PUBLISH
X-ORIGINAL-URL:https://www.museedupaysdehanau.eu
X-WR-CALDESC:Évènements pour Bienvenue sur le site du Musée du Pays de Hanau
REFRESH-INTERVAL;VALUE=DURATION:PT1H
X-Robots-Tag:noindex
X-PUBLISHED-TTL:PT1H
BEGIN:VTIMEZONE
TZID:Europe/Paris
BEGIN:DAYLIGHT
TZOFFSETFROM:+0100
TZOFFSETTO:+0200
TZNAME:CEST
DTSTART:20210328T010000
END:DAYLIGHT
BEGIN:STANDARD
TZOFFSETFROM:+0200
TZOFFSETTO:+0100
TZNAME:CET
DTSTART:20211031T010000
END:STANDARD
BEGIN:DAYLIGHT
TZOFFSETFROM:+0100
TZOFFSETTO:+0200
TZNAME:CEST
DTSTART:20220327T010000
END:DAYLIGHT
BEGIN:STANDARD
TZOFFSETFROM:+0200
TZOFFSETTO:+0100
TZNAME:CET
DTSTART:20221030T010000
END:STANDARD
BEGIN:DAYLIGHT
TZOFFSETFROM:+0100
TZOFFSETTO:+0200
TZNAME:CEST
DTSTART:20230326T010000
END:DAYLIGHT
BEGIN:STANDARD
TZOFFSETFROM:+0200
TZOFFSETTO:+0100
TZNAME:CET
DTSTART:20231029T010000
END:STANDARD
END:VTIMEZONE
BEGIN:VEVENT
DTSTART;TZID=Europe/Paris:20221015T140000
DTEND;TZID=Europe/Paris:20221015T140000
DTSTAMP:20260426T013914
CREATED:20220724T142709Z
LAST-MODIFIED:20220724T143047Z
UID:5870-1665842400-1665842400@www.museedupaysdehanau.eu
SUMMARY:Journée de collecte du film amateur
DESCRIPTION:Vous avez tourné chez vous ou en voyage\, au travail ou pendant vos loisirs : ces images privées font partie de notre patrimoine. Elles sont le témoignage d’une époque et constituent des sources historiques précieuses. Confiez-les à MIRA\, Cinémathèque régionale numérique. Elles seront inventoriées\, numérisées et valorisées. \nNous vous donnons rendez-vous samedi 15 octobre 2022\, au Musée du Pays de Hanau\, pour rencontrer Mira et déposer vos films sur pellicule (format 9\,5 mm\, 16 mm\, 17\,5 mm\, 8 mm\, Super 8 mm).
URL:https://www.museedupaysdehanau.eu/event/journee-de-collecte-du-film-amateur/
ATTACH;FMTTYPE=image/jpeg:https://www.museedupaysdehanau.eu/wp-content/uploads/2022/07/UTF-86D6972615F6A6F75726E65CC816520636F6C-1-e1658673043958.jpg
END:VEVENT
END:VCALENDAR