BEGIN:VCALENDAR
VERSION:2.0
PRODID:-//Bienvenue sur le site du Musée du Pays de Hanau - ECPv6.15.20//NONSGML v1.0//EN
CALSCALE:GREGORIAN
METHOD:PUBLISH
X-WR-CALNAME:Bienvenue sur le site du Musée du Pays de Hanau
X-ORIGINAL-URL:https://www.museedupaysdehanau.eu
X-WR-CALDESC:Évènements pour Bienvenue sur le site du Musée du Pays de Hanau
REFRESH-INTERVAL;VALUE=DURATION:PT1H
X-Robots-Tag:noindex
X-PUBLISHED-TTL:PT1H
BEGIN:VTIMEZONE
TZID:Europe/Paris
BEGIN:DAYLIGHT
TZOFFSETFROM:+0100
TZOFFSETTO:+0200
TZNAME:CEST
DTSTART:20220327T010000
END:DAYLIGHT
BEGIN:STANDARD
TZOFFSETFROM:+0200
TZOFFSETTO:+0100
TZNAME:CET
DTSTART:20221030T010000
END:STANDARD
BEGIN:DAYLIGHT
TZOFFSETFROM:+0100
TZOFFSETTO:+0200
TZNAME:CEST
DTSTART:20230326T010000
END:DAYLIGHT
BEGIN:STANDARD
TZOFFSETFROM:+0200
TZOFFSETTO:+0100
TZNAME:CET
DTSTART:20231029T010000
END:STANDARD
BEGIN:DAYLIGHT
TZOFFSETFROM:+0100
TZOFFSETTO:+0200
TZNAME:CEST
DTSTART:20240331T010000
END:DAYLIGHT
BEGIN:STANDARD
TZOFFSETFROM:+0200
TZOFFSETTO:+0100
TZNAME:CET
DTSTART:20241027T010000
END:STANDARD
END:VTIMEZONE
BEGIN:VEVENT
DTSTART;TZID=Europe/Paris:20230401T110000
DTEND;TZID=Europe/Paris:20230401T180000
DTSTAMP:20260425T161754
CREATED:20230215T164034Z
LAST-MODIFIED:20230226T150603Z
UID:6240-1680346800-1680372000@www.museedupaysdehanau.eu
SUMMARY:Marché des artisans d’art à Bouxwiller
DESCRIPTION:Samedi 1er et dimanche 2 avril\nSamedi et dimanche : de 11h à 18h\nDans le cadre des Journées Européennes des Métiers d’Art\, le Musée du Pays de Hanau invite des artisans d’art pour un week-end de démonstrations et de découvertes. Au sein de la boutique du Musée et sur son parvis\, vous attendent : sabotier\, artisans verrier\, ébéniste\, tapissière\, teinturier et métallier. \nLe samedi\, un fabricant de papier sera présent et une vannière se joindra également au marché\, le dimanche. \nEn plus de découvrir leurs produits\, vous pourrez échanger avec des amoureux de leur métier et assister à des démonstrations de savoir-faire passionnants. \nTout au long du week-end\, le Groupe folklorique du Pays de Hanau de Bouxwiller proposera des démonstrations de savoir-faire et mettra à l’honneur les traditions locales. Des bénévoles vous feront découvrir la broderie de châles et la confection des chapeaux de paille.\nDes membres vous feront également des démonstrations de nouage de coiffe\, le samedi\, à 15h\, 16h et 17h.\nRemontez le temps et partagez un moment convivial avec eux ! \nSamedi 1er avril à 15h :\nAtelier tout public : Fabrique ton papier !\navec Timothé Golla\, Papiers Storich\nLors de cet atelier\, vous découvrirez comment fabriquer de la pulpe à partir de papiers et de cartons à recycler vous-même. À partir de cette pulpe\, vous pourrez tirer vos propres feuilles\, avant de pouvoir vous amuser à mélanger couleurs et matériaux à incruster pour pouvoir repartir avec vos propres feuilles à la fin de l’atelier ! \nDurée : 2h30\nAnimation gratuite\nSur réservation\nRdv au Musée du Pays de Hanau
URL:https://www.museedupaysdehanau.eu/event/marche-des-artisans-dart-a-bouxwiller-5/
ATTACH;FMTTYPE=image/jpeg:https://www.museedupaysdehanau.eu/wp-content/uploads/2023/02/marche-des-artisans-dart-1et-2-avril-scaled-e1677423954733.jpg
END:VEVENT
END:VCALENDAR