BEGIN:VCALENDAR
VERSION:2.0
PRODID:-//Bienvenue sur le site du Musée du Pays de Hanau - ECPv6.15.20//NONSGML v1.0//EN
CALSCALE:GREGORIAN
METHOD:PUBLISH
X-WR-CALNAME:Bienvenue sur le site du Musée du Pays de Hanau
X-ORIGINAL-URL:https://www.museedupaysdehanau.eu
X-WR-CALDESC:Évènements pour Bienvenue sur le site du Musée du Pays de Hanau
REFRESH-INTERVAL;VALUE=DURATION:PT1H
X-Robots-Tag:noindex
X-PUBLISHED-TTL:PT1H
BEGIN:VTIMEZONE
TZID:Europe/Paris
BEGIN:DAYLIGHT
TZOFFSETFROM:+0100
TZOFFSETTO:+0200
TZNAME:CEST
DTSTART:20220327T010000
END:DAYLIGHT
BEGIN:STANDARD
TZOFFSETFROM:+0200
TZOFFSETTO:+0100
TZNAME:CET
DTSTART:20221030T010000
END:STANDARD
BEGIN:DAYLIGHT
TZOFFSETFROM:+0100
TZOFFSETTO:+0200
TZNAME:CEST
DTSTART:20230326T010000
END:DAYLIGHT
BEGIN:STANDARD
TZOFFSETFROM:+0200
TZOFFSETTO:+0100
TZNAME:CET
DTSTART:20231029T010000
END:STANDARD
BEGIN:DAYLIGHT
TZOFFSETFROM:+0100
TZOFFSETTO:+0200
TZNAME:CEST
DTSTART:20240331T010000
END:DAYLIGHT
BEGIN:STANDARD
TZOFFSETFROM:+0200
TZOFFSETTO:+0100
TZNAME:CET
DTSTART:20241027T010000
END:STANDARD
END:VTIMEZONE
BEGIN:VEVENT
DTSTART;TZID=Europe/Paris:20230423T150000
DTEND;TZID=Europe/Paris:20230423T150000
DTSTAMP:20260425T162516
CREATED:20230222T141830Z
LAST-MODIFIED:20230222T141905Z
UID:6243-1682262000-1682262000@www.museedupaysdehanau.eu
SUMMARY:Conférence « Le château de Bouxwiller au Moyen Âge»
DESCRIPTION:Jean-Michel Rudrauf\, spécialiste des châteaux d’Alsace vous emmène à la découverte de l’histoire du château de Bouxwiller.  \n« Au début du 13ème siècle apparaît\, sur l’échiquier politique alsacien\, une lignée noble qui prend le nom du château qu’elle vient de construire\, celle de Lichtenberg. Très rapidement\, profitant de leur fonction d’avoué de l’abbaye de Neuwiller mais aussi des relations qu’ils vont établir avec les évêques de Strasbourg\, les Lichtenberg se constituent un domaine qui va leur permettre de devenir la principale puissance seigneuriale du nord de l’Alsace. Cette expansion va les amener à édifier un nouveau château ayant une situation plus centrale dans leurs possessions\, celui de Bouxwiller\, localité pour laquelle ils obtiennent\, du roi Rodolphe de Habsbourg\, le droit de ville et qu’ils vont entourer de remparts reliés au château. » \n 
URL:https://www.museedupaysdehanau.eu/event/conference-le-chateau-de-bouxwiller-au-moyen-age/
LOCATION:Musée du Pays de Hanau\, 3 place du Château \, Bouxwiller\, 67330
ATTACH;FMTTYPE=image/jpeg:https://www.museedupaysdehanau.eu/wp-content/uploads/2023/02/conference-rudrauf-23-avril_credit-musee-du-Pays-de-Hanau-scaled-e1677075541832.jpg
END:VEVENT
BEGIN:VEVENT
DTSTART;TZID=Europe/Paris:20230423T163000
DTEND;TZID=Europe/Paris:20230423T180000
DTSTAMP:20260425T162516
CREATED:20230215T161935Z
LAST-MODIFIED:20230215T161935Z
UID:6227-1682267400-1682272800@www.museedupaysdehanau.eu
SUMMARY:Rallye photo dans Bouxwiller Jeu de piste « Dans l’objectif de Willy ! »
DESCRIPTION:Découvrez Bouxwiller à travers l’objectif de Willy Clauss\, photographe de la seconde moitié du 20e siècle. En famille\, entre amis ou en solo\, soyez le ou les premiers à reproduire ses cadrages\, en retrouvant les lieux pris en photo.\nPour participer\, munissez-vous de votre appareil photo ou de votre téléphone portable.\nDes bons d’achat pour la librairie Bouq’s seront offerts aux trois premiers arrivés et des surprises chocolatées récompenseront les 10 suivants. \nDépart du musée à 16h\nAdultes et enfants à partir de 8 ans\nRenseignements au 03 88 00 38 39 ou contact@museedupaysdehanau.eu
URL:https://www.museedupaysdehanau.eu/event/rallye-photo-dans-bouxwiller-jeu-de-piste-dans-lobjectif-de-willy/
ATTACH;FMTTYPE=image/jpeg:https://www.museedupaysdehanau.eu/wp-content/uploads/2023/02/23-avril-Rallye-photo-©-Melanie-Le-Hir-scaled.jpg
END:VEVENT
END:VCALENDAR