BEGIN:VCALENDAR
VERSION:2.0
PRODID:-//Bienvenue sur le site du Musée du Pays de Hanau - ECPv6.15.20//NONSGML v1.0//EN
CALSCALE:GREGORIAN
METHOD:PUBLISH
X-WR-CALNAME:Bienvenue sur le site du Musée du Pays de Hanau
X-ORIGINAL-URL:https://www.museedupaysdehanau.eu
X-WR-CALDESC:Évènements pour Bienvenue sur le site du Musée du Pays de Hanau
REFRESH-INTERVAL;VALUE=DURATION:PT1H
X-Robots-Tag:noindex
X-PUBLISHED-TTL:PT1H
BEGIN:VTIMEZONE
TZID:Europe/Paris
BEGIN:DAYLIGHT
TZOFFSETFROM:+0100
TZOFFSETTO:+0200
TZNAME:CEST
DTSTART:20220327T010000
END:DAYLIGHT
BEGIN:STANDARD
TZOFFSETFROM:+0200
TZOFFSETTO:+0100
TZNAME:CET
DTSTART:20221030T010000
END:STANDARD
BEGIN:DAYLIGHT
TZOFFSETFROM:+0100
TZOFFSETTO:+0200
TZNAME:CEST
DTSTART:20230326T010000
END:DAYLIGHT
BEGIN:STANDARD
TZOFFSETFROM:+0200
TZOFFSETTO:+0100
TZNAME:CET
DTSTART:20231029T010000
END:STANDARD
BEGIN:DAYLIGHT
TZOFFSETFROM:+0100
TZOFFSETTO:+0200
TZNAME:CEST
DTSTART:20240331T010000
END:DAYLIGHT
BEGIN:STANDARD
TZOFFSETFROM:+0200
TZOFFSETTO:+0100
TZNAME:CET
DTSTART:20241027T010000
END:STANDARD
END:VTIMEZONE
BEGIN:VEVENT
DTSTART;TZID=Europe/Paris:20230427T143000
DTEND;TZID=Europe/Paris:20230427T170000
DTSTAMP:20260425T162516
CREATED:20230215T162313Z
LAST-MODIFIED:20230215T163713Z
UID:6233-1682605800-1682614800@www.museedupaysdehanau.eu
SUMMARY:Atelier moulage pour les 8-12 ans : Voyage vers le Jurassique 
DESCRIPTION:Accompagnés des médiatrices du Musée\, les enfants remonteront le temps jusqu’au Jurassique pour découvrir la collection de fossiles présentée au Musée.\nIls réaliseront ensuite de jolis moulages de coquillages rappelant le passé de l’Alsace\, autrefois recouverte par la mer. Cette activité leur permettra de mieux comprendre un processus de fossilisation. \nTarif : 5€ (comprend l’entrée du Musée) + goûter offert \nDurée : 2h30 \nPlaces limitées. Réservation obligatoire au 03 88 00 38 39 ou contact@museedupaysdehanau.eu \nLieu : Musée du Pays de Hanau – 3 place du Château 67330 Bouxwiller
URL:https://www.museedupaysdehanau.eu/event/atelier-moulage-pour-les-8-12-ans-voyage-vers-le-jurassique-2/
ATTACH;FMTTYPE=image/jpeg:https://www.museedupaysdehanau.eu/wp-content/uploads/2023/02/27-avril_photo-Musee-du-Pays-de-Hanau-scaled.jpg
END:VEVENT
END:VCALENDAR