BEGIN:VCALENDAR
VERSION:2.0
PRODID:-//Bienvenue sur le site du Musée du Pays de Hanau - ECPv6.15.20//NONSGML v1.0//EN
CALSCALE:GREGORIAN
METHOD:PUBLISH
X-WR-CALNAME:Bienvenue sur le site du Musée du Pays de Hanau
X-ORIGINAL-URL:https://www.museedupaysdehanau.eu
X-WR-CALDESC:Évènements pour Bienvenue sur le site du Musée du Pays de Hanau
REFRESH-INTERVAL;VALUE=DURATION:PT1H
X-Robots-Tag:noindex
X-PUBLISHED-TTL:PT1H
BEGIN:VTIMEZONE
TZID:Europe/Paris
BEGIN:DAYLIGHT
TZOFFSETFROM:+0100
TZOFFSETTO:+0200
TZNAME:CEST
DTSTART:20220327T010000
END:DAYLIGHT
BEGIN:STANDARD
TZOFFSETFROM:+0200
TZOFFSETTO:+0100
TZNAME:CET
DTSTART:20221030T010000
END:STANDARD
BEGIN:DAYLIGHT
TZOFFSETFROM:+0100
TZOFFSETTO:+0200
TZNAME:CEST
DTSTART:20230326T010000
END:DAYLIGHT
BEGIN:STANDARD
TZOFFSETFROM:+0200
TZOFFSETTO:+0100
TZNAME:CET
DTSTART:20231029T010000
END:STANDARD
BEGIN:DAYLIGHT
TZOFFSETFROM:+0100
TZOFFSETTO:+0200
TZNAME:CEST
DTSTART:20240331T010000
END:DAYLIGHT
BEGIN:STANDARD
TZOFFSETFROM:+0200
TZOFFSETTO:+0100
TZNAME:CET
DTSTART:20241027T010000
END:STANDARD
END:VTIMEZONE
BEGIN:VEVENT
DTSTART;TZID=Europe/Paris:20230514T140000
DTEND;TZID=Europe/Paris:20230514T140000
DTSTAMP:20260425T144941
CREATED:20230301T142914Z
LAST-MODIFIED:20230301T142914Z
UID:6277-1684072800-1684072800@www.museedupaysdehanau.eu
SUMMARY:Rencontre avec l’artiste photographe et chanteuse Sarah Eddy
DESCRIPTION:Venez à la rencontre de cette artiste aux multiples talents pour découvrir son travail\, lui poser vos questions et pourquoi pas vous faire dédicacer une œuvre ou un disque.\nDans le cadre de l’exposition Songes : paysages éphémères du Bastberg\, visible au musée jusqu’au 11 juin. Entrée libre. \nDans le cadre du marché de printemps : exceptionnellement\, le Musée sera ouvert aux mêmes horaires que le Marché de Printemps\, de 11h à 19h et proposera l’entrée à tarif réduit pour tous.
URL:https://www.museedupaysdehanau.eu/event/rencontre-avec-lartiste-photographe-et-chanteuse-sarah-eddy/
ATTACH;FMTTYPE=image/jpeg:https://www.museedupaysdehanau.eu/wp-content/uploads/2023/03/14-mai-rencontre-Sarah-Eddy-photo-Catherine-Theulin-scaled-e1677680947838.jpg
END:VEVENT
BEGIN:VEVENT
DTSTART;TZID=Europe/Paris:20230514T143000
DTEND;TZID=Europe/Paris:20230514T143000
DTSTAMP:20260425T144941
CREATED:20230222T142319Z
LAST-MODIFIED:20230301T131305Z
UID:6247-1684074600-1684074600@www.museedupaysdehanau.eu
SUMMARY:Marché de Printemps\, animation "mon joli village"
DESCRIPTION:Entrée du Musée à tarif réduit :\nExceptionnellement\, le Musée sera ouvert aux mêmes horaires que le Marché de Printemps\, de 11h à 19h et proposera l’entrée à tarif réduit pour tous. \nInvités exceptionnels : Durant le marché de printemps\, le Musée accueille sur son parvis et dans sa boutique des artisans d’art qui partageront avec vous leur savoir-faire. \nAnimation en continu entre 14h30 et 18h\nAnimation « Mon joli village »\nÀ partir de 7 ans\nGrâce à une maquette d’une ferme traditionnelle du Pays de Hanau et à de nouveaux outils pédagogiques\, découvrez ou redécouvrez l’architecture de notre belle région.\nLes petits comme les grands pourront participer à la création d’un petit village en trois dimensions\, tout en papier !\nContribuez en créant votre propre ferme pour la placer dans le village. \nEnfant à partir de 7 ans\, obligatoirement accompagnés d’un adulte.\nAnimation en continu entre 14h30 et 17h\nAnimation gratuite\, sans réservation
URL:https://www.museedupaysdehanau.eu/event/marche-de-printemps-animation-mon-joli-village/
ATTACH;FMTTYPE=image/jpeg:https://www.museedupaysdehanau.eu/wp-content/uploads/2023/02/animation-mon-joli-village-14-mai-photo-Melanie-Le-Hir-scaled-e1677075796323.jpg
END:VEVENT
END:VCALENDAR