BEGIN:VCALENDAR
VERSION:2.0
PRODID:-//Bienvenue sur le site du Musée du Pays de Hanau - ECPv6.15.20//NONSGML v1.0//EN
CALSCALE:GREGORIAN
METHOD:PUBLISH
X-ORIGINAL-URL:https://www.museedupaysdehanau.eu
X-WR-CALDESC:Évènements pour Bienvenue sur le site du Musée du Pays de Hanau
REFRESH-INTERVAL;VALUE=DURATION:PT1H
X-Robots-Tag:noindex
X-PUBLISHED-TTL:PT1H
BEGIN:VTIMEZONE
TZID:Europe/Paris
BEGIN:DAYLIGHT
TZOFFSETFROM:+0100
TZOFFSETTO:+0200
TZNAME:CEST
DTSTART:20220327T010000
END:DAYLIGHT
BEGIN:STANDARD
TZOFFSETFROM:+0200
TZOFFSETTO:+0100
TZNAME:CET
DTSTART:20221030T010000
END:STANDARD
BEGIN:DAYLIGHT
TZOFFSETFROM:+0100
TZOFFSETTO:+0200
TZNAME:CEST
DTSTART:20230326T010000
END:DAYLIGHT
BEGIN:STANDARD
TZOFFSETFROM:+0200
TZOFFSETTO:+0100
TZNAME:CET
DTSTART:20231029T010000
END:STANDARD
BEGIN:DAYLIGHT
TZOFFSETFROM:+0100
TZOFFSETTO:+0200
TZNAME:CEST
DTSTART:20240331T010000
END:DAYLIGHT
BEGIN:STANDARD
TZOFFSETFROM:+0200
TZOFFSETTO:+0100
TZNAME:CET
DTSTART:20241027T010000
END:STANDARD
END:VTIMEZONE
BEGIN:VEVENT
DTSTART;TZID=Europe/Paris:20230604T150000
DTEND;TZID=Europe/Paris:20230604T163000
DTSTAMP:20260425T131059
CREATED:20230301T142043Z
LAST-MODIFIED:20230301T144329Z
UID:6278-1685890800-1685896200@www.museedupaysdehanau.eu
SUMMARY:Animation parents-enfants 5-8 ans : « Imagine ton petit Versailles » Dans le cadre des Rendez-vous aux jardins
DESCRIPTION:Accompagnés d’une médiatrice\, les enfants découvriront les beaux jardins à la française de Bouxwiller\, aujourd’hui disparus. \nGrâce à une vidéo et à une maquette\, ils observeront la régularité et la symétrie de ces magnifiques ensembles. \nPour mieux comprendre le principe de la symétrie\, les enfants se transformeront en statue et prendront la pose\, tels les dieux et les musiciens qui décoraient les abords du château. \nIls pourront ensuite inventer leur propre jardin à l’aide de peintures de toutes les couleurs. \nTarif : Animation gratuite\, goûter offert \nDurée : 1h30\nPlaces limitées. Réservation obligatoire au 03 88 00 38 39 ou contact@museedupaysdehanau.eu\nLieu : Musée du Pays de Hanau – 3 place du Château 67330 Bouxwiller
URL:https://www.museedupaysdehanau.eu/event/animation-parents-enfants-5-8-ans-imagine-ton-petit-versailles-dans-le-cadre-des-rendez-vous-aux-jardins/
ATTACH;FMTTYPE=image/jpeg:https://www.museedupaysdehanau.eu/wp-content/uploads/2023/03/Animation-4-juin-jardins-c-Musee-du-Pays-de-Hanau-.jpg
END:VEVENT
BEGIN:VEVENT
DTSTART;TZID=Europe/Paris:20230604T163000
DTEND;TZID=Europe/Paris:20230604T173000
DTSTAMP:20260425T131059
CREATED:20230301T144203Z
LAST-MODIFIED:20230527T133425Z
UID:6281-1685896200-1685899800@www.museedupaysdehanau.eu
SUMMARY:Visite guidée de l’exposition Songes : paysages éphémères du Bastberg
DESCRIPTION:Par l’artiste Christine Riehl \nRencontrez l’artiste Christine Riehl et découvrez comment la colline du Bastberg a inspiré son travail de photographe. « Évocation plutôt que représentation fidèle\, choix de tonalités estompées\, contours flous\, immobilité mise en branle : le réel cède la place à l’interprétation\, à l’imagination\, voire au songe. » \n  \nTarif : Animation gratuite \nDurée : 1h\nPlaces limitées. Réservation obligatoire au 03 88 00 38 39 ou contact@museedupaysdehanau.eu\nLieu : Musée du Pays de Hanau – 3 place du Château 67330 Bouxwiller \nPhoto Christine Riehl
URL:https://www.museedupaysdehanau.eu/event/visite-guidee-de-lexposition-songes-paysages-ephemeres-du-bastberg/
ATTACH;FMTTYPE=image/jpeg:https://www.museedupaysdehanau.eu/wp-content/uploads/2023/03/VG-4-juin-Photo-Christine-Riehl-DSC_0609-scaled-e1685194460779.jpg
END:VEVENT
END:VCALENDAR