BEGIN:VCALENDAR
VERSION:2.0
PRODID:-//Bienvenue sur le site du Musée du Pays de Hanau - ECPv6.15.18//NONSGML v1.0//EN
CALSCALE:GREGORIAN
METHOD:PUBLISH
X-WR-CALNAME:Bienvenue sur le site du Musée du Pays de Hanau
X-ORIGINAL-URL:https://www.museedupaysdehanau.eu
X-WR-CALDESC:Évènements pour Bienvenue sur le site du Musée du Pays de Hanau
REFRESH-INTERVAL;VALUE=DURATION:PT1H
X-Robots-Tag:noindex
X-PUBLISHED-TTL:PT1H
BEGIN:VTIMEZONE
TZID:Europe/Paris
BEGIN:DAYLIGHT
TZOFFSETFROM:+0100
TZOFFSETTO:+0200
TZNAME:CEST
DTSTART:20220327T010000
END:DAYLIGHT
BEGIN:STANDARD
TZOFFSETFROM:+0200
TZOFFSETTO:+0100
TZNAME:CET
DTSTART:20221030T010000
END:STANDARD
BEGIN:DAYLIGHT
TZOFFSETFROM:+0100
TZOFFSETTO:+0200
TZNAME:CEST
DTSTART:20230326T010000
END:DAYLIGHT
BEGIN:STANDARD
TZOFFSETFROM:+0200
TZOFFSETTO:+0100
TZNAME:CET
DTSTART:20231029T010000
END:STANDARD
BEGIN:DAYLIGHT
TZOFFSETFROM:+0100
TZOFFSETTO:+0200
TZNAME:CEST
DTSTART:20240331T010000
END:DAYLIGHT
BEGIN:STANDARD
TZOFFSETFROM:+0200
TZOFFSETTO:+0100
TZNAME:CET
DTSTART:20241027T010000
END:STANDARD
END:VTIMEZONE
BEGIN:VEVENT
DTSTART;TZID=Europe/Paris:20231001T150000
DTEND;TZID=Europe/Paris:20231001T150000
DTSTAMP:20260423T084300
CREATED:20230824T083750Z
LAST-MODIFIED:20230825T135412Z
UID:6498-1696172400-1696172400@www.museedupaysdehanau.eu
SUMMARY:Visite sensorielle « Le musée dans tous les sens » À partir de 7 ans
DESCRIPTION:Redécouvrez le Musée du Pays de Hanau à travers une visite insolite qui fera appel à tous vos sens. Respirez les parfums des jardins princiers disparus. Savourez la légende de la Bretzel. Écoutez les mystérieuses histoires des sorcières du Bastberg et touchez les belles coiffes du Pays de Hanau. \nVisite proposée dans le cadre de l’événement d’octobre « Éveil des sens » : une découverte du patrimoine des Vosges du nord pour tous et adaptée à chacun ! \nDurée : 1h30\nAnimation gratuite\nPlaces limitées. Réservation obligatoire au 03 88 00 38 39 ou contact@museedupaysdehanau.eu \nLieu : Musée du Pays de Hanau – 3 place du Château 67330 Bouxwiller
URL:https://www.museedupaysdehanau.eu/event/visite-sensorielle-le-musee-dans-tous-les-sens-a-partir-de-7-ans/
ATTACH;FMTTYPE=image/jpeg:https://www.museedupaysdehanau.eu/wp-content/uploads/2023/08/Visite-sensorielle-1-octobre-Photo-Melanie-Le-Hir-scaled.jpg
END:VEVENT
END:VCALENDAR