BEGIN:VCALENDAR
VERSION:2.0
PRODID:-//Bienvenue sur le site du Musée du Pays de Hanau - ECPv6.15.18//NONSGML v1.0//EN
CALSCALE:GREGORIAN
METHOD:PUBLISH
X-WR-CALNAME:Bienvenue sur le site du Musée du Pays de Hanau
X-ORIGINAL-URL:https://www.museedupaysdehanau.eu
X-WR-CALDESC:Évènements pour Bienvenue sur le site du Musée du Pays de Hanau
REFRESH-INTERVAL;VALUE=DURATION:PT1H
X-Robots-Tag:noindex
X-PUBLISHED-TTL:PT1H
BEGIN:VTIMEZONE
TZID:Europe/Paris
BEGIN:DAYLIGHT
TZOFFSETFROM:+0100
TZOFFSETTO:+0200
TZNAME:CEST
DTSTART:20220327T010000
END:DAYLIGHT
BEGIN:STANDARD
TZOFFSETFROM:+0200
TZOFFSETTO:+0100
TZNAME:CET
DTSTART:20221030T010000
END:STANDARD
BEGIN:DAYLIGHT
TZOFFSETFROM:+0100
TZOFFSETTO:+0200
TZNAME:CEST
DTSTART:20230326T010000
END:DAYLIGHT
BEGIN:STANDARD
TZOFFSETFROM:+0200
TZOFFSETTO:+0100
TZNAME:CET
DTSTART:20231029T010000
END:STANDARD
BEGIN:DAYLIGHT
TZOFFSETFROM:+0100
TZOFFSETTO:+0200
TZNAME:CEST
DTSTART:20240331T010000
END:DAYLIGHT
BEGIN:STANDARD
TZOFFSETFROM:+0200
TZOFFSETTO:+0100
TZNAME:CET
DTSTART:20241027T010000
END:STANDARD
END:VTIMEZONE
BEGIN:VEVENT
DTSTART;TZID=Europe/Paris:20231027T143000
DTEND;TZID=Europe/Paris:20231027T143000
DTSTAMP:20260423T084307
CREATED:20231017T122853Z
LAST-MODIFIED:20231017T122853Z
UID:6558-1698417000-1698417000@www.museedupaysdehanau.eu
SUMMARY:Atelier pour les 7-12 ans : En chemin vers Halloween
DESCRIPTION:Durant cet atelier\, les enfants fabriqueront des lanternes et des décorations en bois à poser\, qui vous donneront des frissons ! Grâce à cette activité\, encadrée par les bénévoles de l’Association des Amis du Musée\, les enfants seront parés pour vivre de belles fêtes d’Halloween.\nIls découvriront également le musée autrement\, grâce aux sombres légendes qui leur seront dévoilées par notre guide Laure Lickel. \nTarif : 5€ (comprend l’entrée du Musée) + goûter offert\nDurée : 2h30\nPlaces limitées. Réservation obligatoire au 03 88 00 38 39 ou contact@museedupaysdehanau.eu\nAtelier proposé par les Amis du Musée du Pays de Hanau\nLieu : Musée du Pays de Hanau – 3 place du Château 67330 Bouxwiller
URL:https://www.museedupaysdehanau.eu/event/atelier-pour-les-7-12-ans-en-chemin-vers-halloween/
ATTACH;FMTTYPE=image/jpeg:https://www.museedupaysdehanau.eu/wp-content/uploads/2023/10/atelier-27-octobre-credits-Freepik-scaled-e1697545718342.jpg
END:VEVENT
END:VCALENDAR