BEGIN:VCALENDAR
VERSION:2.0
PRODID:-//Bienvenue sur le site du Musée du Pays de Hanau - ECPv6.15.18//NONSGML v1.0//EN
CALSCALE:GREGORIAN
METHOD:PUBLISH
X-ORIGINAL-URL:https://www.museedupaysdehanau.eu
X-WR-CALDESC:Évènements pour Bienvenue sur le site du Musée du Pays de Hanau
REFRESH-INTERVAL;VALUE=DURATION:PT1H
X-Robots-Tag:noindex
X-PUBLISHED-TTL:PT1H
BEGIN:VTIMEZONE
TZID:Europe/Paris
BEGIN:DAYLIGHT
TZOFFSETFROM:+0100
TZOFFSETTO:+0200
TZNAME:CEST
DTSTART:20220327T010000
END:DAYLIGHT
BEGIN:STANDARD
TZOFFSETFROM:+0200
TZOFFSETTO:+0100
TZNAME:CET
DTSTART:20221030T010000
END:STANDARD
BEGIN:DAYLIGHT
TZOFFSETFROM:+0100
TZOFFSETTO:+0200
TZNAME:CEST
DTSTART:20230326T010000
END:DAYLIGHT
BEGIN:STANDARD
TZOFFSETFROM:+0200
TZOFFSETTO:+0100
TZNAME:CET
DTSTART:20231029T010000
END:STANDARD
BEGIN:DAYLIGHT
TZOFFSETFROM:+0100
TZOFFSETTO:+0200
TZNAME:CEST
DTSTART:20240331T010000
END:DAYLIGHT
BEGIN:STANDARD
TZOFFSETFROM:+0200
TZOFFSETTO:+0100
TZNAME:CET
DTSTART:20241027T010000
END:STANDARD
END:VTIMEZONE
BEGIN:VEVENT
DTSTART;TZID=Europe/Paris:20231105T150000
DTEND;TZID=Europe/Paris:20231105T150000
DTSTAMP:20260423T071848
CREATED:20230923T145400Z
LAST-MODIFIED:20230923T145400Z
UID:6548-1699196400-1699196400@www.museedupaysdehanau.eu
SUMMARY:Immersion sensorielle au musée
DESCRIPTION:Visitez le Musée du Pays de Hanau avec tous vos sens en éveil\, en compagnie de la sophrologue Sabrina Quaeybeur et d’une médiatrice du musée. À travers plusieurs ateliers\, devenez acteurs de vos découvertes\, lors de cette visite insolite\, pour appréhender autrement l’histoire du territoire\, l’environnement naturel\, et les arts et traditions populaires. Explorez les capacités insoupçonnées de vos sens et prenez conscience de leur étendue.\nUne visite placée sous le signe de l’échange et de la convivialité ! \nAnimation pour adulte.\nDurée : 2h\nTarif : 5 euros\nPlaces limitées. Réservation obligatoire au 03 88 00 38 39 ou contact@museedupaysdehanau.eu\nLieu : Musée du Pays de Hanau – 3 place du Château 67330 Bouxwiller
URL:https://www.museedupaysdehanau.eu/event/immersion-sensorielle-au-musee/
ATTACH;FMTTYPE=image/jpeg:https://www.museedupaysdehanau.eu/wp-content/uploads/2023/09/visite-du-5-novembre-Photo-Melanie-Le-Hir-scaled-e1695480837332.jpg
END:VEVENT
END:VCALENDAR