BEGIN:VCALENDAR
VERSION:2.0
PRODID:-//Bienvenue sur le site du Musée du Pays de Hanau - ECPv6.15.18//NONSGML v1.0//EN
CALSCALE:GREGORIAN
METHOD:PUBLISH
X-WR-CALNAME:Bienvenue sur le site du Musée du Pays de Hanau
X-ORIGINAL-URL:https://www.museedupaysdehanau.eu
X-WR-CALDESC:Évènements pour Bienvenue sur le site du Musée du Pays de Hanau
REFRESH-INTERVAL;VALUE=DURATION:PT1H
X-Robots-Tag:noindex
X-PUBLISHED-TTL:PT1H
BEGIN:VTIMEZONE
TZID:Europe/Paris
BEGIN:DAYLIGHT
TZOFFSETFROM:+0100
TZOFFSETTO:+0200
TZNAME:CEST
DTSTART:20220327T010000
END:DAYLIGHT
BEGIN:STANDARD
TZOFFSETFROM:+0200
TZOFFSETTO:+0100
TZNAME:CET
DTSTART:20221030T010000
END:STANDARD
BEGIN:DAYLIGHT
TZOFFSETFROM:+0100
TZOFFSETTO:+0200
TZNAME:CEST
DTSTART:20230326T010000
END:DAYLIGHT
BEGIN:STANDARD
TZOFFSETFROM:+0200
TZOFFSETTO:+0100
TZNAME:CET
DTSTART:20231029T010000
END:STANDARD
BEGIN:DAYLIGHT
TZOFFSETFROM:+0100
TZOFFSETTO:+0200
TZNAME:CEST
DTSTART:20240331T010000
END:DAYLIGHT
BEGIN:STANDARD
TZOFFSETFROM:+0200
TZOFFSETTO:+0100
TZNAME:CET
DTSTART:20241027T010000
END:STANDARD
END:VTIMEZONE
BEGIN:VEVENT
DTSTART;TZID=Europe/Paris:20231126T150000
DTEND;TZID=Europe/Paris:20231126T150000
DTSTAMP:20260423T072111
CREATED:20231017T123335Z
LAST-MODIFIED:20231017T123335Z
UID:6561-1701010800-1701010800@www.museedupaysdehanau.eu
SUMMARY:Visite guidée de l’exposition « Un Noël enneigé au Pays de Hanau »
DESCRIPTION:Emmenés par Laure Lickel\, chargée de médiation au Musée du Pays de Hanau\, laissez-vous guider dans cette exposition consacrée au froid ! Vous découvrez comment on vivait lorsque la neige recouvrait le Pays de Hanau. \nAnimation proposée dans le cadre des festivités de Noël au Pays de Hanau.\nExposition visible jusqu’au 23 décembre\, aux heures d’ouverture du Musée \nDurée : 1h\nAnimation gratuite \n 
URL:https://www.museedupaysdehanau.eu/event/visite-guidee-de-lexposition-un-noel-enneige-au-pays-de-hanau/
ATTACH;FMTTYPE=image/jpeg:https://www.museedupaysdehanau.eu/wp-content/uploads/2023/10/11.26-VG-expo-copyright-Musee-du-Pays-de-Hanau-scaled-e1697546004449.jpg
END:VEVENT
END:VCALENDAR