BEGIN:VCALENDAR
VERSION:2.0
PRODID:-//Bienvenue sur le site du Musée du Pays de Hanau - ECPv6.15.18//NONSGML v1.0//EN
CALSCALE:GREGORIAN
METHOD:PUBLISH
X-ORIGINAL-URL:https://www.museedupaysdehanau.eu
X-WR-CALDESC:Évènements pour Bienvenue sur le site du Musée du Pays de Hanau
REFRESH-INTERVAL;VALUE=DURATION:PT1H
X-Robots-Tag:noindex
X-PUBLISHED-TTL:PT1H
BEGIN:VTIMEZONE
TZID:Europe/Paris
BEGIN:DAYLIGHT
TZOFFSETFROM:+0100
TZOFFSETTO:+0200
TZNAME:CEST
DTSTART:20220327T010000
END:DAYLIGHT
BEGIN:STANDARD
TZOFFSETFROM:+0200
TZOFFSETTO:+0100
TZNAME:CET
DTSTART:20221030T010000
END:STANDARD
BEGIN:DAYLIGHT
TZOFFSETFROM:+0100
TZOFFSETTO:+0200
TZNAME:CEST
DTSTART:20230326T010000
END:DAYLIGHT
BEGIN:STANDARD
TZOFFSETFROM:+0200
TZOFFSETTO:+0100
TZNAME:CET
DTSTART:20231029T010000
END:STANDARD
BEGIN:DAYLIGHT
TZOFFSETFROM:+0100
TZOFFSETTO:+0200
TZNAME:CEST
DTSTART:20240331T010000
END:DAYLIGHT
BEGIN:STANDARD
TZOFFSETFROM:+0200
TZOFFSETTO:+0100
TZNAME:CET
DTSTART:20241027T010000
END:STANDARD
END:VTIMEZONE
BEGIN:VEVENT
DTSTART;TZID=Europe/Paris:20231213T143000
DTEND;TZID=Europe/Paris:20231213T143000
DTSTAMP:20260423T055601
CREATED:20231017T123838Z
LAST-MODIFIED:20231017T123838Z
UID:6567-1702477800-1702477800@www.museedupaysdehanau.eu
SUMMARY:Atelier bricolages de Noël
DESCRIPTION:Les enfants entre 7 et 12 ans réaliseront de jolies décorations pour les fêtes de Noël ! \nÂge : 7-12 ans\nDurée : 2h30\nTarif : 5 €\nPlaces limitées. Réservations au 03 88 00 38 39 ou contact@museedupaysdehanau.eu\nLieu : Musée du Pays de Hanau\, 3 place du Château\, 67330 Bouxwiller
URL:https://www.museedupaysdehanau.eu/event/atelier-bricolages-de-noel-2/
ATTACH;FMTTYPE=image/jpeg:https://www.museedupaysdehanau.eu/wp-content/uploads/2023/10/12.13-Atelier-de-Noel-7-12-ans-_-Photo-Musee-du-Pays-de-Hanau-scaled-e1697546298183.jpg
END:VEVENT
END:VCALENDAR