BEGIN:VCALENDAR
VERSION:2.0
PRODID:-//Bienvenue sur le site du Musée du Pays de Hanau - ECPv6.15.18//NONSGML v1.0//EN
CALSCALE:GREGORIAN
METHOD:PUBLISH
X-WR-CALNAME:Bienvenue sur le site du Musée du Pays de Hanau
X-ORIGINAL-URL:https://www.museedupaysdehanau.eu
X-WR-CALDESC:Évènements pour Bienvenue sur le site du Musée du Pays de Hanau
REFRESH-INTERVAL;VALUE=DURATION:PT1H
X-Robots-Tag:noindex
X-PUBLISHED-TTL:PT1H
BEGIN:VTIMEZONE
TZID:Europe/Paris
BEGIN:DAYLIGHT
TZOFFSETFROM:+0100
TZOFFSETTO:+0200
TZNAME:CEST
DTSTART:20220327T010000
END:DAYLIGHT
BEGIN:STANDARD
TZOFFSETFROM:+0200
TZOFFSETTO:+0100
TZNAME:CET
DTSTART:20221030T010000
END:STANDARD
BEGIN:DAYLIGHT
TZOFFSETFROM:+0100
TZOFFSETTO:+0200
TZNAME:CEST
DTSTART:20230326T010000
END:DAYLIGHT
BEGIN:STANDARD
TZOFFSETFROM:+0200
TZOFFSETTO:+0100
TZNAME:CET
DTSTART:20231029T010000
END:STANDARD
BEGIN:DAYLIGHT
TZOFFSETFROM:+0100
TZOFFSETTO:+0200
TZNAME:CEST
DTSTART:20240331T010000
END:DAYLIGHT
BEGIN:STANDARD
TZOFFSETFROM:+0200
TZOFFSETTO:+0100
TZNAME:CET
DTSTART:20241027T010000
END:STANDARD
END:VTIMEZONE
BEGIN:VEVENT
DTSTART;TZID=Europe/Paris:20231217T150000
DTEND;TZID=Europe/Paris:20231217T150000
DTSTAMP:20260423T055258
CREATED:20231017T124115Z
LAST-MODIFIED:20231017T124115Z
UID:6570-1702825200-1702825200@www.museedupaysdehanau.eu
SUMMARY:Conférence : L'image du Hans Trapp
DESCRIPTION:Conférence : « L’image du Hans Trapp » \nEn compagnie de l’artiste Mina Mond\, découvrez comment\, à travers l’imagerie populaire et l’histoire de l’art\, s’est forgée la figure mythique du terrifiant Hans Trapp. \nAnimation gratuite proposée dans le cadre des festivités de Noël au Pays de Hanau.\nPlaces limitées. Réservations au 03 88 00 38 39 ou contact@museedupaysdehanau.eu
URL:https://www.museedupaysdehanau.eu/event/conference-limage-du-hans-trapp/
ATTACH;FMTTYPE=image/jpeg:https://www.museedupaysdehanau.eu/wp-content/uploads/2023/10/12.17-conference-corpyright-Musee-du-Pays-de-Hanau-scaled-e1697546361579.jpg
END:VEVENT
END:VCALENDAR