BEGIN:VCALENDAR
VERSION:2.0
PRODID:-//Bienvenue sur le site du Musée du Pays de Hanau - ECPv6.15.20//NONSGML v1.0//EN
CALSCALE:GREGORIAN
METHOD:PUBLISH
X-ORIGINAL-URL:https://www.museedupaysdehanau.eu
X-WR-CALDESC:Évènements pour Bienvenue sur le site du Musée du Pays de Hanau
REFRESH-INTERVAL;VALUE=DURATION:PT1H
X-Robots-Tag:noindex
X-PUBLISHED-TTL:PT1H
BEGIN:VTIMEZONE
TZID:Europe/Paris
BEGIN:DAYLIGHT
TZOFFSETFROM:+0100
TZOFFSETTO:+0200
TZNAME:CEST
DTSTART:20230326T010000
END:DAYLIGHT
BEGIN:STANDARD
TZOFFSETFROM:+0200
TZOFFSETTO:+0100
TZNAME:CET
DTSTART:20231029T010000
END:STANDARD
BEGIN:DAYLIGHT
TZOFFSETFROM:+0100
TZOFFSETTO:+0200
TZNAME:CEST
DTSTART:20240331T010000
END:DAYLIGHT
BEGIN:STANDARD
TZOFFSETFROM:+0200
TZOFFSETTO:+0100
TZNAME:CET
DTSTART:20241027T010000
END:STANDARD
BEGIN:DAYLIGHT
TZOFFSETFROM:+0100
TZOFFSETTO:+0200
TZNAME:CEST
DTSTART:20250330T010000
END:DAYLIGHT
BEGIN:STANDARD
TZOFFSETFROM:+0200
TZOFFSETTO:+0100
TZNAME:CET
DTSTART:20251026T010000
END:STANDARD
END:VTIMEZONE
BEGIN:VEVENT
DTSTART;TZID=Europe/Paris:20240623T150000
DTEND;TZID=Europe/Paris:20240623T150000
DTSTAMP:20260426T032354
CREATED:20240514T121154Z
LAST-MODIFIED:20240514T121154Z
UID:6974-1719154800-1719154800@www.museedupaysdehanau.eu
SUMMARY:Visite guidée de l’exposition « Esprit voyageur » par l’artiste Saba Niknam
DESCRIPTION:Découvrez les œuvres sensibles et poétiques de Saba Niknam\, lors d’une visite de l’exposition « Esprit voyageur »\, en compagnie de l’artiste. \nAnimation gratuite\nDurée : 1h\nPlaces limitées. Réservations obligatoires au 03 88 00 38 39 ou contact@museedupaysdehanau.eu \nLieu : Musée du Pays de Hanau – 3 place du Château 67330 Bouxwiller
URL:https://www.museedupaysdehanau.eu/event/visite-guidee-de-lexposition-esprit-voyageur-par-lartiste-saba-niknam/
ATTACH;FMTTYPE=image/jpeg:https://www.museedupaysdehanau.eu/wp-content/uploads/2024/05/VG-23-juin-Photo-Saba-Niknam--scaled-e1715688707601.jpg
END:VEVENT
BEGIN:VEVENT
DTSTART;TZID=Europe/Paris:20240623T160000
DTEND;TZID=Europe/Paris:20240623T160000
DTSTAMP:20260426T032354
CREATED:20240514T121330Z
LAST-MODIFIED:20240621T091631Z
UID:6977-1719158400-1719158400@www.museedupaysdehanau.eu
SUMMARY:Conférence annulée
DESCRIPTION:Pour une raison indépendant de la volonté du musée\, la conférence avec Mina Mond sera reportée à une date ultérieure.
URL:https://www.museedupaysdehanau.eu/event/conference-lalsace-en-transe-le-chamanisme-germanique-par-lartiste-mina-mond/
ATTACH;FMTTYPE=image/jpeg:https://www.museedupaysdehanau.eu/wp-content/uploads/2024/05/conference-23-avril-copyright-Mina-Mond-e1715688805545.jpg
END:VEVENT
END:VCALENDAR