BEGIN:VCALENDAR
VERSION:2.0
PRODID:-//Bienvenue sur le site du Musée du Pays de Hanau - ECPv6.15.20//NONSGML v1.0//EN
CALSCALE:GREGORIAN
METHOD:PUBLISH
X-WR-CALNAME:Bienvenue sur le site du Musée du Pays de Hanau
X-ORIGINAL-URL:https://www.museedupaysdehanau.eu
X-WR-CALDESC:Évènements pour Bienvenue sur le site du Musée du Pays de Hanau
REFRESH-INTERVAL;VALUE=DURATION:PT1H
X-Robots-Tag:noindex
X-PUBLISHED-TTL:PT1H
BEGIN:VTIMEZONE
TZID:Europe/Paris
BEGIN:DAYLIGHT
TZOFFSETFROM:+0100
TZOFFSETTO:+0200
TZNAME:CEST
DTSTART:20230326T010000
END:DAYLIGHT
BEGIN:STANDARD
TZOFFSETFROM:+0200
TZOFFSETTO:+0100
TZNAME:CET
DTSTART:20231029T010000
END:STANDARD
BEGIN:DAYLIGHT
TZOFFSETFROM:+0100
TZOFFSETTO:+0200
TZNAME:CEST
DTSTART:20240331T010000
END:DAYLIGHT
BEGIN:STANDARD
TZOFFSETFROM:+0200
TZOFFSETTO:+0100
TZNAME:CET
DTSTART:20241027T010000
END:STANDARD
BEGIN:DAYLIGHT
TZOFFSETFROM:+0100
TZOFFSETTO:+0200
TZNAME:CEST
DTSTART:20250330T010000
END:DAYLIGHT
BEGIN:STANDARD
TZOFFSETFROM:+0200
TZOFFSETTO:+0100
TZNAME:CET
DTSTART:20251026T010000
END:STANDARD
END:VTIMEZONE
BEGIN:VEVENT
DTSTART;TZID=Europe/Paris:20240719T100000
DTEND;TZID=Europe/Paris:20240719T160000
DTSTAMP:20260425T142851
CREATED:20240717T124838Z
LAST-MODIFIED:20240717T124838Z
UID:7086-1721383200-1721404800@www.museedupaysdehanau.eu
SUMMARY:Atelier ouvert - Résidence artistique "Les reflets du Bastberg"
DESCRIPTION:Les 19 juillet et 01 août de 10h à16h au Musée du Pays de Hanau  : \nLe binôme\, Élodie Schneider et Aurélien Mathern\, ouvre les portes de leur espace de travail afin de permettre au public de découvrir leur projet et d’échanger sur les mythes et légendes du Bastberg.
URL:https://www.museedupaysdehanau.eu/event/atelier-ouvert-residence-artistique-les-reflets-du-bastberg/
ATTACH;FMTTYPE=image/jpeg:https://www.museedupaysdehanau.eu/wp-content/uploads/2024/07/Posts-Residence2-scaled.jpg
END:VEVENT
END:VCALENDAR