BEGIN:VCALENDAR
VERSION:2.0
PRODID:-//Bienvenue sur le site du Musée du Pays de Hanau - ECPv6.15.20//NONSGML v1.0//EN
CALSCALE:GREGORIAN
METHOD:PUBLISH
X-ORIGINAL-URL:https://www.museedupaysdehanau.eu
X-WR-CALDESC:Évènements pour Bienvenue sur le site du Musée du Pays de Hanau
REFRESH-INTERVAL;VALUE=DURATION:PT1H
X-Robots-Tag:noindex
X-PUBLISHED-TTL:PT1H
BEGIN:VTIMEZONE
TZID:Europe/Paris
BEGIN:DAYLIGHT
TZOFFSETFROM:+0100
TZOFFSETTO:+0200
TZNAME:CEST
DTSTART:20230326T010000
END:DAYLIGHT
BEGIN:STANDARD
TZOFFSETFROM:+0200
TZOFFSETTO:+0100
TZNAME:CET
DTSTART:20231029T010000
END:STANDARD
BEGIN:DAYLIGHT
TZOFFSETFROM:+0100
TZOFFSETTO:+0200
TZNAME:CEST
DTSTART:20240331T010000
END:DAYLIGHT
BEGIN:STANDARD
TZOFFSETFROM:+0200
TZOFFSETTO:+0100
TZNAME:CET
DTSTART:20241027T010000
END:STANDARD
BEGIN:DAYLIGHT
TZOFFSETFROM:+0100
TZOFFSETTO:+0200
TZNAME:CEST
DTSTART:20250330T010000
END:DAYLIGHT
BEGIN:STANDARD
TZOFFSETFROM:+0200
TZOFFSETTO:+0100
TZNAME:CET
DTSTART:20251026T010000
END:STANDARD
END:VTIMEZONE
BEGIN:VEVENT
DTSTART;TZID=Europe/Paris:20240720T100000
DTEND;TZID=Europe/Paris:20240720T100000
DTSTAMP:20260425T143122
CREATED:20240717T124543Z
LAST-MODIFIED:20240717T124543Z
UID:7081-1721469600-1721469600@www.museedupaysdehanau.eu
SUMMARY:Visite guidée de la colline du Bastberg et pique-nique
DESCRIPTION:Visite guidée de la colline du Bastberg par la guide Laure Lickel et pique-nique au Bastberg avec Élodie Schneider et Aurélien Mathern.  \nLa visite sera suivie d’un pique-nique convivial\, où vous pourrez échanger avec le duo de la Résidence verrière\, Élodie Schneider (vitrailliste) et Aurélien Mathern (designer graphique et typographe). Chacun et invité à ramener son repas. \nUne belle occasion de profiter de la nature\, d’en apprendre plus sur ce magnifique site\, et de rencontrer les artistes ! \n  \nLieu : Rdv au parking du Bastberg à Imbsheim \nRéservations au 03 88 00 38 39 ou contact@museedupaysdehanau.eu \n  \nPhoto Gérard Lacoumette
URL:https://www.museedupaysdehanau.eu/event/visite-guidee-de-la-colline-du-bastberg-et-pique-nique/
LOCATION:Colline du Bastberg
ATTACH;FMTTYPE=image/jpeg:https://www.museedupaysdehanau.eu/wp-content/uploads/2024/05/VG-24-juillet-photo-Gerald-Lacoumette-scaled-e1715689970262.jpg
END:VEVENT
END:VCALENDAR