BEGIN:VCALENDAR
VERSION:2.0
PRODID:-//Bienvenue sur le site du Musée du Pays de Hanau - ECPv6.15.20//NONSGML v1.0//EN
CALSCALE:GREGORIAN
METHOD:PUBLISH
X-WR-CALNAME:Bienvenue sur le site du Musée du Pays de Hanau
X-ORIGINAL-URL:https://www.museedupaysdehanau.eu
X-WR-CALDESC:Évènements pour Bienvenue sur le site du Musée du Pays de Hanau
REFRESH-INTERVAL;VALUE=DURATION:PT1H
X-Robots-Tag:noindex
X-PUBLISHED-TTL:PT1H
BEGIN:VTIMEZONE
TZID:Europe/Paris
BEGIN:DAYLIGHT
TZOFFSETFROM:+0100
TZOFFSETTO:+0200
TZNAME:CEST
DTSTART:20230326T010000
END:DAYLIGHT
BEGIN:STANDARD
TZOFFSETFROM:+0200
TZOFFSETTO:+0100
TZNAME:CET
DTSTART:20231029T010000
END:STANDARD
BEGIN:DAYLIGHT
TZOFFSETFROM:+0100
TZOFFSETTO:+0200
TZNAME:CEST
DTSTART:20240331T010000
END:DAYLIGHT
BEGIN:STANDARD
TZOFFSETFROM:+0200
TZOFFSETTO:+0100
TZNAME:CET
DTSTART:20241027T010000
END:STANDARD
BEGIN:DAYLIGHT
TZOFFSETFROM:+0100
TZOFFSETTO:+0200
TZNAME:CEST
DTSTART:20250330T010000
END:DAYLIGHT
BEGIN:STANDARD
TZOFFSETFROM:+0200
TZOFFSETTO:+0100
TZNAME:CET
DTSTART:20251026T010000
END:STANDARD
END:VTIMEZONE
BEGIN:VEVENT
DTSTART;TZID=Europe/Paris:20240724T150000
DTEND;TZID=Europe/Paris:20240724T150000
DTSTAMP:20260425T142851
CREATED:20240514T123319Z
LAST-MODIFIED:20240514T123810Z
UID:6988-1721833200-1721833200@www.museedupaysdehanau.eu
SUMMARY:Visite de la colline du Bastberg « Les plantes et les Druides »
DESCRIPTION:Découvrez le monde magique des Druides\, leurs connaissances\, leurs croyances et leur connexion aux plantes et aux arbres. Grâce à la guide Laure Lickel\, vous observerez comment humains et végétaux communiquent\, en bonne intelligence\, pour le bien-être et l’équilibre des Hommes et de la Nature. \nAnimation gratuite\nDurée : 2h30\nPlaces limitées. Réservations obligatoires au 03 88 00 38 39 ou contact@museedupaysdehanau.eu\nSite internet : www.museedupaysdehanau.eu\nLieu de rendez-vous : Parking du Château d’eau \n  \nPhoto : Gérard Lacoumette
URL:https://www.museedupaysdehanau.eu/event/visite-de-la-colline-du-bastberg-les-plantes-et-les-druides-2/
ATTACH;FMTTYPE=image/jpeg:https://www.museedupaysdehanau.eu/wp-content/uploads/2024/05/VG-24-juillet-photo-Gerald-Lacoumette-scaled-e1715689970262.jpg
END:VEVENT
END:VCALENDAR