BEGIN:VCALENDAR
VERSION:2.0
PRODID:-//Bienvenue sur le site du Musée du Pays de Hanau - ECPv6.15.20//NONSGML v1.0//EN
CALSCALE:GREGORIAN
METHOD:PUBLISH
X-WR-CALNAME:Bienvenue sur le site du Musée du Pays de Hanau
X-ORIGINAL-URL:https://www.museedupaysdehanau.eu
X-WR-CALDESC:Évènements pour Bienvenue sur le site du Musée du Pays de Hanau
REFRESH-INTERVAL;VALUE=DURATION:PT1H
X-Robots-Tag:noindex
X-PUBLISHED-TTL:PT1H
BEGIN:VTIMEZONE
TZID:Europe/Paris
BEGIN:DAYLIGHT
TZOFFSETFROM:+0100
TZOFFSETTO:+0200
TZNAME:CEST
DTSTART:20230326T010000
END:DAYLIGHT
BEGIN:STANDARD
TZOFFSETFROM:+0200
TZOFFSETTO:+0100
TZNAME:CET
DTSTART:20231029T010000
END:STANDARD
BEGIN:DAYLIGHT
TZOFFSETFROM:+0100
TZOFFSETTO:+0200
TZNAME:CEST
DTSTART:20240331T010000
END:DAYLIGHT
BEGIN:STANDARD
TZOFFSETFROM:+0200
TZOFFSETTO:+0100
TZNAME:CET
DTSTART:20241027T010000
END:STANDARD
BEGIN:DAYLIGHT
TZOFFSETFROM:+0100
TZOFFSETTO:+0200
TZNAME:CEST
DTSTART:20250330T010000
END:DAYLIGHT
BEGIN:STANDARD
TZOFFSETFROM:+0200
TZOFFSETTO:+0100
TZNAME:CET
DTSTART:20251026T010000
END:STANDARD
END:VTIMEZONE
BEGIN:VEVENT
DTSTART;TZID=Europe/Paris:20240728T150000
DTEND;TZID=Europe/Paris:20240728T150000
DTSTAMP:20260425T142851
CREATED:20240514T124444Z
LAST-MODIFIED:20240514T124456Z
UID:6991-1722178800-1722178800@www.museedupaysdehanau.eu
SUMMARY:Dimanche de caractère / Les vestiges médiévaux de Bouxwiller
DESCRIPTION:En tant que Petite Cité de Caractère\, Bouxwiller participe à la manifestation « Dimanche de caractère » dont le principe est de proposer une visite inédite\, suivie d’une dégustation. \nCentre important de la seigneurie des Lichtenberg dès le 13e siècle\, la cité de Bouxwiller conserve de beaux vestiges de son passé médiéval.\nÀ travers les ruelles du centre historique\, la guide Laure Lickel vous emmènera à la découverte des remparts et des trésors cachés\, témoignant du prestigieux passé de la ville.\nLa visite s’achèvera par une dégustation de mets d’inspiration médiévale\, proposés par le traiteur Le Chaudron des Gourmets.   \nDurée : 2h\nAnimation gratuite\nPlaces limitées. Réservations obligatoires au 03 88 00 38 39 ou contact@museedupaysdehanau.eu\nDépart : Musée du Pays de Hanau\, 3 place du Château\, 67330 Bouxwiller \nPhoto : M. Toussaint
URL:https://www.museedupaysdehanau.eu/event/dimanche-de-caractere-les-vestiges-medievaux-de-bouxwiller/
ATTACH;FMTTYPE=image/jpeg:https://www.museedupaysdehanau.eu/wp-content/uploads/2024/05/VG-Dimanche-de-caractere-28-juillet-2024.Photo-M.Toussaint-e1715690681194.jpg
END:VEVENT
END:VCALENDAR