BEGIN:VCALENDAR
VERSION:2.0
PRODID:-//Bienvenue sur le site du Musée du Pays de Hanau - ECPv6.15.20//NONSGML v1.0//EN
CALSCALE:GREGORIAN
METHOD:PUBLISH
X-WR-CALNAME:Bienvenue sur le site du Musée du Pays de Hanau
X-ORIGINAL-URL:https://www.museedupaysdehanau.eu
X-WR-CALDESC:Évènements pour Bienvenue sur le site du Musée du Pays de Hanau
REFRESH-INTERVAL;VALUE=DURATION:PT1H
X-Robots-Tag:noindex
X-PUBLISHED-TTL:PT1H
BEGIN:VTIMEZONE
TZID:Europe/Paris
BEGIN:DAYLIGHT
TZOFFSETFROM:+0100
TZOFFSETTO:+0200
TZNAME:CEST
DTSTART:20230326T010000
END:DAYLIGHT
BEGIN:STANDARD
TZOFFSETFROM:+0200
TZOFFSETTO:+0100
TZNAME:CET
DTSTART:20231029T010000
END:STANDARD
BEGIN:DAYLIGHT
TZOFFSETFROM:+0100
TZOFFSETTO:+0200
TZNAME:CEST
DTSTART:20240331T010000
END:DAYLIGHT
BEGIN:STANDARD
TZOFFSETFROM:+0200
TZOFFSETTO:+0100
TZNAME:CET
DTSTART:20241027T010000
END:STANDARD
BEGIN:DAYLIGHT
TZOFFSETFROM:+0100
TZOFFSETTO:+0200
TZNAME:CEST
DTSTART:20250330T010000
END:DAYLIGHT
BEGIN:STANDARD
TZOFFSETFROM:+0200
TZOFFSETTO:+0100
TZNAME:CET
DTSTART:20251026T010000
END:STANDARD
END:VTIMEZONE
BEGIN:VEVENT
DTSTART;TZID=Europe/Paris:20240731T143000
DTEND;TZID=Europe/Paris:20240731T143000
DTSTAMP:20260425T124805
CREATED:20240717T124707Z
LAST-MODIFIED:20240717T124707Z
UID:7083-1722436200-1722436200@www.museedupaysdehanau.eu
SUMMARY:Atelier cyanotype pour enfant à partir de 6 ans
DESCRIPTION:Le binôme\, Élodie Schneider et Aurélien Mathern\, propose à un jeune public un atelier cyanotype\, l’objectif sera de capter les formes de la flore locale par le biais du cyanotype (ancien procédé photographique qui réagit à la lumière du Soleil). Les participants sont invités à apporter des plantes\, végétaux et fleurs. \nDans le cadre de la résidence artistique « Les reflets du Bastberg »\, projet JeunESTivant. \nDurée 1h30\nLieu : Musée du Pays de Hanau\nRéservations obligatoires au 03 88 00 38 39 ou contact@museedupaysdehanau.eu \nCrédit image : Elodie Schneider
URL:https://www.museedupaysdehanau.eu/event/atelier-cyanotype-pour-enfant-a-partir-de-6-ans/
ATTACH;FMTTYPE=image/jpeg:https://www.museedupaysdehanau.eu/wp-content/uploads/2024/07/31-juillet-atelier-cyanotype-credit-Elodie-Schneider-e1721220409963.jpg
END:VEVENT
BEGIN:VEVENT
DTSTART;TZID=Europe/Paris:20240731T150000
DTEND;TZID=Europe/Paris:20240731T150000
DTSTAMP:20260425T124805
CREATED:20240514T124958Z
LAST-MODIFIED:20240514T124958Z
UID:6996-1722438000-1722438000@www.museedupaysdehanau.eu
SUMMARY:Visite guidée « Marie Hart à travers la ville de Bouxwiller »
DESCRIPTION:En compagnie de Laure Lickel\, chargée de médiation\, découvrez la ville de Bouxwiller à travers les yeux de Marie Hart\, romancière et poétesse bouxwilleroise\, née en 1856. Vous découvrirez les lieux qui lui sont liés et avec eux la passionnante histoire d’une femme de caractère ayant vécu l’époque de la Grande Guerre. \nAnimation gratuite \nDurée : 1h30 \nPlaces limitées. Réservations obligatoires au 03 88 00 38 39 ou contact@museedupaysdehanau.eu \nLieu de départ : Musée du Pays de Hanau – 3 place du Château 67330 Bouxwiller
URL:https://www.museedupaysdehanau.eu/event/visite-guidee-marie-hart-a-travers-la-ville-de-bouxwiller-4/
ATTACH;FMTTYPE=image/jpeg:https://www.museedupaysdehanau.eu/wp-content/uploads/2024/05/VG-31-juillet-Marie-Hart-photo-Ville-de-Bouxwiller-e1715690992621.jpg
END:VEVENT
END:VCALENDAR