BEGIN:VCALENDAR
VERSION:2.0
PRODID:-//Bienvenue sur le site du Musée du Pays de Hanau - ECPv6.15.20//NONSGML v1.0//EN
CALSCALE:GREGORIAN
METHOD:PUBLISH
X-ORIGINAL-URL:https://www.museedupaysdehanau.eu
X-WR-CALDESC:Évènements pour Bienvenue sur le site du Musée du Pays de Hanau
REFRESH-INTERVAL;VALUE=DURATION:PT1H
X-Robots-Tag:noindex
X-PUBLISHED-TTL:PT1H
BEGIN:VTIMEZONE
TZID:Europe/Paris
BEGIN:DAYLIGHT
TZOFFSETFROM:+0100
TZOFFSETTO:+0200
TZNAME:CEST
DTSTART:20230326T010000
END:DAYLIGHT
BEGIN:STANDARD
TZOFFSETFROM:+0200
TZOFFSETTO:+0100
TZNAME:CET
DTSTART:20231029T010000
END:STANDARD
BEGIN:DAYLIGHT
TZOFFSETFROM:+0100
TZOFFSETTO:+0200
TZNAME:CEST
DTSTART:20240331T010000
END:DAYLIGHT
BEGIN:STANDARD
TZOFFSETFROM:+0200
TZOFFSETTO:+0100
TZNAME:CET
DTSTART:20241027T010000
END:STANDARD
BEGIN:DAYLIGHT
TZOFFSETFROM:+0100
TZOFFSETTO:+0200
TZNAME:CEST
DTSTART:20250330T010000
END:DAYLIGHT
BEGIN:STANDARD
TZOFFSETFROM:+0200
TZOFFSETTO:+0100
TZNAME:CET
DTSTART:20251026T010000
END:STANDARD
END:VTIMEZONE
BEGIN:VEVENT
DTSTART;TZID=Europe/Paris:20240809T203000
DTEND;TZID=Europe/Paris:20240809T203000
DTSTAMP:20260425T125048
CREATED:20240514T131149Z
LAST-MODIFIED:20240514T131149Z
UID:7013-1723235400-1723235400@www.museedupaysdehanau.eu
SUMMARY:Vendredi de l’été : Balade contée « Sorcellerie\, magie\, croyances et superstitions »\, avec Christine Fischbach et Laure Lickel
DESCRIPTION:Vivez une expérience unique lors de cette balade contée\, où sorcellerie\, magie\, croyances et superstitions se côtoient et s’entremêlent. Mais quelle est la part de vérité et de mythe ? Les sorcières ont-elles existé ? Et la magie ? Blanche ou noire ? Et qu’en est-il des superstitions et des croyances ? Christine Fischbach\, conteuse\, et Laure Lickel\, médiatrice et conteuse du Musée du Pays de Hanau\, vous éclaireront avec bienveillance et humour\, en arpentant le dédale de petites ruelles du centre historique de Bouxwiller. \nAnimation gratuite proposée dans le cadre des Vendredis de l’été de Bouxwiller\nEn collaboration avec le Musée du Pays de Hanau\n \nTout public\nDurée : 2h\nBuvette à l’issue de la balade proposée par l’association Alysses.\nRéservations obligatoires au 03 88 00 38 39 ou contact@museedupaysdehanau.eu
URL:https://www.museedupaysdehanau.eu/event/vendredi-de-lete-balade-contee-sorcellerie-magie-croyances-et-superstitions-avec-christine-fischbach-et-laure-lickel/
ATTACH;FMTTYPE=image/jpeg:https://www.museedupaysdehanau.eu/wp-content/uploads/2024/05/9-aout-balade-contee-photo-Ville-de-Bouxwiller-scaled-e1715692304702.jpg
END:VEVENT
END:VCALENDAR