BEGIN:VCALENDAR
VERSION:2.0
PRODID:-//Bienvenue sur le site du Musée du Pays de Hanau - ECPv6.15.20//NONSGML v1.0//EN
CALSCALE:GREGORIAN
METHOD:PUBLISH
X-WR-CALNAME:Bienvenue sur le site du Musée du Pays de Hanau
X-ORIGINAL-URL:https://www.museedupaysdehanau.eu
X-WR-CALDESC:Évènements pour Bienvenue sur le site du Musée du Pays de Hanau
REFRESH-INTERVAL;VALUE=DURATION:PT1H
X-Robots-Tag:noindex
X-PUBLISHED-TTL:PT1H
BEGIN:VTIMEZONE
TZID:Europe/Paris
BEGIN:DAYLIGHT
TZOFFSETFROM:+0100
TZOFFSETTO:+0200
TZNAME:CEST
DTSTART:20230326T010000
END:DAYLIGHT
BEGIN:STANDARD
TZOFFSETFROM:+0200
TZOFFSETTO:+0100
TZNAME:CET
DTSTART:20231029T010000
END:STANDARD
BEGIN:DAYLIGHT
TZOFFSETFROM:+0100
TZOFFSETTO:+0200
TZNAME:CEST
DTSTART:20240331T010000
END:DAYLIGHT
BEGIN:STANDARD
TZOFFSETFROM:+0200
TZOFFSETTO:+0100
TZNAME:CET
DTSTART:20241027T010000
END:STANDARD
BEGIN:DAYLIGHT
TZOFFSETFROM:+0100
TZOFFSETTO:+0200
TZNAME:CEST
DTSTART:20250330T010000
END:DAYLIGHT
BEGIN:STANDARD
TZOFFSETFROM:+0200
TZOFFSETTO:+0100
TZNAME:CET
DTSTART:20251026T010000
END:STANDARD
END:VTIMEZONE
BEGIN:VEVENT
DTSTART;TZID=Europe/Paris:20240813T203000
DTEND;TZID=Europe/Paris:20240813T203000
DTSTAMP:20260425T124803
CREATED:20240514T133453Z
LAST-MODIFIED:20240514T133656Z
UID:7016-1723581000-1723581000@www.museedupaysdehanau.eu
SUMMARY:Visite guidée nocturne de la ville de Bouxwiller : « Cité magique et mystérieuse »
DESCRIPTION:En compagnie de la guide Laure Lickel\, découvrez la cité mystérieuse de Bouxwiller. Entre légendes et réalité\, laissez-vous emporter par le tourbillon du Temps\, à une époque où savoir\, superstitions\, sorcellerie et symbolisme s’entremêlaient. Peut-être\, serez-vous surpris au détour d’une rue par une créature fantastique ? Il n’est pas rare d’apercevoir des sorcières\, des animaux fantastiques et autres curiosités à Bouxwiller. Seules les âmes pures et sensibles pourront prétendre à ces rencontres extraordinaires et cela uniquement à Minuit ! \nCependant\, ne soyez pas déçu(e)s\, d’autres secrets seront dévoilés lors de cette balade au cœur de la cité. \nMais chut\, ne dévoilons pas tout\, le mystère doit rester entier ! \nAnimation gratuite \nDurée : 2h \nRéservations obligatoires au 03 88 00 38 39 ou contact@museedupaysdehanau.eu \nLieu de départ : Musée du Pays de Hanau – 3 place du Château 67330 Bouxwiller \n  \nPhoto : Anne-Laure NYARI
URL:https://www.museedupaysdehanau.eu/event/visite-guidee-nocturne-de-la-ville-de-bouxwiller-cite-magique-et-mysterieuse-4/
ATTACH;FMTTYPE=image/jpeg:https://www.museedupaysdehanau.eu/wp-content/uploads/2024/05/17-juillet-VG-nocturne-Photo-A-L-Nyari-scaled-e1715689233569.jpg
END:VEVENT
END:VCALENDAR