BEGIN:VCALENDAR
VERSION:2.0
PRODID:-//Bienvenue sur le site du Musée du Pays de Hanau - ECPv6.15.20//NONSGML v1.0//EN
CALSCALE:GREGORIAN
METHOD:PUBLISH
X-ORIGINAL-URL:https://www.museedupaysdehanau.eu
X-WR-CALDESC:Évènements pour Bienvenue sur le site du Musée du Pays de Hanau
REFRESH-INTERVAL;VALUE=DURATION:PT1H
X-Robots-Tag:noindex
X-PUBLISHED-TTL:PT1H
BEGIN:VTIMEZONE
TZID:Europe/Paris
BEGIN:DAYLIGHT
TZOFFSETFROM:+0100
TZOFFSETTO:+0200
TZNAME:CEST
DTSTART:20230326T010000
END:DAYLIGHT
BEGIN:STANDARD
TZOFFSETFROM:+0200
TZOFFSETTO:+0100
TZNAME:CET
DTSTART:20231029T010000
END:STANDARD
BEGIN:DAYLIGHT
TZOFFSETFROM:+0100
TZOFFSETTO:+0200
TZNAME:CEST
DTSTART:20240331T010000
END:DAYLIGHT
BEGIN:STANDARD
TZOFFSETFROM:+0200
TZOFFSETTO:+0100
TZNAME:CET
DTSTART:20241027T010000
END:STANDARD
BEGIN:DAYLIGHT
TZOFFSETFROM:+0100
TZOFFSETTO:+0200
TZNAME:CEST
DTSTART:20250330T010000
END:DAYLIGHT
BEGIN:STANDARD
TZOFFSETFROM:+0200
TZOFFSETTO:+0100
TZNAME:CET
DTSTART:20251026T010000
END:STANDARD
END:VTIMEZONE
BEGIN:VEVENT
DTSTART;TZID=Europe/Paris:20240818T160000
DTEND;TZID=Europe/Paris:20240818T160000
DTSTAMP:20260425T125050
CREATED:20240514T134531Z
LAST-MODIFIED:20240514T134531Z
UID:7021-1723996800-1723996800@www.museedupaysdehanau.eu
SUMMARY:Visite contée « Les Murs de Riedheim ont des oreilles »
DESCRIPTION:Le bucolique village de Riedheim\, commune associée de Bouxwiller\, recèle bien des mystères et même\, des trésors….\nLes murs des anciennes fermes vous raconteront qu’un dragon de feu pouvait venir la nuit vous voler votre grain. En écoutant bien\, vous pourriez apprendre quelques paroles pour exorciser votre bétail ou encore protéger votre maison des incendies. \nMais gare au bourreau ! Certains maintiennent avoir croisé une silhouette disparaissant par le soupirail d’une cave\, aussi discrète qu’une ombre.\nIl n’en faut pas plus pour éveiller la curiosité des deux conteuses\, Léa Pellarin et Laure Lickel.\nOuvrez les yeux pour voir l’invisible. Poussez la porte d’un autre monde… si vous en avez le courage ! \nParticipez en famille à cette promenade guidée réelle et merveilleuse\, en histoire\, en contes et en chants. \nÀ l’issue de la balade\, l’association « La Maison pour tous » vous offrira un verre de l’amitié.\nUne petite restauration à prix doux vous sera également proposée. \nUne proposition du Musée du Pays de Hanau\, en programmation associée des Petites histoires des Vosges du Nord\, événement porté par le Parc naturel régional des Vosges du Nord. \nAnimation gratuite\nParents et enfants à partir de 7 ans\nDurée : 2h\nRéservations obligatoires au 03 88 00 38 39 ou contact@museedupaysdehanau.eu\nDépart : Rendez-vous au parking de la salle des fêtes de Riedheim \nPhoto : PF Valck
URL:https://www.museedupaysdehanau.eu/event/visite-contee-les-murs-de-riedheim-ont-des-oreilles/
ATTACH;FMTTYPE=image/jpeg:https://www.museedupaysdehanau.eu/wp-content/uploads/2024/05/18-aout-Visite-contee-Riedheim-credit-PF-Valck-scaled-e1715694307304.jpg
END:VEVENT
END:VCALENDAR