BEGIN:VCALENDAR
VERSION:2.0
PRODID:-//Bienvenue sur le site du Musée du Pays de Hanau - ECPv6.15.20//NONSGML v1.0//EN
CALSCALE:GREGORIAN
METHOD:PUBLISH
X-WR-CALNAME:Bienvenue sur le site du Musée du Pays de Hanau
X-ORIGINAL-URL:https://www.museedupaysdehanau.eu
X-WR-CALDESC:Évènements pour Bienvenue sur le site du Musée du Pays de Hanau
REFRESH-INTERVAL;VALUE=DURATION:PT1H
X-Robots-Tag:noindex
X-PUBLISHED-TTL:PT1H
BEGIN:VTIMEZONE
TZID:Europe/Paris
BEGIN:DAYLIGHT
TZOFFSETFROM:+0100
TZOFFSETTO:+0200
TZNAME:CEST
DTSTART:20240331T010000
END:DAYLIGHT
BEGIN:STANDARD
TZOFFSETFROM:+0200
TZOFFSETTO:+0100
TZNAME:CET
DTSTART:20241027T010000
END:STANDARD
BEGIN:DAYLIGHT
TZOFFSETFROM:+0100
TZOFFSETTO:+0200
TZNAME:CEST
DTSTART:20250330T010000
END:DAYLIGHT
BEGIN:STANDARD
TZOFFSETFROM:+0200
TZOFFSETTO:+0100
TZNAME:CET
DTSTART:20251026T010000
END:STANDARD
BEGIN:DAYLIGHT
TZOFFSETFROM:+0100
TZOFFSETTO:+0200
TZNAME:CEST
DTSTART:20260329T010000
END:DAYLIGHT
BEGIN:STANDARD
TZOFFSETFROM:+0200
TZOFFSETTO:+0100
TZNAME:CET
DTSTART:20261025T010000
END:STANDARD
END:VTIMEZONE
BEGIN:VEVENT
DTSTART;TZID=Europe/Paris:20250221T143000
DTEND;TZID=Europe/Paris:20250221T170000
DTSTAMP:20260425T034044
CREATED:20250127T151540Z
LAST-MODIFIED:20250210T075233Z
UID:7275-1740148200-1740157200@www.museedupaysdehanau.eu
SUMMARY:[COMPLET] Atelier bricolage « Fabrique ton masque de carnaval » (7-12 ans)
DESCRIPTION:Préparez le carnaval avec un atelier créatif ! Les bénévoles du Musée du Pays de Hanau aideront les enfants à fabriquer leur propre masque. Matériaux variés\, couleurs éclatantes… place à l’imagination pour un accessoire unique ! \nCette activité sera également l’occasion pour les enfants de découvrir les traditions populaires liées au carnaval et au mardi gras. \nDurée : 2h30\nTarif : 5 € (le goûter est offert)\nLieu : Musée du Pays de Hanau – 3 place du Château 67330 Bouxwiller\nCOMPLET \nAnimation pour les enfants de 7 à 12 ans.
URL:https://www.museedupaysdehanau.eu/event/atelier-bricolage-fabrique-ton-masque-de-carnaval-7-12-ans/
LOCATION:Musée du Pays de Hanau\, 3 place du Château \, Bouxwiller\, 67330
ATTACH;FMTTYPE=image/jpeg:https://www.museedupaysdehanau.eu/wp-content/uploads/2025/01/Atelier-carnaval_2_-photo-Melanie-Le-Hir-scaled.jpg
ORGANIZER;CN="Mus%C3%A9e du Pays de Hanau":MAILTO:contact@museedupaysdehanau.eu
END:VEVENT
END:VCALENDAR