BEGIN:VCALENDAR
VERSION:2.0
PRODID:-//Bienvenue sur le site du Musée du Pays de Hanau - ECPv6.15.20//NONSGML v1.0//EN
CALSCALE:GREGORIAN
METHOD:PUBLISH
X-WR-CALNAME:Bienvenue sur le site du Musée du Pays de Hanau
X-ORIGINAL-URL:https://www.museedupaysdehanau.eu
X-WR-CALDESC:Évènements pour Bienvenue sur le site du Musée du Pays de Hanau
REFRESH-INTERVAL;VALUE=DURATION:PT1H
X-Robots-Tag:noindex
X-PUBLISHED-TTL:PT1H
BEGIN:VTIMEZONE
TZID:Europe/Paris
BEGIN:DAYLIGHT
TZOFFSETFROM:+0100
TZOFFSETTO:+0200
TZNAME:CEST
DTSTART:20240331T010000
END:DAYLIGHT
BEGIN:STANDARD
TZOFFSETFROM:+0200
TZOFFSETTO:+0100
TZNAME:CET
DTSTART:20241027T010000
END:STANDARD
BEGIN:DAYLIGHT
TZOFFSETFROM:+0100
TZOFFSETTO:+0200
TZNAME:CEST
DTSTART:20250330T010000
END:DAYLIGHT
BEGIN:STANDARD
TZOFFSETFROM:+0200
TZOFFSETTO:+0100
TZNAME:CET
DTSTART:20251026T010000
END:STANDARD
BEGIN:DAYLIGHT
TZOFFSETFROM:+0100
TZOFFSETTO:+0200
TZNAME:CEST
DTSTART:20260329T010000
END:DAYLIGHT
BEGIN:STANDARD
TZOFFSETFROM:+0200
TZOFFSETTO:+0100
TZNAME:CET
DTSTART:20261025T010000
END:STANDARD
END:VTIMEZONE
BEGIN:VEVENT
DTSTART;VALUE=DATE:20250226
DTEND;VALUE=DATE:20250310
DTSTAMP:20260425T021156
CREATED:20250217T102715Z
LAST-MODIFIED:20250217T102715Z
UID:7299-1740528000-1741564799@www.museedupaysdehanau.eu
SUMMARY:Exposition | Il était une fois dans le Pays de Hanau…
DESCRIPTION:Le Musée du Pays de Hanau vous invite à plonger dans un projet artistique intergénérationnel inédit ! Résidents de l’EHPAD Les Trois Collines et élèves du Lycée Schattenmann\, guidés par Adeline Créative\, ont créé un jeu de cartes inspiré des légendes locales et du patrimoine.\n\n\n\nDécouvrez-y en exclusivité les œuvres originales qui ont donné vie à ce jeu unique !\n\n\n\nUn projet rendu possible grâce au soutien de la Conférence des financeurs\, la Collectivité européenne d’Alsace\, l’association des bénévoles de l’EHPAD D’Silverlocke et l’Association des amis du musée du Pays de Hanau.
URL:https://www.museedupaysdehanau.eu/event/exposition-il-etait-une-fois-dans-le-pays-de-hanau/
LOCATION:Musée du Pays de Hanau\, 3 place du Château \, Bouxwiller\, 67330
ATTACH;FMTTYPE=image/jpeg:https://www.museedupaysdehanau.eu/wp-content/uploads/2025/02/DSC_8095_1-scaled.jpg
ORGANIZER;CN="Mus%C3%A9e du Pays de Hanau":MAILTO:contact@museedupaysdehanau.eu
END:VEVENT
END:VCALENDAR