BEGIN:VCALENDAR
VERSION:2.0
PRODID:-//Bienvenue sur le site du Musée du Pays de Hanau - ECPv6.15.20//NONSGML v1.0//EN
CALSCALE:GREGORIAN
METHOD:PUBLISH
X-ORIGINAL-URL:https://www.museedupaysdehanau.eu
X-WR-CALDESC:Évènements pour Bienvenue sur le site du Musée du Pays de Hanau
REFRESH-INTERVAL;VALUE=DURATION:PT1H
X-Robots-Tag:noindex
X-PUBLISHED-TTL:PT1H
BEGIN:VTIMEZONE
TZID:Europe/Paris
BEGIN:DAYLIGHT
TZOFFSETFROM:+0100
TZOFFSETTO:+0200
TZNAME:CEST
DTSTART:20240331T010000
END:DAYLIGHT
BEGIN:STANDARD
TZOFFSETFROM:+0200
TZOFFSETTO:+0100
TZNAME:CET
DTSTART:20241027T010000
END:STANDARD
BEGIN:DAYLIGHT
TZOFFSETFROM:+0100
TZOFFSETTO:+0200
TZNAME:CEST
DTSTART:20250330T010000
END:DAYLIGHT
BEGIN:STANDARD
TZOFFSETFROM:+0200
TZOFFSETTO:+0100
TZNAME:CET
DTSTART:20251026T010000
END:STANDARD
BEGIN:DAYLIGHT
TZOFFSETFROM:+0100
TZOFFSETTO:+0200
TZNAME:CEST
DTSTART:20260329T010000
END:DAYLIGHT
BEGIN:STANDARD
TZOFFSETFROM:+0200
TZOFFSETTO:+0100
TZNAME:CET
DTSTART:20261025T010000
END:STANDARD
END:VTIMEZONE
BEGIN:VEVENT
DTSTART;VALUE=DATE:20250328
DTEND;VALUE=DATE:20250609
DTSTAMP:20260424T212444
CREATED:20250325T080837Z
LAST-MODIFIED:20250325T080857Z
UID:7337-1743120000-1749427199@www.museedupaysdehanau.eu
SUMMARY:Exposition | Réalisme magique
DESCRIPTION:Les peintures textiles d’Aurélien Lepage invitent à une immersion méditative au sein d’œuvres aux couleurs chatoyantes et aux motifs labyrinthiques. \nEntre ex-voto et enluminures\, évoquant tour à tour les tapisseries médiévales\, les tapis persans ou les nappes brodées\, ses peintures entremêlent ornements végétaux et figures mystérieuses aux significations multiples : ici une sirène contemple le cosmos\, là un Dionysos éméché côtoie un séraphin embrasé. Comme dans un labyrinthe\, il s’agit de se perdre et d’errer parmi les motifs et les matières\, les éléments brodés\, collés\, cousus\, dissimulés ou révélés. Le fil textile qui compose ses œuvres se veut pinceau\, coulure de peinture\, lien et liant. Aurélien Lepage nous offre une plongée magique dans un travail où la matière brute est magnifiée\, transmutée pour donner naissance à des objets à la fois opulents et modestes. \nL’artiste s’est laissé prendre au jeu de présenter certaines œuvres de la collection du Musée du Pays de Hanau en dialogue\, une rencontre autour des surfaces textiles et des coutures populaires. \nExposition du 28 mars au 8 juin 2025
URL:https://www.museedupaysdehanau.eu/event/exposition-realisme-magique/
LOCATION:Musée du Pays de Hanau\, 3 place du Château \, Bouxwiller\, 67330
ATTACH;FMTTYPE=image/jpeg:https://www.museedupaysdehanau.eu/wp-content/uploads/2025/03/Exposition-2025-Aurelien-Lepage-Affiche-A4_page-0001-22-scaled.jpg
ORGANIZER;CN="Mus%C3%A9e du Pays de Hanau":MAILTO:contact@museedupaysdehanau.eu
END:VEVENT
BEGIN:VEVENT
DTSTART;TZID=Europe/Paris:20250601T143000
DTEND;TZID=Europe/Paris:20250601T143000
DTSTAMP:20260424T212444
CREATED:20250517T130619Z
LAST-MODIFIED:20250517T130619Z
UID:7393-1748788200-1748788200@www.museedupaysdehanau.eu
SUMMARY:Visite guidée du Bastberg « Orchidées\, mimétisme et Théorie des signatures »
DESCRIPTION:Découvrez les richesses de la flore de la colline du Bastberg. Plongez dans le monde fascinant des orchidées et des plantes aux vertus reconnues et même mystérieuses. Cette visite sera l’occasion d’explorer la capacité de mimétisme des plantes. Selon la théorie des signatures\, l’apparence de certaines plantes indiquerait l’organe pour lequel elles soigneraient le mal. \nRedécouvrez en compagnie de la guide et amoureuse des plantes Laure Lickel\, les secrets de ce lieu unique. \nAnimation gratuite proposée par le Musée du Pays de Hanau\nDurée : 2h30\nPlaces limitées. Réservations obligatoires au 03 88 00 38 39 ou contact@museedupaysdehanau.eu\nSite internet : www.museedupaysdehanau.eu\nLieu de départ : RFC9+WF Bouxwiller – Parking du château d’eau en face de la Ferme Pédagogique du Hexehoft
URL:https://www.museedupaysdehanau.eu/event/visite-guidee-du-bastberg-orchidees-mimetisme-et-theorie-des-signatures-3/
ATTACH;FMTTYPE=image/jpeg:https://www.museedupaysdehanau.eu/wp-content/uploads/2024/05/VG-24-juillet-photo-Gerald-Lacoumette-scaled-e1715689970262.jpg
END:VEVENT
BEGIN:VEVENT
DTSTART;TZID=Europe/Paris:20250601T143000
DTEND;TZID=Europe/Paris:20250601T170000
DTSTAMP:20260424T212444
CREATED:20250528T082100Z
LAST-MODIFIED:20250528T082100Z
UID:7449-1748788200-1748797200@www.museedupaysdehanau.eu
SUMMARY:Rendez-vous au Bastberg : orchidées\, mimétisme et théorie des signatures
DESCRIPTION:Partez à la découverte de la flore du Bastberg lors d’une balade guidée avec Laure Lickel\, passionnée de botanique.\nPlongez dans l’univers fascinant des orchidées sauvages et des plantes médicinales\, entre mimétisme végétal\, théorie des signatures\, anecdotes et émerveillement en pleine nature.\n\n Animation gratuite proposée par le Musée du Pays de Hanau Durée : environ 2h30 Départ : parking du château d’eau\, en face de la ferme pédagogique du Hexehoft (RFC9+WF Bouxwiller) Places limitées. Réservation obligatoire : 03 88 00 38 39 ou contact@museedupaysdehanau.eu
URL:https://www.museedupaysdehanau.eu/event/rendez-vous-au-bastberg-orchidees-mimetisme-et-theorie-des-signatures/
LOCATION:Colline du Bastberg
ATTACH;FMTTYPE=image/png:https://www.museedupaysdehanau.eu/wp-content/uploads/2025/05/Facebook-bandeau-10.png
ORGANIZER;CN="Mus%C3%A9e du Pays de Hanau":MAILTO:contact@museedupaysdehanau.eu
END:VEVENT
END:VCALENDAR