BEGIN:VCALENDAR
VERSION:2.0
PRODID:-//Bienvenue sur le site du Musée du Pays de Hanau - ECPv6.15.20//NONSGML v1.0//EN
CALSCALE:GREGORIAN
METHOD:PUBLISH
X-ORIGINAL-URL:https://www.museedupaysdehanau.eu
X-WR-CALDESC:Évènements pour Bienvenue sur le site du Musée du Pays de Hanau
REFRESH-INTERVAL;VALUE=DURATION:PT1H
X-Robots-Tag:noindex
X-PUBLISHED-TTL:PT1H
BEGIN:VTIMEZONE
TZID:Europe/Paris
BEGIN:DAYLIGHT
TZOFFSETFROM:+0100
TZOFFSETTO:+0200
TZNAME:CEST
DTSTART:20240331T010000
END:DAYLIGHT
BEGIN:STANDARD
TZOFFSETFROM:+0200
TZOFFSETTO:+0100
TZNAME:CET
DTSTART:20241027T010000
END:STANDARD
BEGIN:DAYLIGHT
TZOFFSETFROM:+0100
TZOFFSETTO:+0200
TZNAME:CEST
DTSTART:20250330T010000
END:DAYLIGHT
BEGIN:STANDARD
TZOFFSETFROM:+0200
TZOFFSETTO:+0100
TZNAME:CET
DTSTART:20251026T010000
END:STANDARD
BEGIN:DAYLIGHT
TZOFFSETFROM:+0100
TZOFFSETTO:+0200
TZNAME:CEST
DTSTART:20260329T010000
END:DAYLIGHT
BEGIN:STANDARD
TZOFFSETFROM:+0200
TZOFFSETTO:+0100
TZNAME:CET
DTSTART:20261025T010000
END:STANDARD
END:VTIMEZONE
BEGIN:VEVENT
DTSTART;TZID=Europe/Paris:20250626T080000
DTEND;TZID=Europe/Paris:20250921T170000
DTSTAMP:20260424T173430
CREATED:20250613T201337Z
LAST-MODIFIED:20250613T201337Z
UID:7465-1750924800-1758474000@www.museedupaysdehanau.eu
SUMMARY:Exposition | Là où fleurissent nos cœurs ardents
DESCRIPTION:Une exposition incandescente où la passion du verre prend forme et vous enflamme ! \nLe Musée du Pays de Hanau accueille cet été les œuvres flamboyantes des diplômés de la promotion 2025 du Cerfav – Créateurs verriers. Une invitation à plonger dans un univers où transparence\, éclat\, matière et feu se rencontrent pour façonner une vision singulière du verre contemporain. Vitrail\, soufflage à la canne ou au chalumeau\, pâte de verre\, taille\, décoration… autant de savoir-faire que ces créateurs ont explorés\, maîtrisés et sublimés. \n« Approchez\, ne craignez rien… »\, nous disent ces jeunes artistes. Leurs cœurs ardents ont embrassé la matière pour mieux la métamorphoser. Cette exposition\, première rencontre avec le public\, est leur baptême du feu\, une déclaration d’amour passionnée au verre. Leurs œuvres vibrent de créativité\, de finesse et d’engagement artistique. Elles vous parlent du souffle\, du geste\, du feu et vous transportent dans un monde façonné à la main\, au chalumeau\, au cœur. \nLes artistes exposants\n Justine Ressot (@l_atelier_bariole) : soufflage à la canne Fiona Del Gallo (@princesseglass) : soufflage à la canne\, vitrail Théo Lukas (@le_verre_a_bois) : décoration\, pâte de verre\, ébénisterie Aude Seigneur (@odsgr) : décoration\, pâte de verre\, vitrail Alizée Berthet (@alizee.berthet) : travail à froid\, taille\, décoration Pauline Marchand-Tonel (@pauline_marchandtonel) : vitrail Caroline Moal (@caroo_moal) : soufflage au chalumeau\, verrerie scientifique Mathilde Etienne (@_thildae) : soufflage au chalumeau\, verrerie scientifique Nolwenn Felix (@nolwenn.flx) : soufflage au chalumeau\, verrerie scientifique Pauline Repussard (@pauline.repussard) : soufflage au chalumeau\, verrerie scientifique \nUne exposition du 26 juin au 21 septembre.
URL:https://www.museedupaysdehanau.eu/event/exposition-la-ou-fleurissent-nos-coeurs-ardents/
LOCATION:Musée du Pays de Hanau\, 3 place du Château \, Bouxwiller\, 67330
ATTACH;FMTTYPE=image/jpeg:https://www.museedupaysdehanau.eu/wp-content/uploads/2025/06/0-A4-sans-trait-de-coupe_page-0001-1.jpg
ORGANIZER;CN="Mus%C3%A9e du Pays de Hanau":MAILTO:contact@museedupaysdehanau.eu
END:VEVENT
BEGIN:VEVENT
DTSTART;TZID=Europe/Paris:20250920T100000
DTEND;TZID=Europe/Paris:20250920T170000
DTSTAMP:20260424T173430
CREATED:20250618T121540Z
LAST-MODIFIED:20250618T121540Z
UID:7467-1758362400-1758387600@www.museedupaysdehanau.eu
SUMMARY:Visite immersive « Bouxwiller vue du ciel »
DESCRIPTION:Dans\, le cadre des Journées Européennes du Patrimoine\, prenez de la hauteur avec la visite immersive\, ou le rêve d’Icare accessible à tous ! \nÀ l’aide d’un casque de réalité virtuelle\, confortablement installé(e) dans un transat\, découvrez Bouxwiller vue du ciel. \nLa jolie cité de caractère vous sera offerte sous de nouvelles perspectives grâce à des images captées par un drone. \nLes visiteurs seront accueillis suivant leur ordre d’arrivée : sessions de 10-15 minutes de 10h à 17h (dont une pause d’1h au moment du déjeuner). \nAnimation gratuite\, proposée par Alsace Destination Tourisme. \nLieu de rendez-vous : parvis du Musée du Pays de Hanau
URL:https://www.museedupaysdehanau.eu/event/visite-immersive-bouxwiller-vue-du-ciel-2/
ATTACH;FMTTYPE=image/jpeg:https://www.museedupaysdehanau.eu/wp-content/uploads/2024/05/21-septembre-reve-icare-credits-ADT-e1715694825805.jpg
END:VEVENT
BEGIN:VEVENT
DTSTART;TZID=Europe/Paris:20250920T100000
DTEND;TZID=Europe/Paris:20250920T180000
DTSTAMP:20260424T173430
CREATED:20250517T140826Z
LAST-MODIFIED:20250911T071125Z
UID:7436-1758362400-1758391200@www.museedupaysdehanau.eu
SUMMARY:Journées Européennes du Patrimoine - Visite libre du Musée du Pays de Hanau
DESCRIPTION:(Re)découvrez le Musée du Pays de Hanau qui présente l’histoire\, l’environnement et les arts et traditions populaires du territoire\, dans un magnifique ensemble architectural des XIVe et XVIe siècle. Un parcours de visite immersif et familial vous est proposé afin de découvrir cette région unique\, berceau de la coiffe alsacienne et du bretzel. \nEntrée du Musée gratuite\, pour tous.\nLieu : Musée du Pays de Hanau – 3 place du Château 67330 Bouxwiller
URL:https://www.museedupaysdehanau.eu/event/journees-europeennes-du-patrimoine-visite-libre-du-musee-du-pays-de-hanau/
ATTACH;FMTTYPE=image/jpeg:https://www.museedupaysdehanau.eu/wp-content/uploads/2024/09/JEP-Musee-ouvert-et-visite-guidee-du-5-septembre-photo-Marion_cherot-Sycoparc-e1725719411577.jpg
END:VEVENT
END:VCALENDAR