BEGIN:VCALENDAR
VERSION:2.0
PRODID:-//Bienvenue sur le site du Musée du Pays de Hanau - ECPv6.15.20//NONSGML v1.0//EN
CALSCALE:GREGORIAN
METHOD:PUBLISH
X-ORIGINAL-URL:https://www.museedupaysdehanau.eu
X-WR-CALDESC:Évènements pour Bienvenue sur le site du Musée du Pays de Hanau
REFRESH-INTERVAL;VALUE=DURATION:PT1H
X-Robots-Tag:noindex
X-PUBLISHED-TTL:PT1H
BEGIN:VTIMEZONE
TZID:Europe/Paris
BEGIN:DAYLIGHT
TZOFFSETFROM:+0100
TZOFFSETTO:+0200
TZNAME:CEST
DTSTART:20240331T010000
END:DAYLIGHT
BEGIN:STANDARD
TZOFFSETFROM:+0200
TZOFFSETTO:+0100
TZNAME:CET
DTSTART:20241027T010000
END:STANDARD
BEGIN:DAYLIGHT
TZOFFSETFROM:+0100
TZOFFSETTO:+0200
TZNAME:CEST
DTSTART:20250330T010000
END:DAYLIGHT
BEGIN:STANDARD
TZOFFSETFROM:+0200
TZOFFSETTO:+0100
TZNAME:CET
DTSTART:20251026T010000
END:STANDARD
BEGIN:DAYLIGHT
TZOFFSETFROM:+0100
TZOFFSETTO:+0200
TZNAME:CEST
DTSTART:20260329T010000
END:DAYLIGHT
BEGIN:STANDARD
TZOFFSETFROM:+0200
TZOFFSETTO:+0100
TZNAME:CET
DTSTART:20261025T010000
END:STANDARD
END:VTIMEZONE
BEGIN:VEVENT
DTSTART;TZID=Europe/Paris:20250927T113000
DTEND;TZID=Europe/Paris:20250928T180000
DTSTAMP:20260424T171353
CREATED:20250925T091812Z
LAST-MODIFIED:20250925T091917Z
UID:7544-1758972600-1759082400@www.museedupaysdehanau.eu
SUMMARY:Festival des Sorcières | Animations à retrouver au Musée du Pays de Hanau !
DESCRIPTION:Le 27 et 28 septembre prochain\, venez profiter d’ateliers et d’animations uniques dans nos murs :\n\n\n\n Atelier bricolage pour enfants\nFabrication d’une sorcière et décor d’automne\n Samedi : 13h\, 15h30\, 17h30 | Dimanche : 13h\, 15h\, 17h\nTarif : 12 € – Sur inscription au 06 05 30 06 78\n–\n\n\n Solenmaya – Rencontre avec le Peuple des Dragons\nAu rythme du tambour chamanique\, laissez-vous guider par le souffle du dragon…\n Samedi à 11h30 | Dimanche à 10h30\nTarif : 10 € – Sur inscription au 06 24 29 49 20\n–\n\n\n Dame Héloïse\nTirage de cartes bienveillant et amusant + photo souvenir en costumes médiévaux – en continu\nParticipation libre\n–\n\n\n Jeux de société avec Boux’Jeux\nJeux sur les thèmes du Moyen Âge et de la Renaissance – en continu\nParticipation libre\n\n\n\n Programme complet : https://bouxwiller.eu/festival-des-sorcieres/\n\n\n\nVenez vivre un moment magique en famille ou entre amis !
URL:https://www.museedupaysdehanau.eu/event/festival-des-sorcieres-animations-a-retrouver-au-musee-du-pays-de-hanau/
LOCATION:Musée du Pays de Hanau\, 3 place du Château \, Bouxwiller\, 67330
ATTACH;FMTTYPE=image/jpeg:https://www.museedupaysdehanau.eu/wp-content/uploads/2025/09/548613568_1248643593729949_5224590277833143422_n.jpg
ORGANIZER;CN="Mus%C3%A9e du Pays de Hanau":MAILTO:contact@museedupaysdehanau.eu
END:VEVENT
END:VCALENDAR