BEGIN:VCALENDAR
VERSION:2.0
PRODID:-//Bienvenue sur le site du Musée du Pays de Hanau - ECPv6.15.20//NONSGML v1.0//EN
CALSCALE:GREGORIAN
METHOD:PUBLISH
X-ORIGINAL-URL:https://www.museedupaysdehanau.eu
X-WR-CALDESC:Évènements pour Bienvenue sur le site du Musée du Pays de Hanau
REFRESH-INTERVAL;VALUE=DURATION:PT1H
X-Robots-Tag:noindex
X-PUBLISHED-TTL:PT1H
BEGIN:VTIMEZONE
TZID:Europe/Paris
BEGIN:DAYLIGHT
TZOFFSETFROM:+0100
TZOFFSETTO:+0200
TZNAME:CEST
DTSTART:20240331T010000
END:DAYLIGHT
BEGIN:STANDARD
TZOFFSETFROM:+0200
TZOFFSETTO:+0100
TZNAME:CET
DTSTART:20241027T010000
END:STANDARD
BEGIN:DAYLIGHT
TZOFFSETFROM:+0100
TZOFFSETTO:+0200
TZNAME:CEST
DTSTART:20250330T010000
END:DAYLIGHT
BEGIN:STANDARD
TZOFFSETFROM:+0200
TZOFFSETTO:+0100
TZNAME:CET
DTSTART:20251026T010000
END:STANDARD
BEGIN:DAYLIGHT
TZOFFSETFROM:+0100
TZOFFSETTO:+0200
TZNAME:CEST
DTSTART:20260329T010000
END:DAYLIGHT
BEGIN:STANDARD
TZOFFSETFROM:+0200
TZOFFSETTO:+0100
TZNAME:CET
DTSTART:20261025T010000
END:STANDARD
END:VTIMEZONE
BEGIN:VEVENT
DTSTART;TZID=Europe/Paris:20251004T140000
DTEND;TZID=Europe/Paris:20251004T160000
DTSTAMP:20260424T155843
CREATED:20250917T145615Z
LAST-MODIFIED:20250922T141120Z
UID:7538-1759586400-1759593600@www.museedupaysdehanau.eu
SUMMARY:Kamishibaï au rendez-vous du Relais Petite Enfance
DESCRIPTION: Samedi 4 octobre 2025 – 14h à 16h\n \nDans le cadre de la Semaine du Jeu organisée du 29 septembre au 3 octobre sur le territoire de Hanau-La Petite Pierre\, le Relais Petite Enfance vous donne rendez-vous à Bouxwiller pour une journée familiale et conviviale placée sous le signe du jeu et de la découverte. \nLe Musée s’invite à la fête \nEn partenariat avec le Relais Petite Enfance\, le Musée de Bouxwiller et du Pays de Hanau participera à l’après-midi en proposant des séances de Kamishibaï\, petit théâtre d’images japonais\, autour des légendes locales et des sorcières. \nTrois séances sont au programme : \n Pour les 4-6 ans : 14h – 14h30 \n Pour les 7-10 ans : 14h15 – 14h45 \n Pour les 7-10 ans : 14h30 – 16h \nCes moments de lecture et d’échanges plongeront les enfants dans l’imaginaire et le patrimoine local\, tout en leur offrant une expérience ludique et originale. \nInfos pratiques \n Les inscriptions sont centralisées par le Relais Petite Enfance : \npar mail : rpe@hanau-lapetitepierre.alsace \npar téléphone : 03 88 89 69 50 \nvia la page Facebook de la Maison de la Famille \n L’événement est gratuit et ouvert à toutes les familles du territoire\, dans une ambiance chaleureuse et participative.
URL:https://www.museedupaysdehanau.eu/event/kamishibai-au-rendez-vous-du-relais-petite-enfance/
LOCATION:Bouxwiller
ATTACH;FMTTYPE=image/png:https://www.museedupaysdehanau.eu/wp-content/uploads/2025/09/Slider-Site-Musee-5.png
END:VEVENT
END:VCALENDAR