BEGIN:VCALENDAR
VERSION:2.0
PRODID:-//Bienvenue sur le site du Musée du Pays de Hanau - ECPv6.15.20//NONSGML v1.0//EN
CALSCALE:GREGORIAN
METHOD:PUBLISH
X-ORIGINAL-URL:https://www.museedupaysdehanau.eu
X-WR-CALDESC:Évènements pour Bienvenue sur le site du Musée du Pays de Hanau
REFRESH-INTERVAL;VALUE=DURATION:PT1H
X-Robots-Tag:noindex
X-PUBLISHED-TTL:PT1H
BEGIN:VTIMEZONE
TZID:Europe/Paris
BEGIN:DAYLIGHT
TZOFFSETFROM:+0100
TZOFFSETTO:+0200
TZNAME:CEST
DTSTART:20240331T010000
END:DAYLIGHT
BEGIN:STANDARD
TZOFFSETFROM:+0200
TZOFFSETTO:+0100
TZNAME:CET
DTSTART:20241027T010000
END:STANDARD
BEGIN:DAYLIGHT
TZOFFSETFROM:+0100
TZOFFSETTO:+0200
TZNAME:CEST
DTSTART:20250330T010000
END:DAYLIGHT
BEGIN:STANDARD
TZOFFSETFROM:+0200
TZOFFSETTO:+0100
TZNAME:CET
DTSTART:20251026T010000
END:STANDARD
BEGIN:DAYLIGHT
TZOFFSETFROM:+0100
TZOFFSETTO:+0200
TZNAME:CEST
DTSTART:20260329T010000
END:DAYLIGHT
BEGIN:STANDARD
TZOFFSETFROM:+0200
TZOFFSETTO:+0100
TZNAME:CET
DTSTART:20261025T010000
END:STANDARD
END:VTIMEZONE
BEGIN:VEVENT
DTSTART;TZID=Europe/Paris:20251210T143000
DTEND;TZID=Europe/Paris:20251210T163000
DTSTAMP:20260424T143651
CREATED:20251030T131755Z
LAST-MODIFIED:20251124T131909Z
UID:7662-1765377000-1765384200@www.museedupaysdehanau.eu
SUMMARY:Atelier bricolages de Noël enfants (5-8 ans)
DESCRIPTION:Dans la joie et la bonne humeur\, les enfants entre 5 et 8 ans réaliseront des bricolages de Noël. En compagnie de bénévoles de l’Association des Amis du Musée du Pays de Hanau\, les participants pourront ainsi fabriquer des décorations originales. \nℹ️ Places limitées. Réservation obligatoire au 03 88 00 38 39 ou contact@museedupaysdehanau.eu \nDurée : 2h\nTarif : 5€ goûter offert
URL:https://www.museedupaysdehanau.eu/event/atelier-bricolages-de-noel-enfants-5-8-ans/
LOCATION:Musée du Pays de Hanau\, 3 place du Château \, Bouxwiller\, 67330
ATTACH;FMTTYPE=image/png:https://www.museedupaysdehanau.eu/wp-content/uploads/2025/10/atelier-5-8-ans.png
END:VEVENT
END:VCALENDAR