BEGIN:VCALENDAR
VERSION:2.0
PRODID:-//Bienvenue sur le site du Musée du Pays de Hanau - ECPv6.15.20//NONSGML v1.0//EN
CALSCALE:GREGORIAN
METHOD:PUBLISH
X-WR-CALNAME:Bienvenue sur le site du Musée du Pays de Hanau
X-ORIGINAL-URL:https://www.museedupaysdehanau.eu
X-WR-CALDESC:Évènements pour Bienvenue sur le site du Musée du Pays de Hanau
REFRESH-INTERVAL;VALUE=DURATION:PT1H
X-Robots-Tag:noindex
X-PUBLISHED-TTL:PT1H
BEGIN:VTIMEZONE
TZID:Europe/Paris
BEGIN:DAYLIGHT
TZOFFSETFROM:+0100
TZOFFSETTO:+0200
TZNAME:CEST
DTSTART:20240331T010000
END:DAYLIGHT
BEGIN:STANDARD
TZOFFSETFROM:+0200
TZOFFSETTO:+0100
TZNAME:CET
DTSTART:20241027T010000
END:STANDARD
BEGIN:DAYLIGHT
TZOFFSETFROM:+0100
TZOFFSETTO:+0200
TZNAME:CEST
DTSTART:20250330T010000
END:DAYLIGHT
BEGIN:STANDARD
TZOFFSETFROM:+0200
TZOFFSETTO:+0100
TZNAME:CET
DTSTART:20251026T010000
END:STANDARD
BEGIN:DAYLIGHT
TZOFFSETFROM:+0100
TZOFFSETTO:+0200
TZNAME:CEST
DTSTART:20260329T010000
END:DAYLIGHT
BEGIN:STANDARD
TZOFFSETFROM:+0200
TZOFFSETTO:+0100
TZNAME:CET
DTSTART:20261025T010000
END:STANDARD
END:VTIMEZONE
BEGIN:VEVENT
DTSTART;TZID=Europe/Paris:20251217T143000
DTEND;TZID=Europe/Paris:20251217T163000
DTSTAMP:20260424T130840
CREATED:20251030T132234Z
LAST-MODIFIED:20251217T095021Z
UID:7665-1765981800-1765989000@www.museedupaysdehanau.eu
SUMMARY:Atelier décorations de Noël enfants (7-12 ans)
DESCRIPTION:❌ Annulé ❌ \nPlongez dans la magie de Noël avec les médiatrices du musée ! Les enfants découvriront un magnifique traîneau du 18e siècle\, orné de décors peints. Ce traîneau les transportera au temps des princes de Hesse-Darmstadt et de leurs promenades dans les paysages enneigés.\nAprès cette parenthèse historique\, les enfants laisseront libre cours à leur imagination. Munis de ciseaux\, colles\, gommettes\, rubans\, paillettes et feutres\, ils fabriqueront leur propre traîneau en papier qu’ils pourront décorer et personnaliser selon leurs envies. \nℹ️ Places limitées. Réservation obligatoire au 03 88 00 38 39 ou contact@museedupaysdehanau.eu \nDurée : 2h\nTarif : 5€ goûter offert
URL:https://www.museedupaysdehanau.eu/event/atelier-decorations-de-noel-enfants-7-12-ans/
LOCATION:Musée du Pays de Hanau\, 3 place du Château \, Bouxwiller\, 67330
ATTACH;FMTTYPE=image/png:https://www.museedupaysdehanau.eu/wp-content/uploads/2025/10/atelier-7-12-ans.png
END:VEVENT
END:VCALENDAR