BEGIN:VCALENDAR
VERSION:2.0
PRODID:-//Bienvenue sur le site du Musée du Pays de Hanau - ECPv6.15.20//NONSGML v1.0//EN
CALSCALE:GREGORIAN
METHOD:PUBLISH
X-WR-CALNAME:Bienvenue sur le site du Musée du Pays de Hanau
X-ORIGINAL-URL:https://www.museedupaysdehanau.eu
X-WR-CALDESC:Évènements pour Bienvenue sur le site du Musée du Pays de Hanau
REFRESH-INTERVAL;VALUE=DURATION:PT1H
X-Robots-Tag:noindex
X-PUBLISHED-TTL:PT1H
BEGIN:VTIMEZONE
TZID:Europe/Paris
BEGIN:DAYLIGHT
TZOFFSETFROM:+0100
TZOFFSETTO:+0200
TZNAME:CEST
DTSTART:20250330T010000
END:DAYLIGHT
BEGIN:STANDARD
TZOFFSETFROM:+0200
TZOFFSETTO:+0100
TZNAME:CET
DTSTART:20251026T010000
END:STANDARD
BEGIN:DAYLIGHT
TZOFFSETFROM:+0100
TZOFFSETTO:+0200
TZNAME:CEST
DTSTART:20260329T010000
END:DAYLIGHT
BEGIN:STANDARD
TZOFFSETFROM:+0200
TZOFFSETTO:+0100
TZNAME:CET
DTSTART:20261025T010000
END:STANDARD
BEGIN:DAYLIGHT
TZOFFSETFROM:+0100
TZOFFSETTO:+0200
TZNAME:CEST
DTSTART:20270328T010000
END:DAYLIGHT
BEGIN:STANDARD
TZOFFSETFROM:+0200
TZOFFSETTO:+0100
TZNAME:CET
DTSTART:20271031T010000
END:STANDARD
END:VTIMEZONE
BEGIN:VEVENT
DTSTART;TZID=Europe/Paris:20260228T140000
DTEND;TZID=Europe/Paris:20261025T180000
DTSTAMP:20260424T101735
CREATED:20260130T131740Z
LAST-MODIFIED:20260130T131740Z
UID:7872-1772287200-1792951200@www.museedupaysdehanau.eu
SUMMARY:Exposition "Costumes et Images d’Alsace\, se vêtir en Pays de Hanau"
DESCRIPTION:Pour la toute première fois\, une exposition analyse l’histoire\, l’évolution et les enjeux derrière les costumes régionaux portés en Pays de Hanau. \nLe Musée du Pays de Hanau présente une grande exposition sur le costume régional\, grâce à un important chantier des collections sur près de 3 000 pièces textiles —entre 2022 et 2024 – ayant étudié les trésors redécouverts. \nÀ partir des pièces vestimentaires portées sur le territoire\, de leurs évolutions et spécificités formelles\, l’exposition s’intéresse aux usagers et fonctions derrière la variété des étoffes\, des broderies et l’infinité des techniques employées. \nLe textile peut-il retracer des parcours de vie ? Comment est née la coiffe à grand nœud noire ? Les réappropriations\, artistiques\, historiques ou encore folkloriques\, permettront aussi de saisir la richesse\, la longévité et les sources d’inspiration que constitue cette histoire textile locale. \nCe sont près de 300 œuvres qui sont présentées dans l’espace d’exposition temporaire\, dont une large majorité rotationnent à mi-parcours. C’est l’occasion d’admirer de nouvelles pièces venant renouveler le discours\, offrant quasiment une deuxième exposition. \nAssociée à l’exposition\, une programmation variée s’étend sur huit mois. Elle comprend visites\, conférences\, animations\, ateliers\, et même une exposition complémentaire au sein du parcours permanent. Celle-ci présente le regard des personnes accompagnées par la maison Picasso du centre Harthouse et du FHTH J.F. Oberlin de la fondation du Sonnenhof. \nUne exposition organisée par le Musée du Pays de Hanau de Bouxwiller avec l’appui du Service de Conservation du PNRVN.
URL:https://www.museedupaysdehanau.eu/event/exposition-costumes-et-images-dalsace-se-vetir-en-pays-de-hanau/
LOCATION:Musée du Pays de Hanau\, 3 place du Château \, Bouxwiller\, 67330
ATTACH;FMTTYPE=image/png:https://www.museedupaysdehanau.eu/wp-content/uploads/2026/01/Slider-Site-Musee-12.png
END:VEVENT
BEGIN:VEVENT
DTSTART;TZID=Europe/Paris:20260503T100000
DTEND;TZID=Europe/Paris:20260503T173000
DTSTAMP:20260424T101735
CREATED:20260202T105324Z
LAST-MODIFIED:20260414T123923Z
UID:7902-1777802400-1777829400@www.museedupaysdehanau.eu
SUMMARY:Atelier couture : confectionnez votre jupe
DESCRIPTION:Par Claire Brandin costumière et corsetière\nSortez vos machines à coudre et rejoignez Claire Brandin pour une journée créative !\nElle vous guidera pas à pas dans la confection d’une jupe à plis religieuse\, idéale pour la belle saison.\nChaque participante repartira avec sa propre création\, prête à rejoindre sa garde-robe estivale. \nRepas tiré du sac\nChaque participant devra apporter sa machine à coudre.\nNiveau intermédiaire requis : cet atelier n’est pas adapté aux débutants. \nTarif : 40€ par personne\nPublic : Adulte\nPlaces limitées. Réservations obligatoires au 03 88 00 38 39 ou contact@museedupaysdehanau.eu
URL:https://www.museedupaysdehanau.eu/event/atelier-couture-confectionnez-votre-jupe/
LOCATION:Musée du Pays de Hanau\, 3 place du Château \, Bouxwiller\, 67330
ATTACH;FMTTYPE=image/jpeg:https://www.museedupaysdehanau.eu/wp-content/uploads/2026/02/cours_prives_12.jpg
END:VEVENT
BEGIN:VEVENT
DTSTART;TZID=Europe/Paris:20260510T110000
DTEND;TZID=Europe/Paris:20260510T190000
DTSTAMP:20260424T101735
CREATED:20260217T100643Z
LAST-MODIFIED:20260217T100643Z
UID:8070-1778410800-1778439600@www.museedupaysdehanau.eu
SUMMARY:Entrée du Musée à tarif réduit
DESCRIPTION:Exceptionnellement durant le Marché de Printemps\, le Musée sera ouvert aux mêmes horaires\, de 11h à 19h\, et proposera l’entrée à tarif réduit pour tous.
URL:https://www.museedupaysdehanau.eu/event/entree-du-musee-a-tarif-reduit/
LOCATION:Musée du Pays de Hanau\, 3 place du Château \, Bouxwiller\, 67330
END:VEVENT
BEGIN:VEVENT
DTSTART;TZID=Europe/Paris:20260517T150000
DTEND;TZID=Europe/Paris:20260517T150000
DTSTAMP:20260424T101735
CREATED:20260202T123718Z
LAST-MODIFIED:20260202T123718Z
UID:7905-1779030000-1779030000@www.museedupaysdehanau.eu
SUMMARY:Visite guidée de l’exposition en alsacien
DESCRIPTION:Accompagnés de Laure Lickel\, guide dialectophone\, parcourez l’exposition temporaire consacrée au costume régional du Pays de Hanau. Suite à un grand chantier des collections\, le musée vous propose d’explorer les multiples facettes du costume\, de découvrir les pièces qui le composent\, son évolution ou encore ses différentes représentations. \nPlaces limitées. Réservation obligatoire au 03 88 00 38 39 ou contact@museedupaysdehanau.eu\nTarif : prix de l’entrée du musée\nDurée : 1h
URL:https://www.museedupaysdehanau.eu/event/visite-guidee-de-lexposition-en-alsacien/
LOCATION:Musée du Pays de Hanau\, 3 place du Château \, Bouxwiller\, 67330
ATTACH;FMTTYPE=image/jpeg:https://www.museedupaysdehanau.eu/wp-content/uploads/2026/02/17-05-26-VG-expo-en-alsacien-photo-Musee-du-Pays-de-Hanau--scaled.jpg
END:VEVENT
BEGIN:VEVENT
DTSTART;TZID=Europe/Paris:20260523T190000
DTEND;TZID=Europe/Paris:20260523T230000
DTSTAMP:20260424T101735
CREATED:20260202T124655Z
LAST-MODIFIED:20260202T124655Z
UID:7908-1779562800-1779577200@www.museedupaysdehanau.eu
SUMMARY:Nuit européenne des Musées
DESCRIPTION:De 19h à 23h – Visite libre\, entrée gratuite pour tous\nDécouvrez ou redécouvrez ce beau Musée installé dans un ensemble architectural inscrit aux Monuments historiques. \nDe 20h30 à 21h30 – Démonstration de nouage de coiffe – Gratuit\nLe Groupe Folklorique du Pays de Hanau de Bouxwiller vous révèlera les secrets de la célèbre coiffe noire à grand nœud. Les bénévoles vous montreront comment nouer le ruban sur le bonnet pour obtenir cette coiffe devenue symbole de l’Alsace. N’hésitez pas à apporter vos bonnets et rubans de famille pour nouer votre coiffe avec l’aide des bénévoles.
URL:https://www.museedupaysdehanau.eu/event/nuit-europeenne-des-musees-3/
LOCATION:Musée du Pays de Hanau\, 3 place du Château \, Bouxwiller\, 67330
ATTACH;FMTTYPE=image/jpeg:https://www.museedupaysdehanau.eu/wp-content/uploads/2026/02/23-05-26-nouage-coiffe-photo-Groupe-Folklorique-du-Pays-de-Hanau-de-Bouxwiller-scaled.jpg
END:VEVENT
BEGIN:VEVENT
DTSTART;VALUE=DATE:20260617
DTEND;VALUE=DATE:20261026
DTSTAMP:20260424T101735
CREATED:20260202T131038Z
LAST-MODIFIED:20260202T131038Z
UID:7914-1781654400-1792972799@www.museedupaysdehanau.eu
SUMMARY:Exposition « Mon Alsace en costume\, Min Elsàss in Tràcht»
DESCRIPTION:La Maison Picasso du Centre Harthouse et le FHTH J.F. Oberlin de la fondation du Sonnenhof vous offrent un nouveau regard sur le costume régional.\nAprès des visites au Musée du Pays de Hanau et des ateliers créatifs\, les personnes accompagnées ont été invitées à s’exprimer artistiquement sur le thème « Mon Alsace en costume ». Portées par leur imaginaire et leur créativité\, ils nous invitent à redécouvrir les tenues traditionnelles sous d’œuvres d’art plastique. \nTarif : prix de l’entrée du musée
URL:https://www.museedupaysdehanau.eu/event/exposition-mon-alsace-en-costume-min-elsass-in-tracht/
LOCATION:Musée du Pays de Hanau\, 3 place du Château \, Bouxwiller\, 67330
ATTACH;FMTTYPE=image/jpeg:https://www.museedupaysdehanau.eu/wp-content/uploads/2026/02/17-06-26-defile-credit-Matou-Photographe-scaled.jpg
END:VEVENT
BEGIN:VEVENT
DTSTART;TZID=Europe/Paris:20260617T180000
DTEND;TZID=Europe/Paris:20260617T180000
DTSTAMP:20260424T101735
CREATED:20260202T125510Z
LAST-MODIFIED:20260202T125510Z
UID:7911-1781719200-1781719200@www.museedupaysdehanau.eu
SUMMARY:Inauguration de l’exposition « Mon Alsace en costume\, Min Elsàss in Tràcht » Défilé « le costume revisité » de la marque Geht’s in créée par la costumière Rita Tataï
DESCRIPTION:La Maison Picasso du Centre Harthouse et le FHTH J.F. Oberlin de la fondation du Sonnenhof vous offrent un nouveau regard sur le costume régional.\nAprès des visites au Musée du Pays de Hanau et des ateliers créatifs\, les personnes accompagnées ont été invitées à s’exprimer artistiquement sur le thème « Mon Alsace en costume ». \nPortées par leur imaginaire et leur créativité\, les personnes accompagnées ont réalisé des œuvres d’art plastique qui nous invitent à redécouvrir les tenues traditionnelles.\nL’inauguration se fera en compagnie de la costumière Rita Tataï\, créatrice de la marque Geht’s in qui revisite le costume régional.\nLes artistes défileront pour vous présenter les tenues Geht’s in dans une ambiance conviviale. \nTarif : Gratuit
URL:https://www.museedupaysdehanau.eu/event/inauguration-de-lexposition-mon-alsace-en-costume-min-elsass-in-tracht-defile-le-costume-revisite-de-la-marque-gehts-in-creee-par-la-costumiere-rita-tata/
LOCATION:Musée du Pays de Hanau\, 3 place du Château \, Bouxwiller\, 67330
ATTACH;FMTTYPE=image/jpeg:https://www.museedupaysdehanau.eu/wp-content/uploads/2026/02/17-06-26-defile-credit-Matou-Photographe-scaled.jpg
END:VEVENT
BEGIN:VEVENT
DTSTART;TZID=Europe/Paris:20260709T143000
DTEND;TZID=Europe/Paris:20260709T143000
DTSTAMP:20260424T101735
CREATED:20260202T132152Z
LAST-MODIFIED:20260202T132152Z
UID:7917-1783607400-1783607400@www.museedupaysdehanau.eu
SUMMARY:Visite guidée « À la découverte du Musée du Pays de Hanau »
DESCRIPTION:Le Pays de Hanau est le berceau des symboles de l’Alsace. Saviez-vous que le bretzel et la coiffe traditionnelle\, avec son grand nœud noir\, sont originaires du Pays de Hanau ? Ou encore que Bouxwiller a été autrefois une capitale princière et rayonnait sur un grand territoire de part et d’autre du Rhin ? Découvrez la riche histoire du Pays de Hanau dans un magnifique cadre architectural datant des 14ème et 16ème siècles\, en compagnie d’une de nos guides du Musée. \nDurée : 1h\nTarif : Entrée du Musée\nPlaces limitées. Réservation obligatoire au 03 88 00 38 39 ou contact@museedupaysdehanau.eu
URL:https://www.museedupaysdehanau.eu/event/visite-guidee-a-la-decouverte-du-musee-du-pays-de-hanau-13/
LOCATION:Musée du Pays de Hanau\, 3 place du Château \, Bouxwiller\, 67330
ATTACH;FMTTYPE=image/jpeg:https://www.museedupaysdehanau.eu/wp-content/uploads/2026/02/visite-musee-photo-Marion_cherot-Sycoparc.jpg
END:VEVENT
BEGIN:VEVENT
DTSTART;TZID=Europe/Paris:20260716T143000
DTEND;TZID=Europe/Paris:20260716T143000
DTSTAMP:20260424T101735
CREATED:20260202T132226Z
LAST-MODIFIED:20260202T132226Z
UID:7920-1784212200-1784212200@www.museedupaysdehanau.eu
SUMMARY:Visite guidée « À la découverte du Musée du Pays de Hanau »
DESCRIPTION:Le Pays de Hanau est le berceau des symboles de l’Alsace. Saviez-vous que le bretzel et la coiffe traditionnelle\, avec son grand nœud noir\, sont originaires du Pays de Hanau ? Ou encore que Bouxwiller a été autrefois une capitale princière et rayonnait sur un grand territoire de part et d’autre du Rhin ? Découvrez la riche histoire du Pays de Hanau dans un magnifique cadre architectural datant des 14ème et 16ème siècles\, en compagnie d’une de nos guides du Musée. \nDurée : 1h\nTarif : Entrée du Musée\nPlaces limitées. Réservation obligatoire au 03 88 00 38 39 ou contact@museedupaysdehanau.eu
URL:https://www.museedupaysdehanau.eu/event/visite-guidee-a-la-decouverte-du-musee-du-pays-de-hanau-14/
LOCATION:Musée du Pays de Hanau\, 3 place du Château \, Bouxwiller\, 67330
ATTACH;FMTTYPE=image/jpeg:https://www.museedupaysdehanau.eu/wp-content/uploads/2026/02/visite-musee-photo-Marion_cherot-Sycoparc.jpg
END:VEVENT
BEGIN:VEVENT
DTSTART;TZID=Europe/Paris:20260723T143000
DTEND;TZID=Europe/Paris:20260723T143000
DTSTAMP:20260424T101735
CREATED:20260202T132301Z
LAST-MODIFIED:20260202T132301Z
UID:7922-1784817000-1784817000@www.museedupaysdehanau.eu
SUMMARY:Visite guidée « À la découverte du Musée du Pays de Hanau »
DESCRIPTION:Le Pays de Hanau est le berceau des symboles de l’Alsace. Saviez-vous que le bretzel et la coiffe traditionnelle\, avec son grand nœud noir\, sont originaires du Pays de Hanau ? Ou encore que Bouxwiller a été autrefois une capitale princière et rayonnait sur un grand territoire de part et d’autre du Rhin ? Découvrez la riche histoire du Pays de Hanau dans un magnifique cadre architectural datant des 14ème et 16ème siècles\, en compagnie d’une de nos guides du Musée. \nDurée : 1h\nTarif : Entrée du Musée\nPlaces limitées. Réservation obligatoire au 03 88 00 38 39 ou contact@museedupaysdehanau.eu
URL:https://www.museedupaysdehanau.eu/event/visite-guidee-a-la-decouverte-du-musee-du-pays-de-hanau-15/
LOCATION:Musée du Pays de Hanau\, 3 place du Château \, Bouxwiller\, 67330
ATTACH;FMTTYPE=image/jpeg:https://www.museedupaysdehanau.eu/wp-content/uploads/2026/02/visite-musee-photo-Marion_cherot-Sycoparc.jpg
END:VEVENT
BEGIN:VEVENT
DTSTART;TZID=Europe/Paris:20260730T143000
DTEND;TZID=Europe/Paris:20260730T143000
DTSTAMP:20260424T101735
CREATED:20260202T132331Z
LAST-MODIFIED:20260202T132331Z
UID:7924-1785421800-1785421800@www.museedupaysdehanau.eu
SUMMARY:Visite guidée « À la découverte du Musée du Pays de Hanau »
DESCRIPTION:Le Pays de Hanau est le berceau des symboles de l’Alsace. Saviez-vous que le bretzel et la coiffe traditionnelle\, avec son grand nœud noir\, sont originaires du Pays de Hanau ? Ou encore que Bouxwiller a été autrefois une capitale princière et rayonnait sur un grand territoire de part et d’autre du Rhin ? Découvrez la riche histoire du Pays de Hanau dans un magnifique cadre architectural datant des 14ème et 16ème siècles\, en compagnie d’une de nos guides du Musée. \nDurée : 1h\nTarif : Entrée du Musée\nPlaces limitées. Réservation obligatoire au 03 88 00 38 39 ou contact@museedupaysdehanau.eu
URL:https://www.museedupaysdehanau.eu/event/visite-guidee-a-la-decouverte-du-musee-du-pays-de-hanau-16/
LOCATION:Musée du Pays de Hanau\, 3 place du Château \, Bouxwiller\, 67330
ATTACH;FMTTYPE=image/jpeg:https://www.museedupaysdehanau.eu/wp-content/uploads/2026/02/visite-musee-photo-Marion_cherot-Sycoparc.jpg
END:VEVENT
BEGIN:VEVENT
DTSTART;TZID=Europe/Paris:20260806T143000
DTEND;TZID=Europe/Paris:20260806T143000
DTSTAMP:20260424T101735
CREATED:20260202T133747Z
LAST-MODIFIED:20260202T133747Z
UID:7926-1786026600-1786026600@www.museedupaysdehanau.eu
SUMMARY:Visite guidée de l’exposition « Costumes et Images d’Alsace\, se vêtir en pays de Hanau »
DESCRIPTION:Accompagnés d’un guide du musée\, parcourez l’exposition temporaire consacrée au costume régional du Pays de Hanau. Suite à un grand chantier des collections\, le musée vous propose d’explorer les multiples facettes du costume\, de découvrir les pièces qui le composent\, son évolution ou encore ses différentes représentations. \nDurée : 1h \nTarif : Entrée du Musée \nPlaces limitées. Réservation obligatoire au 03 88 00 38 39 ou contact@museedupaysdehanau.eu
URL:https://www.museedupaysdehanau.eu/event/visite-guidee-de-lexposition-costumes-et-images-dalsace-se-vetir-en-pays-de-hanau/
LOCATION:Musée du Pays de Hanau\, 3 place du Château \, Bouxwiller\, 67330
ATTACH;FMTTYPE=image/jpeg:https://www.museedupaysdehanau.eu/wp-content/uploads/2026/02/VG-expo-costume-photo-Musee-du-Pays-de-Hanau--scaled.jpg
END:VEVENT
BEGIN:VEVENT
DTSTART;TZID=Europe/Paris:20260813T143000
DTEND;TZID=Europe/Paris:20260813T143000
DTSTAMP:20260424T101735
CREATED:20260202T133825Z
LAST-MODIFIED:20260202T133825Z
UID:7929-1786631400-1786631400@www.museedupaysdehanau.eu
SUMMARY:Visite guidée de l’exposition « Costumes et Images d’Alsace\, se vêtir en pays de Hanau »
DESCRIPTION:Accompagnés d’un guide du musée\, parcourez l’exposition temporaire consacrée au costume régional du Pays de Hanau. Suite à un grand chantier des collections\, le musée vous propose d’explorer les multiples facettes du costume\, de découvrir les pièces qui le composent\, son évolution ou encore ses différentes représentations. \nDurée : 1h \nTarif : Entrée du Musée \nPlaces limitées. Réservation obligatoire au 03 88 00 38 39 ou contact@museedupaysdehanau.eu
URL:https://www.museedupaysdehanau.eu/event/visite-guidee-de-lexposition-costumes-et-images-dalsace-se-vetir-en-pays-de-hanau-2/
LOCATION:Musée du Pays de Hanau\, 3 place du Château \, Bouxwiller\, 67330
ATTACH;FMTTYPE=image/jpeg:https://www.museedupaysdehanau.eu/wp-content/uploads/2026/02/VG-expo-costume-photo-Musee-du-Pays-de-Hanau--scaled.jpg
END:VEVENT
BEGIN:VEVENT
DTSTART;TZID=Europe/Paris:20260820T143000
DTEND;TZID=Europe/Paris:20260820T143000
DTSTAMP:20260424T101735
CREATED:20260202T133852Z
LAST-MODIFIED:20260202T133852Z
UID:7931-1787236200-1787236200@www.museedupaysdehanau.eu
SUMMARY:Visite guidée de l’exposition « Costumes et Images d’Alsace\, se vêtir en pays de Hanau »
DESCRIPTION:Accompagnés d’un guide du musée\, parcourez l’exposition temporaire consacrée au costume régional du Pays de Hanau. Suite à un grand chantier des collections\, le musée vous propose d’explorer les multiples facettes du costume\, de découvrir les pièces qui le composent\, son évolution ou encore ses différentes représentations. \nDurée : 1h \nTarif : Entrée du Musée \nPlaces limitées. Réservation obligatoire au 03 88 00 38 39 ou contact@museedupaysdehanau.eu
URL:https://www.museedupaysdehanau.eu/event/visite-guidee-de-lexposition-costumes-et-images-dalsace-se-vetir-en-pays-de-hanau-3/
LOCATION:Musée du Pays de Hanau\, 3 place du Château \, Bouxwiller\, 67330
ATTACH;FMTTYPE=image/jpeg:https://www.museedupaysdehanau.eu/wp-content/uploads/2026/02/VG-expo-costume-photo-Musee-du-Pays-de-Hanau--scaled.jpg
END:VEVENT
BEGIN:VEVENT
DTSTART;TZID=Europe/Paris:20260827T143000
DTEND;TZID=Europe/Paris:20260827T143000
DTSTAMP:20260424T101735
CREATED:20260202T133926Z
LAST-MODIFIED:20260202T133926Z
UID:7933-1787841000-1787841000@www.museedupaysdehanau.eu
SUMMARY:Visite guidée de l’exposition « Costumes et Images d’Alsace\, se vêtir en pays de Hanau »
DESCRIPTION:Accompagnés d’un guide du musée\, parcourez l’exposition temporaire consacrée au costume régional du Pays de Hanau. Suite à un grand chantier des collections\, le musée vous propose d’explorer les multiples facettes du costume\, de découvrir les pièces qui le composent\, son évolution ou encore ses différentes représentations. \nDurée : 1h \nTarif : Entrée du Musée \nPlaces limitées. Réservation obligatoire au 03 88 00 38 39 ou contact@museedupaysdehanau.eu
URL:https://www.museedupaysdehanau.eu/event/visite-guidee-de-lexposition-costumes-et-images-dalsace-se-vetir-en-pays-de-hanau-4/
LOCATION:Musée du Pays de Hanau\, 3 place du Château \, Bouxwiller\, 67330
ATTACH;FMTTYPE=image/jpeg:https://www.museedupaysdehanau.eu/wp-content/uploads/2026/02/VG-expo-costume-photo-Musee-du-Pays-de-Hanau--scaled.jpg
END:VEVENT
BEGIN:VEVENT
DTSTART;TZID=Europe/Paris:20260903T143000
DTEND;TZID=Europe/Paris:20260903T143000
DTSTAMP:20260424T101735
CREATED:20260202T134000Z
LAST-MODIFIED:20260202T134000Z
UID:7935-1788445800-1788445800@www.museedupaysdehanau.eu
SUMMARY:Visite guidée de l’exposition « Costumes et Images d’Alsace\, se vêtir en pays de Hanau »
DESCRIPTION:Accompagnés d’un guide du musée\, parcourez l’exposition temporaire consacrée au costume régional du Pays de Hanau. Suite à un grand chantier des collections\, le musée vous propose d’explorer les multiples facettes du costume\, de découvrir les pièces qui le composent\, son évolution ou encore ses différentes représentations. \nDurée : 1h \nTarif : Entrée du Musée \nPlaces limitées. Réservation obligatoire au 03 88 00 38 39 ou contact@museedupaysdehanau.eu
URL:https://www.museedupaysdehanau.eu/event/visite-guidee-de-lexposition-costumes-et-images-dalsace-se-vetir-en-pays-de-hanau-5/
LOCATION:Musée du Pays de Hanau\, 3 place du Château \, Bouxwiller\, 67330
ATTACH;FMTTYPE=image/jpeg:https://www.museedupaysdehanau.eu/wp-content/uploads/2026/02/VG-expo-costume-photo-Musee-du-Pays-de-Hanau--scaled.jpg
END:VEVENT
BEGIN:VEVENT
DTSTART;VALUE=DATE:20260919
DTEND;VALUE=DATE:20260921
DTSTAMP:20260424T101735
CREATED:20260202T135026Z
LAST-MODIFIED:20260202T135026Z
UID:7937-1789776000-1789948799@www.museedupaysdehanau.eu
SUMMARY:Journées européennes du Patrimoine Visite libre du Musée du Pays de Hanau
DESCRIPTION:Visite libre du Musée du Pays de Hanau \n(Re)découvrez le Musée du Pays de Hanau qui présente l’histoire\, l’environnement et les arts et traditions populaires du territoire\, dans un magnifique ensemble architectural des XIVe et XVIe siècle. Un parcours de visite immersif et familial vous est proposé afin de découvrir cette région unique\, berceau de la coiffe noire à grand nœud et du bretzel. \nEntrée du Musée gratuite\, pour tous. \nSur horaires du Musée : 14h-18h.
URL:https://www.museedupaysdehanau.eu/event/journees-europeennes-du-patrimoine-visite-libre-du-musee-du-pays-de-hanau-3/
LOCATION:Musée du Pays de Hanau\, 3 place du Château \, Bouxwiller\, 67330
ATTACH;FMTTYPE=image/jpeg:https://www.museedupaysdehanau.eu/wp-content/uploads/2026/02/VG-expo-costume-photo-Musee-du-Pays-de-Hanau--scaled.jpg
END:VEVENT
BEGIN:VEVENT
DTSTART;TZID=Europe/Paris:20261004T150000
DTEND;TZID=Europe/Paris:20261004T150000
DTSTAMP:20260424T101735
CREATED:20260202T135741Z
LAST-MODIFIED:20260202T135741Z
UID:7939-1791126000-1791126000@www.museedupaysdehanau.eu
SUMMARY:Les coulisses de l’exposition « Costumes et Images d’Alsace\, se vêtir en pays de Hanau »
DESCRIPTION:Par Gaëlle Rybienik\, commissaire d’exposition\nAccompagnés de la commissaire de l’exposition\, la visite vous propose de découvrir les enjeux derrière la coordination d’une exposition : choix des œuvres\, scénario de visite\, lien avec le chantier des collections… Venez découvrir l’envers du décor et des informations inédites sur les pièces exposées ou les liens avec la scénographie. \nDurée : 1h\nTarif : Entrée du Musée\nPlaces limitées. Réservation obligatoire au 03 88 00 38 39 ou contact@museedupaysdehanau.eu
URL:https://www.museedupaysdehanau.eu/event/les-coulisses-de-lexposition-costumes-et-images-dalsace-se-vetir-en-pays-de-hanau/
LOCATION:Musée du Pays de Hanau\, 3 place du Château \, Bouxwiller\, 67330
ATTACH;FMTTYPE=image/jpeg:https://www.museedupaysdehanau.eu/wp-content/uploads/2026/02/04-10-25-visite-guidee-Gaelle-Rybienik-scaled.jpg
END:VEVENT
BEGIN:VEVENT
DTSTART;TZID=Europe/Paris:20261011T140000
DTEND;TZID=Europe/Paris:20261011T170000
DTSTAMP:20260424T101735
CREATED:20260202T141206Z
LAST-MODIFIED:20260202T141206Z
UID:7942-1791727200-1791738000@www.museedupaysdehanau.eu
SUMMARY:Broder un patch fleuri – Atelier de broderie contemporaine
DESCRIPTION:Par Claire Barberot\, brodeuse\nDécouvrez la broderie avec Claire Barberot. Vous réaliserez un patch orné de motifs floraux\, à emporter et coudre ensuite chez vous sur un vêtement ou un accessoire\, pour le réparer ou lui apporter une touche unique.\nLes débutants sont les bienvenus ! \nTarif : 10€ par personne\nPublic : Adultes et adolescents à partir de 14 ans\nPlaces limitées. Réservation obligatoire au 03 88 00 38 39 ou contact@museedupaysdehanau.eu
URL:https://www.museedupaysdehanau.eu/event/broder-un-patch-fleuri-atelier-de-broderie-contemporaine/
LOCATION:Musée du Pays de Hanau\, 3 place du Château \, Bouxwiller\, 67330
ATTACH;FMTTYPE=image/jpeg:https://www.museedupaysdehanau.eu/wp-content/uploads/2026/02/11-10-25-Brodez-votre-patch-fleuri-photo-Claire-Barberot-scaled.jpg
END:VEVENT
BEGIN:VEVENT
DTSTART;TZID=Europe/Paris:20261014T100000
DTEND;TZID=Europe/Paris:20261014T104500
DTSTAMP:20260424T101735
CREATED:20260202T141438Z
LAST-MODIFIED:20260202T141438Z
UID:7945-1791972000-1791974700@www.museedupaysdehanau.eu
SUMMARY:Visite contée de l’exposition « Les petits habits de Joseph »
DESCRIPTION:Ecoutez le conte « Joseph avait un petit manteau » et explorez l’exposition sur le costume régional. Les enfants découvriront le vocabulaire lié au costume régional de fête de Pays de Hanau. \nTarif : Gratuit pour les enfants et prix de l’entrée du musée pour les parents\nDurée : 45 min\nPublic : enfants de 4 à 6 ans et adapté au public en situation de handicap mental\nProposé dans le cadre de la programmation Éveil des sens\nPlaces limitées. Réservations obligatoires au 03 88 00 38 39 ou contact@museedupaysdehanau.eu
URL:https://www.museedupaysdehanau.eu/event/visite-contee-de-lexposition-les-petits-habits-de-joseph/
LOCATION:Musée du Pays de Hanau\, 3 place du Château \, Bouxwiller\, 67330
ATTACH;FMTTYPE=image/jpeg:https://www.museedupaysdehanau.eu/wp-content/uploads/2026/02/14-10-26-Laura-Neves-23-scaled.jpg
END:VEVENT
BEGIN:VEVENT
DTSTART;TZID=Europe/Paris:20261021T100000
DTEND;TZID=Europe/Paris:20261021T110000
DTSTAMP:20260424T101735
CREATED:20260202T142158Z
LAST-MODIFIED:20260202T142158Z
UID:7949-1792576800-1792580400@www.museedupaysdehanau.eu
SUMMARY:Visite contée de l’exposition « Des costumes hauts en couleur »
DESCRIPTION:Ecoutez le conte « Les habits neufs de l’Empereur » puis explorez l’exposition sur le costume régional. Les enfants observeront la diversité des matières\, des couleurs et des motifs présents sur les textiles anciens. \nTarif : Gratuit pour les enfants et prix de l’entrée du musée pour les parents\nDurée : 1h\nPublic : enfants de 7 à 10 ans\nProposé dans le cadre de la programmation Éveil des sens\nPlaces limitées. Réservations obligatoires au 03 88 00 38 39 ou contact@museedupaysdehanau.eu
URL:https://www.museedupaysdehanau.eu/event/visite-contee-de-lexposition-des-costumes-hauts-en-couleur/
LOCATION:Musée du Pays de Hanau\, 3 place du Château \, Bouxwiller\, 67330
ATTACH;FMTTYPE=image/jpeg:https://www.museedupaysdehanau.eu/wp-content/uploads/2026/02/21-10-26-visite-contee-Photo-Melanie-Le-Hir-scaled.jpg
END:VEVENT
BEGIN:VEVENT
DTSTART;TZID=Europe/Paris:20261025T150000
DTEND;TZID=Europe/Paris:20261025T150000
DTSTAMP:20260424T101735
CREATED:20260202T142813Z
LAST-MODIFIED:20260202T142813Z
UID:7952-1792940400-1792940400@www.museedupaysdehanau.eu
SUMMARY:Conférence Textiles en Pays de Hanau\, les enjeux d'une collection de costumes
DESCRIPTION:Par Gaëlle Rybienik attachée de conservation au Parc naturel régional des Vosges du Nord\nComment un musée de société étudie et présente une collection vestimentaire ? L’exploration s’intéressera à l’histoire des collections bouxwilleroise et au récent chantier d’étude\, offrant l’occasion de présenter plusieurs chefs d’œuvres redécouverts. Une part belle sera donnée aux témoignages anciens cachés sous les étoffes ou à ceux portés par la création contemporaine. \nTarif : Entrée du Musée\nPlaces limitées. Réservation obligatoire au 03 88 00 38 39 ou contact@museedupaysdehanau.eu
URL:https://www.museedupaysdehanau.eu/event/conference-textiles-en-pays-de-hanau-les-enjeux-dune-collection-de-costumes/
LOCATION:Musée du Pays de Hanau\, 3 place du Château \, Bouxwiller\, 67330
ATTACH;FMTTYPE=image/jpeg:https://www.museedupaysdehanau.eu/wp-content/uploads/2026/02/25-10-25-conference-Photo-Melanie-Le-Hir-scaled.jpg
END:VEVENT
END:VCALENDAR