BEGIN:VCALENDAR
VERSION:2.0
PRODID:-//Bienvenue sur le site du Musée du Pays de Hanau - ECPv6.15.20//NONSGML v1.0//EN
CALSCALE:GREGORIAN
METHOD:PUBLISH
X-WR-CALNAME:Bienvenue sur le site du Musée du Pays de Hanau
X-ORIGINAL-URL:https://www.museedupaysdehanau.eu
X-WR-CALDESC:Évènements pour Bienvenue sur le site du Musée du Pays de Hanau
REFRESH-INTERVAL;VALUE=DURATION:PT1H
X-Robots-Tag:noindex
X-PUBLISHED-TTL:PT1H
BEGIN:VTIMEZONE
TZID:Europe/Paris
BEGIN:DAYLIGHT
TZOFFSETFROM:+0100
TZOFFSETTO:+0200
TZNAME:CEST
DTSTART:20210328T010000
END:DAYLIGHT
BEGIN:STANDARD
TZOFFSETFROM:+0200
TZOFFSETTO:+0100
TZNAME:CET
DTSTART:20211031T010000
END:STANDARD
BEGIN:DAYLIGHT
TZOFFSETFROM:+0100
TZOFFSETTO:+0200
TZNAME:CEST
DTSTART:20220327T010000
END:DAYLIGHT
BEGIN:STANDARD
TZOFFSETFROM:+0200
TZOFFSETTO:+0100
TZNAME:CET
DTSTART:20221030T010000
END:STANDARD
BEGIN:DAYLIGHT
TZOFFSETFROM:+0100
TZOFFSETTO:+0200
TZNAME:CEST
DTSTART:20230326T010000
END:DAYLIGHT
BEGIN:STANDARD
TZOFFSETFROM:+0200
TZOFFSETTO:+0100
TZNAME:CET
DTSTART:20231029T010000
END:STANDARD
END:VTIMEZONE
BEGIN:VEVENT
DTSTART;TZID=Europe/Paris:20220612T150000
DTEND;TZID=Europe/Paris:20220612T150000
DTSTAMP:20260426T063537
CREATED:20220511T124331Z
LAST-MODIFIED:20220531T143249Z
UID:5705-1655046000-1655046000@www.museedupaysdehanau.eu
SUMMARY:Visite guidée de l’exposition « Inspiration Alsace »
DESCRIPTION:Découvrez le travail inspiré et inspirant de la couturière et costumière Rita Tataï\, mis en regard avec des pièces anciennes. En créant la marque Geht’s In\, cette créatrice de mode s’est inspirée de pièces du costume traditionnel alsacien pour remettre au goût du jour des motifs\, des tissus\, une allure…En compagnie de Laure Lickel\, chargée de médiation\, dépoussiérez votre vision du costume alsacien ! \nExposition visible jusqu’au 23 octobre 2022. \nDurée : 1h\nTarif : Gratuit\nPlaces limitées. Réservations au 03 88 00 38 39 ou contact@museedupaysdehanau.eu
URL:https://www.museedupaysdehanau.eu/event/visite-guidee-de-lexposition-inspiration-alsace/
LOCATION:Musée du Pays de Hanau\, 3 place du Château \, Bouxwiller\, 67330
ATTACH;FMTTYPE=image/jpeg:https://www.museedupaysdehanau.eu/wp-content/uploads/2022/05/VG-expo-29-juillet-scaled-e1653488955256.jpg
ORGANIZER;CN="Mus%C3%A9e du Pays de Hanau":MAILTO:contact@museedupaysdehanau.eu
END:VEVENT
BEGIN:VEVENT
DTSTART;TZID=Europe/Paris:20220615T100000
DTEND;TZID=Europe/Paris:20220615T100000
DTSTAMP:20260426T063537
CREATED:20220310T112845Z
LAST-MODIFIED:20220310T112856Z
UID:5484-1655287200-1655287200@www.museedupaysdehanau.eu
SUMMARY:Visite-atelier familial « Vive le sapin peint ! »
DESCRIPTION:Les enfants seront transportés jusqu’au 19e siècle par une guide costumée qui incarnera le personnage de Lisele. \nCelle-ci prépare un mariage\, mais le peintre qui devait décorer les meubles des futurs mariés est tombé malade. Pour sauver le mariage\, les enfants devront rechercher les motifs peints sur les meubles en sapin exposés pour s’en inspirer et réaliser un beau décor à l’aide de pochoirs et de tampons. \nÂge : 3-6 ans ; L’enfant doit être accompagné d’un adulte.\nDurée : 1h15\nTarif : 5€\nPlaces limitées. Réservations au 03 88 00 38 39 ou contact@museedupaysdehanau.eu\nLieu : Musée du Pays de Hanau\, 3 place du Château\, 67330 Bouxwiller
URL:https://www.museedupaysdehanau.eu/event/visite-atelier-familial-vive-le-sapin-peint/
LOCATION:Musée du Pays de Hanau\, 3 place du Château \, Bouxwiller\, 67330
ATTACH;FMTTYPE=image/jpeg:https://www.museedupaysdehanau.eu/wp-content/uploads/2022/03/24102021vive_le_sapin_peint-scaled-e1646911671445.jpg
ORGANIZER;CN="Mus%C3%A9e du Pays de Hanau":MAILTO:contact@museedupaysdehanau.eu
END:VEVENT
BEGIN:VEVENT
DTSTART;TZID=Europe/Paris:20220618T090000
DTEND;TZID=Europe/Paris:20220618T090000
DTSTAMP:20260426T063537
CREATED:20220531T143442Z
LAST-MODIFIED:20220531T143442Z
UID:5749-1655542800-1655542800@www.museedupaysdehanau.eu
SUMMARY:Journée « Regards sur Bouxwiller » organisée par le Comité d'histoire régionale
DESCRIPTION:Réservation obligatoire auprès du Comité d’Histoire Régionale | 03 88 15 38 41 | chr@grandest.fr\nhttps://framaforms.org/inscription-a-la-journee-regards-sur-bouxwiller-samedi-18-juin-2022-1651929466 \nProgramme détaillé : http://chr.grandest.fr et sur la page Facebook du Comité /chrgrandest
URL:https://www.museedupaysdehanau.eu/event/journee-regards-sur-bouxwiller-organisee-par-le-comite-dhistoire-regionale/
ATTACH;FMTTYPE=image/jpeg:https://www.museedupaysdehanau.eu/wp-content/uploads/2022/05/Regards-sur-Bouxwiller2.jpg
END:VEVENT
END:VCALENDAR