BEGIN:VCALENDAR
VERSION:2.0
PRODID:-//Bienvenue sur le site du Musée du Pays de Hanau - ECPv6.15.20//NONSGML v1.0//EN
CALSCALE:GREGORIAN
METHOD:PUBLISH
X-WR-CALNAME:Bienvenue sur le site du Musée du Pays de Hanau
X-ORIGINAL-URL:https://www.museedupaysdehanau.eu
X-WR-CALDESC:Évènements pour Bienvenue sur le site du Musée du Pays de Hanau
REFRESH-INTERVAL;VALUE=DURATION:PT1H
X-Robots-Tag:noindex
X-PUBLISHED-TTL:PT1H
BEGIN:VTIMEZONE
TZID:Europe/Paris
BEGIN:DAYLIGHT
TZOFFSETFROM:+0100
TZOFFSETTO:+0200
TZNAME:CEST
DTSTART:20210328T010000
END:DAYLIGHT
BEGIN:STANDARD
TZOFFSETFROM:+0200
TZOFFSETTO:+0100
TZNAME:CET
DTSTART:20211031T010000
END:STANDARD
BEGIN:DAYLIGHT
TZOFFSETFROM:+0100
TZOFFSETTO:+0200
TZNAME:CEST
DTSTART:20220327T010000
END:DAYLIGHT
BEGIN:STANDARD
TZOFFSETFROM:+0200
TZOFFSETTO:+0100
TZNAME:CET
DTSTART:20221030T010000
END:STANDARD
BEGIN:DAYLIGHT
TZOFFSETFROM:+0100
TZOFFSETTO:+0200
TZNAME:CEST
DTSTART:20230326T010000
END:DAYLIGHT
BEGIN:STANDARD
TZOFFSETFROM:+0200
TZOFFSETTO:+0100
TZNAME:CET
DTSTART:20231029T010000
END:STANDARD
END:VTIMEZONE
BEGIN:VEVENT
DTSTART;TZID=Europe/Paris:20220706T150000
DTEND;TZID=Europe/Paris:20220706T150000
DTSTAMP:20260426T045838
CREATED:20220525T140132Z
LAST-MODIFIED:20220525T140132Z
UID:5709-1657119600-1657119600@www.museedupaysdehanau.eu
SUMMARY:Visite guidée de la ville de Bouxwiller
DESCRIPTION:En compagnie de Laure Lickel\, chargée de médiation\, découvrez le riche passé historique de cette cité de caractère qu’est Bouxwiller. Ce voyage dans le temps sera aussi l’occasion d’entrer dans le monde des symboles\, des croyances et des superstitions\, sans oublier l’univers de la sorcellerie\, dont les traces sont encore présentes à Bouxwiller. \nAnimation gratuite\nDurée : 1h30\nPlaces limitées. Réservations obligatoires au 03 88 00 38 39 ou contact@museedupaysdehanau.eu\nLieu de départ : Musée du Pays de Hanau – 3 place du Château 67330 Bouxwiller
URL:https://www.museedupaysdehanau.eu/event/visite-guidee-de-la-ville-de-bouxwiller-11/
ATTACH;FMTTYPE=image/jpeg:https://www.museedupaysdehanau.eu/wp-content/uploads/2021/06/VG-8-juillet-et-4-aout-e1653487277649.jpg
END:VEVENT
BEGIN:VEVENT
DTSTART;TZID=Europe/Paris:20220707T150000
DTEND;TZID=Europe/Paris:20220707T150000
DTSTAMP:20260426T045838
CREATED:20220525T140947Z
LAST-MODIFIED:20220602T144928Z
UID:5712-1657206000-1657206000@www.museedupaysdehanau.eu
SUMMARY:Visite guidée parents-enfants de l'exposition
DESCRIPTION:En famille\, venez admirer les créations de la couturière et costumière Rita Tataï\, réunies sous la marque de vêtement Geht’s In\, s’inspirant du costume alsacien traditionnel. Des pièces anciennes\, issues\, pour la plupart\, des collections du Musée\, vous permettront de découvrir la richesse des motifs et des décors des vêtements traditionnels du Pays de Hanau.\nEn compagnie de Mélanie Le Hir\, chargée de pédagogie\, dépoussiérez votre vision du costume alsacien ! \nExposition « Inspiration Alsace » visible jusqu’au 23 octobre 2022. \nÀ partir de 6 ans \nDurée : 45 min\nTarif : Gratuit\nPlaces limitées. Réservations au 03 88 00 38 39 ou contact@museedupaysdehanau.eu\nLieu : Musée du Pays de Hanau\, 3 place du Château\, 67330 Bouxwiller
URL:https://www.museedupaysdehanau.eu/event/visite-guidee-parents-enfants-de-lexposition/
ATTACH;FMTTYPE=image/jpeg:https://www.museedupaysdehanau.eu/wp-content/uploads/2022/05/VG-du-7-juillet-Photo-PATRICK-LAMBIN__17mai2022_004-Copie-e1653487723167.jpg
END:VEVENT
BEGIN:VEVENT
DTSTART;TZID=Europe/Paris:20220710T150000
DTEND;TZID=Europe/Paris:20220710T150000
DTSTAMP:20260426T045838
CREATED:20220525T141347Z
LAST-MODIFIED:20220525T141347Z
UID:5715-1657465200-1657465200@www.museedupaysdehanau.eu
SUMMARY:Dimanche de caractère / Bouxwiller : Une cité viticole oubliée
DESCRIPTION:Remontez le temps et partez à la découverte du passé viticole de Bouxwiller\, en compagnie de Jean-Christophe Brua\, architecte du Patrimoine.\nÀ travers les ruelles de Bouxwiller et à l’intérieur de cours privées\, vous observerez les signes architecturaux qui témoignent de l’important passé viticole de la ville. L’histoire de l’exploitation des vignes de la prestigieuse colline du Bastberg n’aura plus de secret pour vous.\nDégustation de vin du Bastberg du micro-viticulteur Arnold KARCHER d’Imbsheim et de jus de fruits de la Ferme Herrmann. \nDurée : 1h30\nAnimation gratuite\nPlaces limitées. Réservations au 03 88 00 38 39 ou contact@museedupaysdehanau.eu\nDépart : Musée du Pays de Hanau\, 3 place du Château\, 67330 Bouxwiller
URL:https://www.museedupaysdehanau.eu/event/dimanche-de-caractere-bouxwiller-une-cite-viticole-oubliee/
ATTACH;FMTTYPE=image/jpeg:https://www.museedupaysdehanau.eu/wp-content/uploads/2022/05/Photo-A-L-Nyari-visite-du-10-juillet-dimanche-de-caractere-e1653487887852.jpg
END:VEVENT
BEGIN:VEVENT
DTSTART;TZID=Europe/Paris:20220720T150000
DTEND;TZID=Europe/Paris:20220720T150000
DTSTAMP:20260426T045838
CREATED:20220525T141717Z
LAST-MODIFIED:20220525T141816Z
UID:5719-1658329200-1658329200@www.museedupaysdehanau.eu
SUMMARY:Visite guidée insolite de la ville de Bouxwiller\, entre mythe et réalité
DESCRIPTION:En compagnie de Laure LICKEL\, chargée de médiation\, découvrez la cité mystérieuse de Bouxwiller\, entre légendes et réalité. Laissez-vous emporter par le tourbillon du Temps qui vous propulsera dans le passé\, où croyances\, sorcellerie et symbolisme se côtoyaient quotidiennement. Peut-être\, serez-vous surpris au détour d’une rue par une créature sortie d’un monde merveilleux\, où sorcières\, animaux fantastiques et personnages curieux se coudoient. Seules les âmes pures et sensibles pourront prétendre à ces rencontres extraordinaires et cela uniquement à Minuit ! \nCependant\, ne soyez pas déçu(e)s\, d’autres mystères seront dévoilés qui eux vous mèneront sur des sentiers semés d’énigmes… \nMais chut\, ne dévoilons pas tout\, le mystère doit rester entier ! \n  \nAnimation gratuite \nDurée : 2h \nPlaces limitées. Réservations obligatoires au 03 88 00 38 39 ou contact@museedupaysdehanau.eu \nLieu de départ : Musée du Pays de Hanau – 3 place du Château 67330 Bouxwiller
URL:https://www.museedupaysdehanau.eu/event/visite-guidee-insolite-de-la-ville-de-bouxwiller-entre-mythe-et-realite-3/
ATTACH;FMTTYPE=image/jpeg:https://www.museedupaysdehanau.eu/wp-content/uploads/2022/05/VG_20-juillet-scaled-e1653488198112.jpg
END:VEVENT
BEGIN:VEVENT
DTSTART;TZID=Europe/Paris:20220728T160000
DTEND;TZID=Europe/Paris:20220728T160000
DTSTAMP:20260426T045838
CREATED:20220525T142741Z
LAST-MODIFIED:20220525T142741Z
UID:5724-1659024000-1659024000@www.museedupaysdehanau.eu
SUMMARY:Visite guidée « Marie Hart à travers la ville de Bouxwiller »
DESCRIPTION:En compagnie de Laure Lickel\, chargée de médiation\, découvrez la ville de Bouxwiller à travers les yeux de Marie Hart\, romancière et poétesse née en 1856. Vous découvrirez les lieux qui lui sont liés et avec eux la passionnante histoire d’une femme de caractère ayant vécu l’époque de la Grande Guerre. \nAnimation gratuite\nDurée : 1h30\nPlaces limitées. Réservations obligatoires au 03 88 00 38 39 ou contact@museedupaysdehanau.eu\nLieu de départ : Musée du Pays de Hanau – 3 place du Château 67330 Bouxwiller
URL:https://www.museedupaysdehanau.eu/event/visite-guidee-marie-hart-a-travers-la-ville-de-bouxwiller-2/
ATTACH;FMTTYPE=image/jpeg:https://www.museedupaysdehanau.eu/wp-content/uploads/2022/05/VG-28-juillet-Marie-Hart-e1653488375926.jpg
END:VEVENT
BEGIN:VEVENT
DTSTART;TZID=Europe/Paris:20220729T170000
DTEND;TZID=Europe/Paris:20220729T170000
DTSTAMP:20260426T045838
CREATED:20220525T143053Z
LAST-MODIFIED:20220629T063003Z
UID:5728-1659114000-1659114000@www.museedupaysdehanau.eu
SUMMARY:Visite guidée de l’exposition « Inspiration Alsace »
DESCRIPTION:Découvrez le travail inspiré et inspirant de la couturière et costumière Rita Tataï\, mis en regard avec des pièces anciennes. En créant la marque Geht’s In\, elle s’est inspirée de pièces du costume traditionnel alsacien pour remettre au goût du jour des motifs\, des tissus\, une allure…En compagnie de Laure Lickel\, chargée de médiation\, dépoussiérez votre vision du costume alsacien ! \nExposition visible jusqu’au 23 octobre 2022. \nDurée : 1h\nTarif : Gratuit\nPlaces limitées. Réservations au 03 88 00 38 39 ou contact@museedupaysdehanau.eu\nLieu : Musée du Pays de Hanau\, 3 place du Château\, 67330 Bouxwiller
URL:https://www.museedupaysdehanau.eu/event/visite-guidee-de-lexposition-inspiration-alsace-2/
ATTACH;FMTTYPE=image/jpeg:https://www.museedupaysdehanau.eu/wp-content/uploads/2022/05/VG-expo-29-juillet-scaled-e1653488955256.jpg
END:VEVENT
END:VCALENDAR