BEGIN:VCALENDAR
VERSION:2.0
PRODID:-//Bienvenue sur le site du Musée du Pays de Hanau - ECPv6.15.20//NONSGML v1.0//EN
CALSCALE:GREGORIAN
METHOD:PUBLISH
X-ORIGINAL-URL:https://www.museedupaysdehanau.eu
X-WR-CALDESC:Évènements pour Bienvenue sur le site du Musée du Pays de Hanau
REFRESH-INTERVAL;VALUE=DURATION:PT1H
X-Robots-Tag:noindex
X-PUBLISHED-TTL:PT1H
BEGIN:VTIMEZONE
TZID:Europe/Paris
BEGIN:DAYLIGHT
TZOFFSETFROM:+0100
TZOFFSETTO:+0200
TZNAME:CEST
DTSTART:20210328T010000
END:DAYLIGHT
BEGIN:STANDARD
TZOFFSETFROM:+0200
TZOFFSETTO:+0100
TZNAME:CET
DTSTART:20211031T010000
END:STANDARD
BEGIN:DAYLIGHT
TZOFFSETFROM:+0100
TZOFFSETTO:+0200
TZNAME:CEST
DTSTART:20220327T010000
END:DAYLIGHT
BEGIN:STANDARD
TZOFFSETFROM:+0200
TZOFFSETTO:+0100
TZNAME:CET
DTSTART:20221030T010000
END:STANDARD
BEGIN:DAYLIGHT
TZOFFSETFROM:+0100
TZOFFSETTO:+0200
TZNAME:CEST
DTSTART:20230326T010000
END:DAYLIGHT
BEGIN:STANDARD
TZOFFSETFROM:+0200
TZOFFSETTO:+0100
TZNAME:CET
DTSTART:20231029T010000
END:STANDARD
END:VTIMEZONE
BEGIN:VEVENT
DTSTART;TZID=Europe/Paris:20221207T143000
DTEND;TZID=Europe/Paris:20221207T143000
DTSTAMP:20260425T210118
CREATED:20221007T150708Z
LAST-MODIFIED:20221130T145003Z
UID:6048-1670423400-1670423400@www.museedupaysdehanau.eu
SUMMARY:Ateliers « Jardiniers de Noël » (5-8 ans)
DESCRIPTION:Dans la joie et la bonne humeur\, les enfants entre 5 et 8 ans\, réaliseront de jolis pots de fleurs garnis de décorations de Noël. En compagnie de bénévoles de l’Association des Amis du Musée du Pays de Hanau\, les participants pourront ainsi fabriquer des décorations originales. \nAnimation proposée dans le cadre des festivités de Noël au Pays de Hanau. \nÂge : 5-8 ans\nDurée : 2h\nTarif : 5€ ; goûter offert\nPlaces limitées. Réservations au 03 88 00 38 39 ou contact@museedupaysdehanau.eu\nLieu : Musée du Pays de Hanau – 3 place du Château 67330 Bouxwiller
URL:https://www.museedupaysdehanau.eu/event/ateliers-bricolages-de-noel-5-8-ans/
ATTACH;FMTTYPE=image/jpeg:https://www.museedupaysdehanau.eu/wp-content/uploads/2022/10/7-decembre_photo-Musee-atelier-decoration-5-8-ans-photo-Musee-du-Pays-de-Hanau-scaled-e1665155222627.jpg
END:VEVENT
BEGIN:VEVENT
DTSTART;TZID=Europe/Paris:20221214T143000
DTEND;TZID=Europe/Paris:20221214T143000
DTSTAMP:20260425T210118
CREATED:20221007T150819Z
LAST-MODIFIED:20221130T145125Z
UID:6051-1671028200-1671028200@www.museedupaysdehanau.eu
SUMMARY:Atelier « La petite fabrique de jeux » (7-12 ans)
DESCRIPTION:Après avoir découvert l’exposition de Noël « Quand jouer devient un art »\, les enfants\, entre 7 et 12 ans\, fabriqueront leur propre jeu de l’oie sur le thème de Noël. Ils pourront ainsi l’emporter chez eux pour se plonger en famille dans l’ambiance des fêtes avec des pions et un plateau conçus spécialement pour l’occasion. \nAnimation proposée dans le cadre des festivités de Noël au Pays de Hanau. \nÂge : 7-12 ans\nDurée : 2h30\nTarif : 5€ ; goûter offert\nPlaces limitées. Réservations au 03 88 00 38 39 ou contact@museedupaysdehanau.eu \nLieu : Musée du Pays de Hanau\, 3 place du Château\, 67330 Bouxwiller
URL:https://www.museedupaysdehanau.eu/event/atelier-bricolages-de-noel-7-12-ans-2/
ATTACH;FMTTYPE=image/jpeg:https://www.museedupaysdehanau.eu/wp-content/uploads/2022/10/14-decembre-Atelier-de-Noel-7-12-ans-_-Photo-Musee-du-Pays-de-Hanau-scaled-e1665155286469.jpg
END:VEVENT
BEGIN:VEVENT
DTSTART;TZID=Europe/Paris:20221217T150000
DTEND;TZID=Europe/Paris:20221217T150000
DTSTAMP:20260425T210118
CREATED:20221007T150944Z
LAST-MODIFIED:20221115T100246Z
UID:6054-1671289200-1671289200@www.museedupaysdehanau.eu
SUMMARY:Un Noël gourmand au Musée du Pays de Hanau
DESCRIPTION:À 15h : Kaffeekränzel et lectures de Marie Hart \nDans la tradition de la famille de Marie Hart\, romancière bouxwilleroise\, venez vivre l’expérience d’un Kaffeekränzel qui vous fera entrevoir\, comme si vous y étiez\, le Noël de la seconde moitié du XIXème siècle. Autour d’une boisson chaude et de douceurs de Noël\, partagez un moment convivial et redécouvrez le temps\, où les jouets étaient en bois\, en vieux chiffon\, en porcelaine\, où autres matières naturelles… Des extraits de textes en alsacien de Marie Hart sur la période de Noël seront lus par Joseph Schmittbiel\, auteur et traducteur et Laure Lickel\, chargée de médiation.\nAnimation proposée dans le cadre des festivités de Noël au Pays de Hanau. \nDurée : 1h\nTarif : Animation gratuite\, douceurs de Noël offertes\nPlaces limitées. Réservations obligatoires au 03 88 00 38 39 ou contact@museedupaysdehanau.eu\nLieu : Musée du Pays de Hanau – 3 place du Château 67330 Bouxwiller
URL:https://www.museedupaysdehanau.eu/event/un-noel-gourmand-au-musee-du-pays-de-hanau-2/
ATTACH;FMTTYPE=image/jpeg:https://www.museedupaysdehanau.eu/wp-content/uploads/2022/10/17-decembre-Kaffekranzel-photo-Musee-du-Pays-de-Hanau-scaled-e1665155381108.jpg
END:VEVENT
BEGIN:VEVENT
DTSTART;TZID=Europe/Paris:20221218T143000
DTEND;TZID=Europe/Paris:20221218T143000
DTSTAMP:20260425T210118
CREATED:20221007T151109Z
LAST-MODIFIED:20221007T151109Z
UID:6057-1671373800-1671373800@www.museedupaysdehanau.eu
SUMMARY:Visite guidée de l’exposition
DESCRIPTION:Emmenés par Laure Lickel\, chargée de médiation au Musée du Pays de Hanau\, laissez-vous guider dans l’exposition « Quand jouer devient un art… ». Lancez-vous à la (re)découverte des jeux de société\, incontournable des soirées d’hiver en famille. Traditionnels ou plus rares\, les jeux en Alsace ont aussi leur spécificité.\nVous pourrez notamment admirer les créations de deux artistes\, Christine Schoettel et Pascale Frey\, proposant une joute de mots et d’images par une revisite originale du jeu de société Dixit. \nAnimation proposée dans le cadre des festivités de Noël au Pays de Hanau.\nExposition visible jusqu’au 30 décembre\, aux heures d’ouverture du Musée \nDurée : 1h\nTarif : Animation gratuite\nPlaces limitées. Réservations obligatoires au 03 88 00 38 39 ou contact@museedupaysdehanau.eu\nLieu : Musée du Pays de Hanau – 3 place du Château 67330 Bouxwiller
URL:https://www.museedupaysdehanau.eu/event/visite-guidee-de-lexposition-2/
END:VEVENT
END:VCALENDAR