BEGIN:VCALENDAR
VERSION:2.0
PRODID:-//Bienvenue sur le site du Musée du Pays de Hanau - ECPv6.15.20//NONSGML v1.0//EN
CALSCALE:GREGORIAN
METHOD:PUBLISH
X-WR-CALNAME:Bienvenue sur le site du Musée du Pays de Hanau
X-ORIGINAL-URL:https://www.museedupaysdehanau.eu
X-WR-CALDESC:Évènements pour Bienvenue sur le site du Musée du Pays de Hanau
REFRESH-INTERVAL;VALUE=DURATION:PT1H
X-Robots-Tag:noindex
X-PUBLISHED-TTL:PT1H
BEGIN:VTIMEZONE
TZID:Europe/Paris
BEGIN:DAYLIGHT
TZOFFSETFROM:+0100
TZOFFSETTO:+0200
TZNAME:CEST
DTSTART:20220327T010000
END:DAYLIGHT
BEGIN:STANDARD
TZOFFSETFROM:+0200
TZOFFSETTO:+0100
TZNAME:CET
DTSTART:20221030T010000
END:STANDARD
BEGIN:DAYLIGHT
TZOFFSETFROM:+0100
TZOFFSETTO:+0200
TZNAME:CEST
DTSTART:20230326T010000
END:DAYLIGHT
BEGIN:STANDARD
TZOFFSETFROM:+0200
TZOFFSETTO:+0100
TZNAME:CET
DTSTART:20231029T010000
END:STANDARD
BEGIN:DAYLIGHT
TZOFFSETFROM:+0100
TZOFFSETTO:+0200
TZNAME:CEST
DTSTART:20240331T010000
END:DAYLIGHT
BEGIN:STANDARD
TZOFFSETFROM:+0200
TZOFFSETTO:+0100
TZNAME:CET
DTSTART:20241027T010000
END:STANDARD
END:VTIMEZONE
BEGIN:VEVENT
DTSTART;TZID=Europe/Paris:20230401T110000
DTEND;TZID=Europe/Paris:20230401T180000
DTSTAMP:20260425T144836
CREATED:20230215T164034Z
LAST-MODIFIED:20230226T150603Z
UID:6240-1680346800-1680372000@www.museedupaysdehanau.eu
SUMMARY:Marché des artisans d’art à Bouxwiller
DESCRIPTION:Samedi 1er et dimanche 2 avril\nSamedi et dimanche : de 11h à 18h\nDans le cadre des Journées Européennes des Métiers d’Art\, le Musée du Pays de Hanau invite des artisans d’art pour un week-end de démonstrations et de découvertes. Au sein de la boutique du Musée et sur son parvis\, vous attendent : sabotier\, artisans verrier\, ébéniste\, tapissière\, teinturier et métallier. \nLe samedi\, un fabricant de papier sera présent et une vannière se joindra également au marché\, le dimanche. \nEn plus de découvrir leurs produits\, vous pourrez échanger avec des amoureux de leur métier et assister à des démonstrations de savoir-faire passionnants. \nTout au long du week-end\, le Groupe folklorique du Pays de Hanau de Bouxwiller proposera des démonstrations de savoir-faire et mettra à l’honneur les traditions locales. Des bénévoles vous feront découvrir la broderie de châles et la confection des chapeaux de paille.\nDes membres vous feront également des démonstrations de nouage de coiffe\, le samedi\, à 15h\, 16h et 17h.\nRemontez le temps et partagez un moment convivial avec eux ! \nSamedi 1er avril à 15h :\nAtelier tout public : Fabrique ton papier !\navec Timothé Golla\, Papiers Storich\nLors de cet atelier\, vous découvrirez comment fabriquer de la pulpe à partir de papiers et de cartons à recycler vous-même. À partir de cette pulpe\, vous pourrez tirer vos propres feuilles\, avant de pouvoir vous amuser à mélanger couleurs et matériaux à incruster pour pouvoir repartir avec vos propres feuilles à la fin de l’atelier ! \nDurée : 2h30\nAnimation gratuite\nSur réservation\nRdv au Musée du Pays de Hanau
URL:https://www.museedupaysdehanau.eu/event/marche-des-artisans-dart-a-bouxwiller-5/
ATTACH;FMTTYPE=image/jpeg:https://www.museedupaysdehanau.eu/wp-content/uploads/2023/02/marche-des-artisans-dart-1et-2-avril-scaled-e1677423954733.jpg
END:VEVENT
BEGIN:VEVENT
DTSTART;TZID=Europe/Paris:20230402T110000
DTEND;TZID=Europe/Paris:20230402T180000
DTSTAMP:20260425T144836
CREATED:20230215T161523Z
LAST-MODIFIED:20230215T163935Z
UID:6218-1680433200-1680458400@www.museedupaysdehanau.eu
SUMMARY:Marché des artisans d’art à Bouxwiller
DESCRIPTION:Samedi 1er et dimanche 2 avril  \nSamedi : de 11h à 18h \nDimanche : de 11h à 18h \nMarché des artisans d’art à Bouxwiller \nDans le cadre des Journées Européennes des Métiers d’Art\, le Musée du Pays de Hanau invite des artisans d’art pour un week-end de démonstrations et de découvertes. Au sein de la boutique du Musée et sur son parvis\, vous attendent : sabotier\, artisans verrier\, ébéniste\, tapissière\, teinturier et métallier. \nLe samedi\, un fabricant de papier sera présent et une vannière se joindra également au marché\, le dimanche. \nEn plus de découvrir leurs produits\, vous pourrez échanger avec des amoureux de leur métier et assister à des démonstrations de savoir-faire passionnants. \nTout au long du week-end\, le Groupe folklorique du Pays de Hanau de Bouxwiller proposera des démonstrations de savoir-faire et mettra à l’honneur les traditions locales. Des bénévoles vous feront découvrir la broderie de châles et la confection des chapeaux de paille.\nDes membres vous feront également des démonstrations de nouage de coiffe\, le samedi\, à 15h\, 16h et 17h.\nRemontez le temps et partagez un moment convivial avec eux ! \n  \nDimanche 2 avril à 16h : \nVisite guidée dans la ville : « À la découverte des emblèmes des métiers d’autrefois » \nNotre guide\, Laure Lickel\, vous accompagnera dans la ville de Bouxwiller à la découverte des anciens emblèmes des corporations de métiers. \nRendez-vous : devant le musée\nAnimation gratuite\nDurée : 1h \n  \nDans le cadre des Journées Européennes des Métiers d’Art\nRenseignements au : 03 88 00 38 39 ou contact@museedupaysdehanau.eu\nSite internet : www.museedupaysdehanau.eu\nLieu : Musée du Pays de Hanau (espace boutique) et sur son parvis – 3 place du Château 67330 Bouxwiller
URL:https://www.museedupaysdehanau.eu/event/marche-des-artisans-dart-a-bouxwiller-4/
ATTACH;FMTTYPE=image/jpeg:https://www.museedupaysdehanau.eu/wp-content/uploads/2023/02/visite-guidee-2-et-3-avril-photo-musee-scaled.jpg
END:VEVENT
BEGIN:VEVENT
DTSTART;TZID=Europe/Paris:20230405T140000
DTEND;TZID=Europe/Paris:20230408T173000
DTSTAMP:20260425T144836
CREATED:20230204T131915Z
LAST-MODIFIED:20230404T153959Z
UID:6207-1680703200-1680975000@www.museedupaysdehanau.eu
SUMMARY:À la poursuite du lapin ! Course aux énigmes de Pâques
DESCRIPTION:C’est Pâques au Musée du Pays de Hanau ! Un lapin s’est échappé de la garenne de Bouxwiller. Toute la cour est sens dessus dessous. Partez à sa recherche\, résolvez les énigmes disposées sur votre chemin et redécouvrez le musée en famille de façon ludique. Une petite surprise en chocolat sera offerte aux enfants qui parviendront à débusquer le lapin ! \nÀ partir de 6 ans.\nTarif : Entrée du Musée\nLieu : Musée du Pays de Hanau – 3 place du Château 67330 Bouxwiller
URL:https://www.museedupaysdehanau.eu/event/a-la-poursuite-du-lapin-course-aux-enigmes-de-paques-3/
ATTACH;FMTTYPE=image/jpeg:https://www.museedupaysdehanau.eu/wp-content/uploads/2023/02/course_aux_enigmes-photo-Musee-du-Pays-de-Hanau-scaled-e1675516748401.jpg
END:VEVENT
BEGIN:VEVENT
DTSTART;VALUE=DATE:20230409
DTEND;VALUE=DATE:20230410
DTSTAMP:20260425T144836
CREATED:20230404T154034Z
LAST-MODIFIED:20230404T154034Z
UID:6383-1680998400-1681084799@www.museedupaysdehanau.eu
SUMMARY:Fermeture exceptionnelle du Musée
DESCRIPTION:Le Musée est fermé le dimanche de Pâques.
URL:https://www.museedupaysdehanau.eu/event/fermeture-exceptionnelle-du-musee/
END:VEVENT
BEGIN:VEVENT
DTSTART;TZID=Europe/Paris:20230412T100000
DTEND;TZID=Europe/Paris:20230412T110000
DTSTAMP:20260425T144836
CREATED:20230215T161704Z
LAST-MODIFIED:20230215T161704Z
UID:6221-1681293600-1681297200@www.museedupaysdehanau.eu
SUMMARY:Visite contée « À la poursuite du lapin » 3 – 6 ans
DESCRIPTION:C’est Pâques au Musée du Pays de Hanau ! Un lapin s’est échappé de la garenne de Bouxwiller. Toute la cour est sens dessus dessous.\nAccompagnés d’un médiateur\, les enfants déambuleront dans le musée pour retrouver le lapin avant qu’il ne fasse des bêtises.\nPour les aider dans leur recherche\, ils pourront compter sur les personnages du musée\, tels que le comte Jean René III et la princesse Caroline.\nUne petite surprise en chocolat sera offerte aux enfants à la fin de la visite ! \nLes enfants doivent obligatoirement être accompagnés d’un adulte.\nTarif : gratuit pour les enfants / prix de l’entrée du musée pour les adultes (4.50€) \nDurée : 45 minutes\nPlaces limitées. Réservation obligatoire au 03 88 00 38 39 ou contact@museedupaysdehanau.eu\nLieu : Musée du Pays de Hanau – 3 place du Château 67330 Bouxwiller \n 
URL:https://www.museedupaysdehanau.eu/event/visite-contee-a-la-poursuite-du-lapin-3-6-ans/
ATTACH;FMTTYPE=image/jpeg:https://www.museedupaysdehanau.eu/wp-content/uploads/2023/02/visite-contee-12-avril-©-photo-Laura-Neves-23-scaled.jpg
END:VEVENT
BEGIN:VEVENT
DTSTART;TZID=Europe/Paris:20230412T140000
DTEND;TZID=Europe/Paris:20230416T173000
DTSTAMP:20260425T144836
CREATED:20230204T132007Z
LAST-MODIFIED:20230204T133455Z
UID:6210-1681308000-1681666200@www.museedupaysdehanau.eu
SUMMARY:À la poursuite du lapin ! Course aux énigmes de Pâques
DESCRIPTION:C’est Pâques au Musée du Pays de Hanau ! Un lapin s’est échappé de la garenne de Bouxwiller. Toute la cour est sens dessus dessous. Partez à sa recherche\, résolvez les énigmes disposées sur votre chemin et redécouvrez le musée en famille de façon ludique. Une petite surprise en chocolat sera offerte aux enfants qui parviendront à débusquer le lapin ! \nÀ partir de 6 ans.\nTarif : Entrée du Musée\nLieu : Musée du Pays de Hanau – 3 place du Château 67330 Bouxwiller
URL:https://www.museedupaysdehanau.eu/event/a-la-poursuite-du-lapin-course-aux-enigmes-de-paques-4/
ATTACH;FMTTYPE=image/jpeg:https://www.museedupaysdehanau.eu/wp-content/uploads/2023/02/course_aux_enigmes-photo-Musee-du-Pays-de-Hanau-scaled-e1675516748401.jpg
END:VEVENT
BEGIN:VEVENT
DTSTART;TZID=Europe/Paris:20230416T160000
DTEND;TZID=Europe/Paris:20230416T160000
DTSTAMP:20260425T144836
CREATED:20230303T150623Z
LAST-MODIFIED:20230303T150623Z
UID:6341-1681660800-1681660800@www.museedupaysdehanau.eu
SUMMARY:Visite guidée de l’exposition Songes : paysages éphémères du Bastberg
DESCRIPTION:Venez à la rencontre de l’artiste Sarah Eddy\, pour une visite guidée de l’exposition de photographies de la colline du Bastberg. Au fil de la discussion\, découvrez son processus de création et les origines de son travail autour de ce lieu légendaire. Elle vous livrera ses réflexions sur la créativité ; « comment et pourquoi un lieu inspire un artiste ? ».\nExposition visible jusqu’au 11 juin. \nTarif : Animation gratuite\nDurée : 1h\nPlaces limitées. Réservation obligatoire au 03 88 00 38 39 ou contact@museedupaysdehanau.eu\nLieu : Musée du Pays de Hanau – 3 place du Château 67330 Bouxwiller
URL:https://www.museedupaysdehanau.eu/event/visite-guidee-de-lexposition-songes-paysages-ephemeres-du-bastberg-2/
ATTACH;FMTTYPE=image/jpeg:https://www.museedupaysdehanau.eu/wp-content/uploads/2023/03/14-mai-rencontre-Sarah-Eddy-photo-Catherine-Theulin-scaled-e1677680947838.jpg
END:VEVENT
BEGIN:VEVENT
DTSTART;TZID=Europe/Paris:20230419T143000
DTEND;TZID=Europe/Paris:20230419T163000
DTSTAMP:20260425T144836
CREATED:20230215T161808Z
LAST-MODIFIED:20230215T161808Z
UID:6224-1681914600-1681921800@www.museedupaysdehanau.eu
SUMMARY:Atelier pour les 5-8 ans 
DESCRIPTION:Lors de cet atelier\, l’artiste Williann\, graphiste et illustratrice alsacienne\, explorera\, avec les enfants\, les petits et grands secrets de la peinture polychrome. \nIls découvriront la signification des décors peints et chaque participant pourra ainsi repartir avec sa propre œuvre en y ajoutant les éléments qui lui sont propres. \nLes ateliers proposés par les Kouncht Rendez-vous s’adressent à de nombreux publics. Ils s’inscrivent dans le cadre de la résidence de l’artiste Williann\, mise en œuvre par l’association Visions pour la promotion de la pratique artistique en milieu rural et soutenue par la Communauté de Communes Hanau – La Petite Pierre. \nTarif : 5€ (comprend l’entrée du Musée) + goûter offert\nDurée : 2h\nPlaces limitées. Réservation obligatoire au 03 88 00 38 39 ou contact@museedupaysdehanau.eu\nAtelier proposé par l’association Visions dans le cadre des Kouncht rendez-vous.\nLieu : Musée du Pays de Hanau – 3 place du Château 67330 Bouxwiller
URL:https://www.museedupaysdehanau.eu/event/atelier-pour-les-5-8-ans/
ATTACH;FMTTYPE=image/jpeg:https://www.museedupaysdehanau.eu/wp-content/uploads/2023/02/19-et-20-avril-ateliers-photo-Williann.jpg
END:VEVENT
BEGIN:VEVENT
DTSTART;TZID=Europe/Paris:20230420T143000
DTEND;TZID=Europe/Paris:20230420T163000
DTSTAMP:20260425T144836
CREATED:20230215T162140Z
LAST-MODIFIED:20230215T162140Z
UID:6230-1682001000-1682008200@www.museedupaysdehanau.eu
SUMMARY:Atelier pour les 7-12 ans
DESCRIPTION:Lors de cet atelier\, l’artiste Williann\, graphiste et illustratrice alsacienne\, fera découvrir les blasons aux enfants. Symboles du territoire\, les blasons font encore partie de notre quotidien. À travers cet atelier\, les participants découvriront comment les éléments s’agencent et prennent sens. Chacun pourra ensuite créer son propre blason en choisissant formes et couleurs. \nLes ateliers proposés par les Kouncht Rendez-vous s’adressent à de nombreux publics. Ils s’inscrivent dans le cadre de la résidence de l’artiste Williann\, mise en œuvre par l’association Visions pour la promotion de la pratique artistique en milieu rural et soutenue par la Communauté de Communes Hanau – La Petite Pierre. \nTarif : 5€ (comprend l’entrée du Musée) + goûter offert\nDurée : 2h\nPlaces limitées. Réservation obligatoire au 03 88 00 38 39 ou contact@museedupaysdehanau.eu\nAtelier proposé par l’association Visions dans le cadre des Kouncht rendez-vous.\nLieu : Musée du Pays de Hanau – 3 place du Château 67330 Bouxwiller
URL:https://www.museedupaysdehanau.eu/event/atelier-pour-les-7-12-ans-2/
ATTACH;FMTTYPE=image/jpeg:https://www.museedupaysdehanau.eu/wp-content/uploads/2023/02/19-et-20-avril-ateliers-photo-Williann-1.jpg
END:VEVENT
BEGIN:VEVENT
DTSTART;TZID=Europe/Paris:20230423T150000
DTEND;TZID=Europe/Paris:20230423T150000
DTSTAMP:20260425T144836
CREATED:20230222T141830Z
LAST-MODIFIED:20230222T141905Z
UID:6243-1682262000-1682262000@www.museedupaysdehanau.eu
SUMMARY:Conférence « Le château de Bouxwiller au Moyen Âge»
DESCRIPTION:Jean-Michel Rudrauf\, spécialiste des châteaux d’Alsace vous emmène à la découverte de l’histoire du château de Bouxwiller.  \n« Au début du 13ème siècle apparaît\, sur l’échiquier politique alsacien\, une lignée noble qui prend le nom du château qu’elle vient de construire\, celle de Lichtenberg. Très rapidement\, profitant de leur fonction d’avoué de l’abbaye de Neuwiller mais aussi des relations qu’ils vont établir avec les évêques de Strasbourg\, les Lichtenberg se constituent un domaine qui va leur permettre de devenir la principale puissance seigneuriale du nord de l’Alsace. Cette expansion va les amener à édifier un nouveau château ayant une situation plus centrale dans leurs possessions\, celui de Bouxwiller\, localité pour laquelle ils obtiennent\, du roi Rodolphe de Habsbourg\, le droit de ville et qu’ils vont entourer de remparts reliés au château. » \n 
URL:https://www.museedupaysdehanau.eu/event/conference-le-chateau-de-bouxwiller-au-moyen-age/
LOCATION:Musée du Pays de Hanau\, 3 place du Château \, Bouxwiller\, 67330
ATTACH;FMTTYPE=image/jpeg:https://www.museedupaysdehanau.eu/wp-content/uploads/2023/02/conference-rudrauf-23-avril_credit-musee-du-Pays-de-Hanau-scaled-e1677075541832.jpg
END:VEVENT
BEGIN:VEVENT
DTSTART;TZID=Europe/Paris:20230423T163000
DTEND;TZID=Europe/Paris:20230423T180000
DTSTAMP:20260425T144836
CREATED:20230215T161935Z
LAST-MODIFIED:20230215T161935Z
UID:6227-1682267400-1682272800@www.museedupaysdehanau.eu
SUMMARY:Rallye photo dans Bouxwiller Jeu de piste « Dans l’objectif de Willy ! »
DESCRIPTION:Découvrez Bouxwiller à travers l’objectif de Willy Clauss\, photographe de la seconde moitié du 20e siècle. En famille\, entre amis ou en solo\, soyez le ou les premiers à reproduire ses cadrages\, en retrouvant les lieux pris en photo.\nPour participer\, munissez-vous de votre appareil photo ou de votre téléphone portable.\nDes bons d’achat pour la librairie Bouq’s seront offerts aux trois premiers arrivés et des surprises chocolatées récompenseront les 10 suivants. \nDépart du musée à 16h\nAdultes et enfants à partir de 8 ans\nRenseignements au 03 88 00 38 39 ou contact@museedupaysdehanau.eu
URL:https://www.museedupaysdehanau.eu/event/rallye-photo-dans-bouxwiller-jeu-de-piste-dans-lobjectif-de-willy/
ATTACH;FMTTYPE=image/jpeg:https://www.museedupaysdehanau.eu/wp-content/uploads/2023/02/23-avril-Rallye-photo-©-Melanie-Le-Hir-scaled.jpg
END:VEVENT
BEGIN:VEVENT
DTSTART;TZID=Europe/Paris:20230426T143000
DTEND;TZID=Europe/Paris:20230426T143000
DTSTAMP:20260425T144836
CREATED:20230328T141454Z
LAST-MODIFIED:20230425T152732Z
UID:6364-1682519400-1682519400@www.museedupaysdehanau.eu
SUMMARY:ANNULE - Atelier « Vive le printemps ! » pour les 7-12 ans
DESCRIPTION:L’atelier est reporté au 31 mai 2023.
URL:https://www.museedupaysdehanau.eu/event/atelier-vive-le-printemps-pour-les-7-12-ans/
ATTACH;FMTTYPE=image/jpeg:https://www.museedupaysdehanau.eu/wp-content/uploads/2023/03/atelier-du-26-avril-photo-Musee-du-Pays-de-Hanau-scaled-e1680012891469.jpg
END:VEVENT
BEGIN:VEVENT
DTSTART;TZID=Europe/Paris:20230427T143000
DTEND;TZID=Europe/Paris:20230427T170000
DTSTAMP:20260425T144836
CREATED:20230215T162313Z
LAST-MODIFIED:20230215T163713Z
UID:6233-1682605800-1682614800@www.museedupaysdehanau.eu
SUMMARY:Atelier moulage pour les 8-12 ans : Voyage vers le Jurassique 
DESCRIPTION:Accompagnés des médiatrices du Musée\, les enfants remonteront le temps jusqu’au Jurassique pour découvrir la collection de fossiles présentée au Musée.\nIls réaliseront ensuite de jolis moulages de coquillages rappelant le passé de l’Alsace\, autrefois recouverte par la mer. Cette activité leur permettra de mieux comprendre un processus de fossilisation. \nTarif : 5€ (comprend l’entrée du Musée) + goûter offert \nDurée : 2h30 \nPlaces limitées. Réservation obligatoire au 03 88 00 38 39 ou contact@museedupaysdehanau.eu \nLieu : Musée du Pays de Hanau – 3 place du Château 67330 Bouxwiller
URL:https://www.museedupaysdehanau.eu/event/atelier-moulage-pour-les-8-12-ans-voyage-vers-le-jurassique-2/
ATTACH;FMTTYPE=image/jpeg:https://www.museedupaysdehanau.eu/wp-content/uploads/2023/02/27-avril_photo-Musee-du-Pays-de-Hanau-scaled.jpg
END:VEVENT
BEGIN:VEVENT
DTSTART;TZID=Europe/Paris:20230430T200000
DTEND;TZID=Europe/Paris:20230430T200000
DTSTAMP:20260425T144836
CREATED:20230328T141613Z
LAST-MODIFIED:20230422T153254Z
UID:6367-1682884800-1682884800@www.museedupaysdehanau.eu
SUMMARY:Visite guidée au Bastberg « À la découverte de la Nuit de la Sainte-Walburge »
DESCRIPTION:En cas de mauvais temps : repli au Musée du Pays de Hanau\nLa Nuit de la Sainte Walburge ou Walpurgisnacht est une nuit haute en couleurs pour les sorcières des environs. C’est le moment de l’année pour elles de faire le bilan de l’année écoulée auprès du diable\, en se vantant de leurs meilleurs sortilèges effectués et de toutes les potions utilisées. Si vous êtes curieux\, et si vous ne craignez pas d’être ensorcelé ou transformé en animal\, venez accompagner Laure Lickel et Sarah Eddy\, sur les sentiers mystérieux et embrumés de la colline du Bastberg. \nLa visite sera également ponctuée par une méditation\, sous forme de visualisation\, menée par l’artiste Sarah Eddy. \nN’oubliez pas de bien vous couvrir et de vous munir de lampions ou de torches pour éclairer le chemin ensorcelé de la colline des sorcières !\nPrévoir chaussures et vêtements adaptés au terrain et à la météo. \nAvec Laure Lickel\, chargée de médiation au Musée du Pays de Hanau et l’artiste chanteuse et photographe Sarah Eddy.\nAnimation gratuite\nDurée : 1h30\nRenseignements au 03 88 00 38 39 ou contact@museedupaysdehanau.eu\nRdv : Parking du Bastberg\, côté Imbsheim\, au pied du Bastberg.
URL:https://www.museedupaysdehanau.eu/event/visite-guidee-a-la-decouverte-de-la-nuit-de-la-sainte-walburge/
ATTACH;FMTTYPE=image/jpeg:https://www.museedupaysdehanau.eu/wp-content/uploads/2023/03/30-avril-VG-Sainte-Walburge-_photo-Sarah-Eddy-scaled-e1680012968699.jpg
END:VEVENT
END:VCALENDAR