BEGIN:VCALENDAR
VERSION:2.0
PRODID:-//Bienvenue sur le site du Musée du Pays de Hanau - ECPv6.15.18//NONSGML v1.0//EN
CALSCALE:GREGORIAN
METHOD:PUBLISH
X-WR-CALNAME:Bienvenue sur le site du Musée du Pays de Hanau
X-ORIGINAL-URL:https://www.museedupaysdehanau.eu
X-WR-CALDESC:Évènements pour Bienvenue sur le site du Musée du Pays de Hanau
REFRESH-INTERVAL;VALUE=DURATION:PT1H
X-Robots-Tag:noindex
X-PUBLISHED-TTL:PT1H
BEGIN:VTIMEZONE
TZID:Europe/Paris
BEGIN:DAYLIGHT
TZOFFSETFROM:+0100
TZOFFSETTO:+0200
TZNAME:CEST
DTSTART:20220327T010000
END:DAYLIGHT
BEGIN:STANDARD
TZOFFSETFROM:+0200
TZOFFSETTO:+0100
TZNAME:CET
DTSTART:20221030T010000
END:STANDARD
BEGIN:DAYLIGHT
TZOFFSETFROM:+0100
TZOFFSETTO:+0200
TZNAME:CEST
DTSTART:20230326T010000
END:DAYLIGHT
BEGIN:STANDARD
TZOFFSETFROM:+0200
TZOFFSETTO:+0100
TZNAME:CET
DTSTART:20231029T010000
END:STANDARD
BEGIN:DAYLIGHT
TZOFFSETFROM:+0100
TZOFFSETTO:+0200
TZNAME:CEST
DTSTART:20240331T010000
END:DAYLIGHT
BEGIN:STANDARD
TZOFFSETFROM:+0200
TZOFFSETTO:+0100
TZNAME:CET
DTSTART:20241027T010000
END:STANDARD
END:VTIMEZONE
BEGIN:VEVENT
DTSTART;TZID=Europe/Paris:20230906T160000
DTEND;TZID=Europe/Paris:20230906T160000
DTSTAMP:20260423T084302
CREATED:20230301T162411Z
LAST-MODIFIED:20230825T135134Z
UID:6329-1694016000-1694016000@www.museedupaysdehanau.eu
SUMMARY:Visite guidée « À la découverte du Musée du Pays de Hanau »
DESCRIPTION:Le Pays de Hanau est le berceau des symboles de l’Alsace. Saviez-vous que le bretzel et la coiffe traditionnelle\, avec son grand nœud noir\, sont originaires du Pays de Hanau ? Ou encore que Bouxwiller a été autrefois une capitale princière et rayonnait sur un grand territoire de part et d’autre du Rhin ? Découvrez la riche histoire du Pays de Hanau dans un magnifique cadre architectural datant des 14ème et 16ème siècles\, en compagnie d’une de nos guides du Musée. \nDurée : 1h \nTarif : Entrée du Musée \nPlaces limitées. Réservation obligatoire au 03 88 00 38 39 ou contact@museedupaysdehanau.eu \nLieu : Musée du Pays de Hanau – 3 place du Château 67330 Bouxwiller
URL:https://www.museedupaysdehanau.eu/event/visite-guidee-a-la-decouverte-du-musee-du-pays-de-hanau-2/
ATTACH;FMTTYPE=image/jpeg:https://www.museedupaysdehanau.eu/wp-content/uploads/2023/03/VG-Musee-photo-Marion_cherot-Sycoparc.jpg
END:VEVENT
BEGIN:VEVENT
DTSTART;TZID=Europe/Paris:20230913T150000
DTEND;TZID=Europe/Paris:20230913T150000
DTSTAMP:20260423T084302
CREATED:20230301T162532Z
LAST-MODIFIED:20230825T135159Z
UID:6332-1694617200-1694617200@www.museedupaysdehanau.eu
SUMMARY:Visite guidée générale de la ville de Bouxwiller
DESCRIPTION:En compagnie de Laure Lickel\, chargée de médiation\, découvrez le riche passé historique de cette cité de caractère qu’est Bouxwiller. Ce voyage dans le temps sera aussi l’occasion d’entrer dans le monde des symboles\, des croyances et des superstitions\, sans oublier l’univers de la sorcellerie\, dont les traces sont encore présentes à Bouxwiller. \nAnimation gratuite \nDurée : 1h30 \nPlaces limitées. Réservations obligatoires au 03 88 00 38 39 ou contact@museedupaysdehanau.eu \nLieu de départ : Musée du Pays de Hanau – 3 place du Château 67330 Bouxwiller
URL:https://www.museedupaysdehanau.eu/event/visite-guidee-generale-de-la-ville-de-bouxwiller/
ATTACH;FMTTYPE=image/jpeg:https://www.museedupaysdehanau.eu/wp-content/uploads/2023/03/VG-Ville-13-septembre-Photo-Melanie-Le-Hir-scaled.jpg
END:VEVENT
BEGIN:VEVENT
DTSTART;TZID=Europe/Paris:20230916T140000
DTEND;TZID=Europe/Paris:20230916T180000
DTSTAMP:20260423T084302
CREATED:20230824T083219Z
LAST-MODIFIED:20230824T083234Z
UID:6487-1694872800-1694887200@www.museedupaysdehanau.eu
SUMMARY:Journées Européennes du Patrimoine de 14h-18h
DESCRIPTION:Visite libre du Musée du Pays de Hanau et de l’exposition « Youhou : sculptures de Jeanluc Hattemer » \nL’exposition au Musée du Pays de Hanau propose une promenade dans l’univers de Jeanluc Hattemer. À travers des formes épurées et des symboles universels\, il nous livre ses réflexions sur le monde\, la nature\, le mythe ou encore sur les figures du masculin/féminin. Des œuvres parfois colorées\, empreintes d’humour qui nous invitent au souvenir\, à la nostalgie de l’enfance ou nous questionnent sur notre rapport à la nature. \n  \nLe Musée du Pays de Hanau est un lieu de découverte\, un outil d’interprétation d’un territoire doté d’une identité culturelle affirmée. Il s’étend sur plus de de 800m² et développe trois thèmes :\n– l’histoire de Bouxwiller et de l’ancien comté de Hanau-Lichtenberg.\n– l’environnement et les ressources naturelles\, autour de la colline du Bastberg.\n– la vie sociale et culturelle à travers les objets du quotidien du Pays de Hanau. \n  \nEntrée du Musée gratuite\, pour tous. \nLieu : Musée du Pays de Hanau – 3 place du Château 67330 Bouxwiller
URL:https://www.museedupaysdehanau.eu/event/journees-europeennes-du-patrimoine-de-14h-18h/
ATTACH;FMTTYPE=image/jpeg:https://www.museedupaysdehanau.eu/wp-content/uploads/2023/08/VG-Musee-photo-Marion_cherot-Sycoparc.jpg
END:VEVENT
BEGIN:VEVENT
DTSTART;TZID=Europe/Paris:20230916T143000
DTEND;TZID=Europe/Paris:20230916T163000
DTSTAMP:20260423T084302
CREATED:20230824T083500Z
LAST-MODIFIED:20230824T083500Z
UID:6492-1694874600-1694881800@www.museedupaysdehanau.eu
SUMMARY:Visite de l'Hôtel de Ville en VIP
DESCRIPTION:En compagnie d’un élu\, découvrez la magnifique façade restaurée de l’Hôtel de Ville de Bouxwiller.\nExceptionnellement\, ouvrez la porte de la salle du conseil et replongez dans le passé princier de la ville.\nDécouvrez les trésors d’histoire que cache le beau bâtiment de l’Hôtel de Ville\, ancienne chancellerie du comté de Hanau-Lichtenberg\, en compagnie de Freddy Staath\, maire délégué de Riedheim\, en charge de la Culture\, du Patrimoine et du Tourisme à Bouxwiller. \n  \nDurée : 45 minutes\nLieu de rendez-vous : accueil du Musée du Pays de Hanau \nPlaces limitées. Réservations obligatoires au 03 88 00 38 39 ou contact@museedupaysdehanau.eu
URL:https://www.museedupaysdehanau.eu/event/visite-de-lhotel-de-ville-en-vip/
ATTACH;FMTTYPE=image/jpeg:https://www.museedupaysdehanau.eu/wp-content/uploads/2023/08/VG-Hotel-de-ville-16-sept_photo-AL-Nyari-scaled.jpg
END:VEVENT
BEGIN:VEVENT
DTSTART;TZID=Europe/Paris:20230917T140000
DTEND;TZID=Europe/Paris:20230917T180000
DTSTAMP:20260423T084302
CREATED:20230824T083323Z
LAST-MODIFIED:20230824T083323Z
UID:6490-1694959200-1694973600@www.museedupaysdehanau.eu
SUMMARY:Journées Européennes du Patrimoine
DESCRIPTION:Visite libre du Musée du Pays de Hanau et de l’exposition « Youhou : sculptures de Jeanluc Hattemer » \nL’exposition au Musée du Pays de Hanau propose une promenade dans l’univers de Jeanluc Hattemer. À travers des formes épurées et des symboles universels\, il nous livre ses réflexions sur le monde\, la nature\, le mythe ou encore sur les figures du masculin/féminin. Des œuvres parfois colorées\, empreintes d’humour qui nous invitent au souvenir\, à la nostalgie de l’enfance ou nous questionnent sur notre rapport à la nature. \n  \nLe Musée du Pays de Hanau est un lieu de découverte\, un outil d’interprétation d’un territoire doté d’une identité culturelle affirmée. Il s’étend sur plus de de 800m² et développe trois thèmes :\n– l’histoire de Bouxwiller et de l’ancien comté de Hanau-Lichtenberg.\n– l’environnement et les ressources naturelles\, autour de la colline du Bastberg.\n– la vie sociale et culturelle à travers les objets du quotidien du Pays de Hanau. \n  \nEntrée du Musée gratuite\, pour tous. \nLieu : Musée du Pays de Hanau – 3 place du Château 67330 Bouxwiller \n 
URL:https://www.museedupaysdehanau.eu/event/journees-europeennes-du-patrimoine-8/
ATTACH;FMTTYPE=image/jpeg:https://www.museedupaysdehanau.eu/wp-content/uploads/2023/08/VG-Musee-photo-Marion_cherot-Sycoparc.jpg
END:VEVENT
BEGIN:VEVENT
DTSTART;TZID=Europe/Paris:20230917T150000
DTEND;TZID=Europe/Paris:20230917T150000
DTSTAMP:20260423T084302
CREATED:20230824T083604Z
LAST-MODIFIED:20230825T135236Z
UID:6495-1694962800-1694962800@www.museedupaysdehanau.eu
SUMMARY:"Explorations in situ" Visite en extérieur à la découverte du travail de Jeanluc Hattemer en compagnie de l'artiste
DESCRIPTION:En compagnie du sculpteur Jeanluc Hattemer\, découvrez son travail à travers la visite commentée de la rénovation des façades de l’Hôtel de Ville de Bouxwiller. Accompagnez-le ensuite à Imbsheim\, à la découverte d’un ensemble unique de bas-reliefs en grès\, puis poussez la porte de son atelier d’artiste et entrez dans un univers sensible et unique. \nDurée : 1h30\nLieu de rendez-vous : accueil du Musée du Pays de Hanau \nPlaces limitées. Réservations obligatoires au 03 88 00 38 39 ou contact@museedupaysdehanau.eu
URL:https://www.museedupaysdehanau.eu/event/explorations-in-situ-visite-en-exterieur-a-la-decouverte-du-travail-de-jeanluc-hattemer-en-compagnie-de-lartiste/
ATTACH;FMTTYPE=image/jpeg:https://www.museedupaysdehanau.eu/wp-content/uploads/2023/08/Visite-du-17-sept-Jeanluc-Hattemer-scaled.jpg
END:VEVENT
END:VCALENDAR