BEGIN:VCALENDAR
VERSION:2.0
PRODID:-//Bienvenue sur le site du Musée du Pays de Hanau - ECPv6.15.20//NONSGML v1.0//EN
CALSCALE:GREGORIAN
METHOD:PUBLISH
X-ORIGINAL-URL:https://www.museedupaysdehanau.eu
X-WR-CALDESC:Évènements pour Bienvenue sur le site du Musée du Pays de Hanau
REFRESH-INTERVAL;VALUE=DURATION:PT1H
X-Robots-Tag:noindex
X-PUBLISHED-TTL:PT1H
BEGIN:VTIMEZONE
TZID:Europe/Paris
BEGIN:DAYLIGHT
TZOFFSETFROM:+0100
TZOFFSETTO:+0200
TZNAME:CEST
DTSTART:20230326T010000
END:DAYLIGHT
BEGIN:STANDARD
TZOFFSETFROM:+0200
TZOFFSETTO:+0100
TZNAME:CET
DTSTART:20231029T010000
END:STANDARD
BEGIN:DAYLIGHT
TZOFFSETFROM:+0100
TZOFFSETTO:+0200
TZNAME:CEST
DTSTART:20240331T010000
END:DAYLIGHT
BEGIN:STANDARD
TZOFFSETFROM:+0200
TZOFFSETTO:+0100
TZNAME:CET
DTSTART:20241027T010000
END:STANDARD
BEGIN:DAYLIGHT
TZOFFSETFROM:+0100
TZOFFSETTO:+0200
TZNAME:CEST
DTSTART:20250330T010000
END:DAYLIGHT
BEGIN:STANDARD
TZOFFSETFROM:+0200
TZOFFSETTO:+0100
TZNAME:CET
DTSTART:20251026T010000
END:STANDARD
END:VTIMEZONE
BEGIN:VEVENT
DTSTART;TZID=Europe/Paris:20241204T143000
DTEND;TZID=Europe/Paris:20241204T143000
DTSTAMP:20260425T051253
CREATED:20241119T143044Z
LAST-MODIFIED:20241119T143044Z
UID:7226-1733322600-1733322600@www.museedupaysdehanau.eu
SUMMARY:Atelier bricolages de Noël (5-8 ans)
DESCRIPTION:Après avoir découvert les légendes de Noël\, les enfants entre 5 et 8 ans réaliseront de jolis bricolages de Noël. \nAtelier proposé par les Amis du Musée du Pays de Hanau. \nLieu : Musée du Pays de Hanau \nTarif : 5€ \nRéservations au 03 88 00 38 39 ou contact@museedupaysdehanau.eu
URL:https://www.museedupaysdehanau.eu/event/atelier-bricolages-de-noel-5-8-ans/
LOCATION:Musée du Pays de Hanau\, 3 place du Château \, Bouxwiller\, 67330
ATTACH;FMTTYPE=image/jpeg:https://www.museedupaysdehanau.eu/wp-content/uploads/2024/11/4-dec_atelier-enfants-noel-5_8-ans_Mairie-de-Bouxwiller-scaled.jpg
END:VEVENT
BEGIN:VEVENT
DTSTART;TZID=Europe/Paris:20241207T160000
DTEND;TZID=Europe/Paris:20241207T180000
DTSTAMP:20260425T051253
CREATED:20241119T143208Z
LAST-MODIFIED:20241119T143208Z
UID:7229-1733587200-1733594400@www.museedupaysdehanau.eu
SUMMARY:Kamishibaï\, histoires de Noël en alsacien avec Manon Zinck
DESCRIPTION:Accompagnée de son kamishibaï\, l’intervenante initiera les participants à l’alsacien grâce à de jolis contes participatifs. \nLieu : Musée du Pays de Hanau Places limitées. Réservations obligatoires au 03 88 00 38 39 ou contact@museedupaysdehanau.eu \nDédicace de son livre « Hafele & Storichele … à la recherche du Deckele » \nDédicace de 17h à 18h • Boutique du Musée du Pays de Hanau \n 
URL:https://www.museedupaysdehanau.eu/event/kamishibai-histoires-de-noel-en-alsacien-avec-manon-zinck/
ATTACH;FMTTYPE=image/jpeg:https://www.museedupaysdehanau.eu/wp-content/uploads/2024/11/7.8-dec.contes.cr-quantin-dumbach2.jpg
END:VEVENT
BEGIN:VEVENT
DTSTART;TZID=Europe/Paris:20241208T160000
DTEND;TZID=Europe/Paris:20241208T180000
DTSTAMP:20260425T051253
CREATED:20241119T143251Z
LAST-MODIFIED:20241119T143307Z
UID:7236-1733673600-1733680800@www.museedupaysdehanau.eu
SUMMARY:Kamishibaï\, histoires de Noël en alsacien avec Manon Zinck
DESCRIPTION:Accompagnée de son kamishibaï\, l’intervenante initiera les participants à l’alsacien grâce à de jolis contes participatifs. \nLieu : Musée du Pays de Hanau Places limitées. Réservations obligatoires au 03 88 00 38 39 ou contact@museedupaysdehanau.eu \nDédicace de son livre « Hafele & Storichele … à la recherche du Deckele » \nDédicace de 17h à 18h • Boutique du Musée du Pays de Hanau \n 
URL:https://www.museedupaysdehanau.eu/event/kamishibai-histoires-de-noel-en-alsacien-avec-manon-zinck-2/
ATTACH;FMTTYPE=image/jpeg:https://www.museedupaysdehanau.eu/wp-content/uploads/2024/11/7.8-dec.contes.cr-quantin-dumbach2.jpg
END:VEVENT
BEGIN:VEVENT
DTSTART;TZID=Europe/Paris:20241211T143000
DTEND;TZID=Europe/Paris:20241211T143000
DTSTAMP:20260425T051253
CREATED:20241119T143434Z
LAST-MODIFIED:20241119T143547Z
UID:7238-1733927400-1733927400@www.museedupaysdehanau.eu
SUMMARY:Atelier bricolages de Noël (7-12 ans)
DESCRIPTION:Après avoir découvert les légendes de Noël\, les enfants entre 7 et 12 ans réaliseront de jolies décorations pour les fêtes de Noël. \nLieu : Musée du Pays de Hanau \nTarif : 5€ \nRéservations au 03 88 00 38 39 ou contact@museedupaysdehanau.eu \n 
URL:https://www.museedupaysdehanau.eu/event/atelier-bricolages-de-noel-7-12-ans-3/
ATTACH;FMTTYPE=image/jpeg:https://www.museedupaysdehanau.eu/wp-content/uploads/2024/11/11-dec_atelier-7_12-ans_Mairie-de-Bouxwiller-scaled.jpg
END:VEVENT
END:VCALENDAR