BEGIN:VCALENDAR
VERSION:2.0
PRODID:-//Bienvenue sur le site du Musée du Pays de Hanau - ECPv6.15.20//NONSGML v1.0//EN
CALSCALE:GREGORIAN
METHOD:PUBLISH
X-WR-CALNAME:Bienvenue sur le site du Musée du Pays de Hanau
X-ORIGINAL-URL:https://www.museedupaysdehanau.eu
X-WR-CALDESC:Évènements pour Bienvenue sur le site du Musée du Pays de Hanau
REFRESH-INTERVAL;VALUE=DURATION:PT1H
X-Robots-Tag:noindex
X-PUBLISHED-TTL:PT1H
BEGIN:VTIMEZONE
TZID:Europe/Paris
BEGIN:DAYLIGHT
TZOFFSETFROM:+0100
TZOFFSETTO:+0200
TZNAME:CEST
DTSTART:20240331T010000
END:DAYLIGHT
BEGIN:STANDARD
TZOFFSETFROM:+0200
TZOFFSETTO:+0100
TZNAME:CET
DTSTART:20241027T010000
END:STANDARD
BEGIN:DAYLIGHT
TZOFFSETFROM:+0100
TZOFFSETTO:+0200
TZNAME:CEST
DTSTART:20250330T010000
END:DAYLIGHT
BEGIN:STANDARD
TZOFFSETFROM:+0200
TZOFFSETTO:+0100
TZNAME:CET
DTSTART:20251026T010000
END:STANDARD
BEGIN:DAYLIGHT
TZOFFSETFROM:+0100
TZOFFSETTO:+0200
TZNAME:CEST
DTSTART:20260329T010000
END:DAYLIGHT
BEGIN:STANDARD
TZOFFSETFROM:+0200
TZOFFSETTO:+0100
TZNAME:CET
DTSTART:20261025T010000
END:STANDARD
END:VTIMEZONE
BEGIN:VEVENT
DTSTART;VALUE=DATE:20250328
DTEND;VALUE=DATE:20250609
DTSTAMP:20260424T212152
CREATED:20250325T080837Z
LAST-MODIFIED:20250325T080857Z
UID:7337-1743120000-1749427199@www.museedupaysdehanau.eu
SUMMARY:Exposition | Réalisme magique
DESCRIPTION:Les peintures textiles d’Aurélien Lepage invitent à une immersion méditative au sein d’œuvres aux couleurs chatoyantes et aux motifs labyrinthiques. \nEntre ex-voto et enluminures\, évoquant tour à tour les tapisseries médiévales\, les tapis persans ou les nappes brodées\, ses peintures entremêlent ornements végétaux et figures mystérieuses aux significations multiples : ici une sirène contemple le cosmos\, là un Dionysos éméché côtoie un séraphin embrasé. Comme dans un labyrinthe\, il s’agit de se perdre et d’errer parmi les motifs et les matières\, les éléments brodés\, collés\, cousus\, dissimulés ou révélés. Le fil textile qui compose ses œuvres se veut pinceau\, coulure de peinture\, lien et liant. Aurélien Lepage nous offre une plongée magique dans un travail où la matière brute est magnifiée\, transmutée pour donner naissance à des objets à la fois opulents et modestes. \nL’artiste s’est laissé prendre au jeu de présenter certaines œuvres de la collection du Musée du Pays de Hanau en dialogue\, une rencontre autour des surfaces textiles et des coutures populaires. \nExposition du 28 mars au 8 juin 2025
URL:https://www.museedupaysdehanau.eu/event/exposition-realisme-magique/
LOCATION:Musée du Pays de Hanau\, 3 place du Château \, Bouxwiller\, 67330
ATTACH;FMTTYPE=image/jpeg:https://www.museedupaysdehanau.eu/wp-content/uploads/2025/03/Exposition-2025-Aurelien-Lepage-Affiche-A4_page-0001-22-scaled.jpg
ORGANIZER;CN="Mus%C3%A9e du Pays de Hanau":MAILTO:contact@museedupaysdehanau.eu
END:VEVENT
BEGIN:VEVENT
DTSTART;TZID=Europe/Paris:20250514T143000
DTEND;TZID=Europe/Paris:20250514T170000
DTSTAMP:20260424T212152
CREATED:20250509T072413Z
LAST-MODIFIED:20250509T082005Z
UID:7374-1747233000-1747242000@www.museedupaysdehanau.eu
SUMMARY:Atelier bricolage « Un cadeau fait main pour la fête des mères ! » (7-12 ans)
DESCRIPTION:À l’approche de la Fête des mères\, les bénévoles de l’Association des Amis du Musée invitent les enfants à un atelier créatif aussi doux qu’original. \nAu programme : fabrication et décoration d’un petit panier personnalisé à offrir à leur maman – un geste touchant pour exprimer leur affection avec cœur et créativité. \nCe moment ludique et artistique sera également l’occasion\, avec une médiatrice du musée\, de voyager dans le temps à la découverte des cadeaux faits main d’autrefois : poupées de chiffon\, silhouettes en bois peint… Des présents simples\, mais chargés d’émotion\, qui racontent une autre époque. \nDurée: 2h30Tarif : 5 € (goûter offert)\nLieu :  Musée du Pays de Hanau – 3 place du Château 67330 BouxwillerPlace limitées : Réservation obligatoire au 03 88 00 38 39 ou contact@museedupaysdehanau.eu
URL:https://www.museedupaysdehanau.eu/event/atelier-bricolage-un-cadeau-fait-main-pour-la-fete-des-meres-7-12-ans/
LOCATION:Musée du Pays de Hanau\, 3 place du Château \, Bouxwiller\, 67330
ATTACH;FMTTYPE=image/png:https://www.museedupaysdehanau.eu/wp-content/uploads/2025/05/Facebook-bandeau-6.png
ORGANIZER;CN="Mus%C3%A9e du Pays de Hanau":MAILTO:contact@museedupaysdehanau.eu
END:VEVENT
BEGIN:VEVENT
DTSTART;TZID=Europe/Paris:20250517T190000
DTEND;TZID=Europe/Paris:20250517T230000
DTSTAMP:20260424T212152
CREATED:20250513T070834Z
LAST-MODIFIED:20250513T070834Z
UID:7382-1747508400-1747522800@www.museedupaysdehanau.eu
SUMMARY:Nuit européenne des Musées
DESCRIPTION:Le Musée vous ouvre ses portes en nocturne pour une soirée unique mêlant patrimoine et art !\n\n\n\n Samedi 17 mai | 19h – 23h\n Entrée gratuite\n\n\n\nVisite libre du musée\, installé dans un magnifique ensemble architectural inscrit aux Monuments historiques. Une belle occasion de (re)découvrir ses collections à la lueur de la nuit…\n\n\n\nPour l’occasion\, les élèves de 3e du Lycée Schattenmann exposeront leurs sculptures en albâtre réalisées avec le sculpteur Jeanluc Hattemer. Cette exposition s’inscrit dans le cadre du projet « La classe\, l’œuvre ! »\, autour de leur démarche artistique et en écho au travail du sculpteur du XVe siècle Nicolas de Leyde.\n\n\n\nUne soirée exceptionnelle en perspective. Venez nombreux !
URL:https://www.museedupaysdehanau.eu/event/nuit-europeenne-des-musees-2/
LOCATION:Musée du Pays de Hanau\, 3 place du Château \, Bouxwiller\, 67330
ATTACH;FMTTYPE=image/png:https://www.museedupaysdehanau.eu/wp-content/uploads/2025/05/Nuit-europeenne-des-Musees.png
ORGANIZER;CN="Mus%C3%A9e du Pays de Hanau":MAILTO:contact@museedupaysdehanau.eu
END:VEVENT
END:VCALENDAR