BEGIN:VCALENDAR
VERSION:2.0
PRODID:-//Bienvenue sur le site du Musée du Pays de Hanau - ECPv6.15.20//NONSGML v1.0//EN
CALSCALE:GREGORIAN
METHOD:PUBLISH
X-WR-CALNAME:Bienvenue sur le site du Musée du Pays de Hanau
X-ORIGINAL-URL:https://www.museedupaysdehanau.eu
X-WR-CALDESC:Évènements pour Bienvenue sur le site du Musée du Pays de Hanau
REFRESH-INTERVAL;VALUE=DURATION:PT1H
X-Robots-Tag:noindex
X-PUBLISHED-TTL:PT1H
BEGIN:VTIMEZONE
TZID:Europe/Paris
BEGIN:DAYLIGHT
TZOFFSETFROM:+0100
TZOFFSETTO:+0200
TZNAME:CEST
DTSTART:20240331T010000
END:DAYLIGHT
BEGIN:STANDARD
TZOFFSETFROM:+0200
TZOFFSETTO:+0100
TZNAME:CET
DTSTART:20241027T010000
END:STANDARD
BEGIN:DAYLIGHT
TZOFFSETFROM:+0100
TZOFFSETTO:+0200
TZNAME:CEST
DTSTART:20250330T010000
END:DAYLIGHT
BEGIN:STANDARD
TZOFFSETFROM:+0200
TZOFFSETTO:+0100
TZNAME:CET
DTSTART:20251026T010000
END:STANDARD
BEGIN:DAYLIGHT
TZOFFSETFROM:+0100
TZOFFSETTO:+0200
TZNAME:CEST
DTSTART:20260329T010000
END:DAYLIGHT
BEGIN:STANDARD
TZOFFSETFROM:+0200
TZOFFSETTO:+0100
TZNAME:CET
DTSTART:20261025T010000
END:STANDARD
END:VTIMEZONE
BEGIN:VEVENT
DTSTART;TZID=Europe/Paris:20250626T080000
DTEND;TZID=Europe/Paris:20250921T170000
DTSTAMP:20260424T183643
CREATED:20250613T201337Z
LAST-MODIFIED:20250613T201337Z
UID:7465-1750924800-1758474000@www.museedupaysdehanau.eu
SUMMARY:Exposition | Là où fleurissent nos cœurs ardents
DESCRIPTION:Une exposition incandescente où la passion du verre prend forme et vous enflamme ! \nLe Musée du Pays de Hanau accueille cet été les œuvres flamboyantes des diplômés de la promotion 2025 du Cerfav – Créateurs verriers. Une invitation à plonger dans un univers où transparence\, éclat\, matière et feu se rencontrent pour façonner une vision singulière du verre contemporain. Vitrail\, soufflage à la canne ou au chalumeau\, pâte de verre\, taille\, décoration… autant de savoir-faire que ces créateurs ont explorés\, maîtrisés et sublimés. \n« Approchez\, ne craignez rien… »\, nous disent ces jeunes artistes. Leurs cœurs ardents ont embrassé la matière pour mieux la métamorphoser. Cette exposition\, première rencontre avec le public\, est leur baptême du feu\, une déclaration d’amour passionnée au verre. Leurs œuvres vibrent de créativité\, de finesse et d’engagement artistique. Elles vous parlent du souffle\, du geste\, du feu et vous transportent dans un monde façonné à la main\, au chalumeau\, au cœur. \nLes artistes exposants\n Justine Ressot (@l_atelier_bariole) : soufflage à la canne Fiona Del Gallo (@princesseglass) : soufflage à la canne\, vitrail Théo Lukas (@le_verre_a_bois) : décoration\, pâte de verre\, ébénisterie Aude Seigneur (@odsgr) : décoration\, pâte de verre\, vitrail Alizée Berthet (@alizee.berthet) : travail à froid\, taille\, décoration Pauline Marchand-Tonel (@pauline_marchandtonel) : vitrail Caroline Moal (@caroo_moal) : soufflage au chalumeau\, verrerie scientifique Mathilde Etienne (@_thildae) : soufflage au chalumeau\, verrerie scientifique Nolwenn Felix (@nolwenn.flx) : soufflage au chalumeau\, verrerie scientifique Pauline Repussard (@pauline.repussard) : soufflage au chalumeau\, verrerie scientifique \nUne exposition du 26 juin au 21 septembre.
URL:https://www.museedupaysdehanau.eu/event/exposition-la-ou-fleurissent-nos-coeurs-ardents/
LOCATION:Musée du Pays de Hanau\, 3 place du Château \, Bouxwiller\, 67330
ATTACH;FMTTYPE=image/jpeg:https://www.museedupaysdehanau.eu/wp-content/uploads/2025/06/0-A4-sans-trait-de-coupe_page-0001-1.jpg
ORGANIZER;CN="Mus%C3%A9e du Pays de Hanau":MAILTO:contact@museedupaysdehanau.eu
END:VEVENT
BEGIN:VEVENT
DTSTART;TZID=Europe/Paris:20250702T150000
DTEND;TZID=Europe/Paris:20250702T150000
DTSTAMP:20260424T183643
CREATED:20250517T131419Z
LAST-MODIFIED:20250517T131419Z
UID:7401-1751468400-1751468400@www.museedupaysdehanau.eu
SUMMARY:Visite guidée « Sur les traces de Marie Hart »
DESCRIPTION:En compagnie de Laure Lickel\, chargée de médiation\, découvrez la ville de Bouxwiller à travers les yeux de Marie Hart\, romancière et poétesse bouxwilleroise\, née en 1856. Vous découvrirez les lieux qui lui sont liés et avec eux la passionnante histoire d’une femme de caractère ayant vécu l’époque de la Grande Guerre. \nAnimation gratuite \nDurée : 2h \nPlaces limitées. Réservations obligatoires au 03 88 00 38 39 ou contact@museedupaysdehanau.eu \nLieu de départ : Musée du Pays de Hanau – 3 place du Château 67330 Bouxwiller
URL:https://www.museedupaysdehanau.eu/event/visite-guidee-sur-les-traces-de-marie-hart/
ATTACH;FMTTYPE=image/jpeg:https://www.museedupaysdehanau.eu/wp-content/uploads/2024/05/VG-31-juillet-Marie-Hart-photo-Ville-de-Bouxwiller-e1715690992621.jpg
END:VEVENT
BEGIN:VEVENT
DTSTART;TZID=Europe/Paris:20250709T203000
DTEND;TZID=Europe/Paris:20250709T203000
DTSTAMP:20260424T183643
CREATED:20250517T131716Z
LAST-MODIFIED:20250517T131716Z
UID:7404-1752093000-1752093000@www.museedupaysdehanau.eu
SUMMARY:Visite guidée nocturne de la ville de Bouxwiller : « Balade ensorcelée et mystérieuse de la cité historique »
DESCRIPTION:En compagnie de la guide Laure Lickel\, découvrez la cité mystérieuse de Bouxwiller. Entre légendes et réalité\, laissez-vous emporter par le tourbillon du Temps\, à une époque où savoir\, superstitions\, sorcellerie et symbolisme s’entremêlaient. Peut-être\, serez-vous surpris au détour d’une rue par une créature fantastique ? Il n’est pas rare d’apercevoir des sorcières\, des animaux fantastiques et autres curiosités à Bouxwiller. Seules les âmes pures et sensibles pourront prétendre à ces rencontres extraordinaires et cela uniquement à Minuit ! \nCependant\, ne soyez pas déçu(e)s\, d’autres secrets seront dévoilés lors de cette balade au cœur de la cité. \nMais chut\, ne dévoilons pas tout\, le mystère doit rester entier ! \n\nAnimation gratuite \nDurée : 2h \nPlaces limitées. Réservations obligatoires au 03 88 00 38 39 ou contact@museedupaysdehanau.eu \nLieu de départ : Musée du Pays de Hanau – 3 place du Château 67330 Bouxwiller
URL:https://www.museedupaysdehanau.eu/event/visite-guidee-nocturne-de-la-ville-de-bouxwiller-balade-ensorcelee-et-mysterieuse-de-la-cite-historique-2/
ATTACH;FMTTYPE=image/jpeg:https://www.museedupaysdehanau.eu/wp-content/uploads/2023/03/VG-20-juillet.-Photo-Anne-Laure-Nyari-scaled.jpg
END:VEVENT
BEGIN:VEVENT
DTSTART;TZID=Europe/Paris:20250716T143000
DTEND;TZID=Europe/Paris:20250716T143000
DTSTAMP:20260424T183643
CREATED:20250517T132103Z
LAST-MODIFIED:20250517T132103Z
UID:7407-1752676200-1752676200@www.museedupaysdehanau.eu
SUMMARY:Visite de la colline du Bastberg « Les plantes des Druides et leurs mystères »
DESCRIPTION:Découvrez le monde magique des Druides\, leurs connaissances\, leurs croyances et leur connexion aux plantes et aux arbres. Grâce à la guide Laure Lickel\, vous observerez comment humains et végétaux communiquent\, en bonne intelligence\, pour le bien-être et l’équilibre des Hommes et de la Nature. \nAnimation gratuite\nDurée : 2h30\nPlaces limitées. Réservations obligatoires au 03 88 00 38 39 ou contact@museedupaysdehanau.eu\nSite internet : www.museedupaysdehanau.eu\nLieu de rendez-vous : : RFC9+WF Bouxwiller – Parking du château d’eau en face de la ferme pédagogique du Hexehoft
URL:https://www.museedupaysdehanau.eu/event/visite-de-la-colline-du-bastberg-les-plantes-des-druides-et-leurs-mysteres/
ATTACH;FMTTYPE=image/jpeg:https://www.museedupaysdehanau.eu/wp-content/uploads/2025/05/16-07-visite-plantes-et-druides-photo-Melanie-Le-Hir-6-scaled-e1747487964198.jpg
END:VEVENT
BEGIN:VEVENT
DTSTART;TZID=Europe/Paris:20250723T150000
DTEND;TZID=Europe/Paris:20250723T150000
DTSTAMP:20260424T183643
CREATED:20250517T132634Z
LAST-MODIFIED:20250517T132634Z
UID:7410-1753282800-1753282800@www.museedupaysdehanau.eu
SUMMARY:Visite guidée de la ville de Bouxwiller « Histoire\, sorcellerie et superstitions »
DESCRIPTION:En compagnie de Laure Lickel\, chargée de médiation\, découvrez le riche passé historique de cette cité de caractère qu’est Bouxwiller. Ce voyage dans le temps sera aussi l’occasion d’entrer dans le monde des symboles\, des croyances et des superstitions\, sans oublier l’univers de la sorcellerie\, dont les traces sont encore présentes à Bouxwiller. \n  \nAnimation gratuite\nDurée : 2h\nPlaces limitées. Réservations obligatoires au 03 88 00 38 39 ou contact@museedupaysdehanau.eu\nLieu de départ : Musée du Pays de Hanau – 3 place du Château 67330 Bouxwiller
URL:https://www.museedupaysdehanau.eu/event/visite-guidee-de-la-ville-de-bouxwiller-histoire-sorcellerie-et-superstitions/
ATTACH;FMTTYPE=image/jpeg:https://www.museedupaysdehanau.eu/wp-content/uploads/2024/05/VG-Ville-20-juin-Photo-Melanie-Le-Hir-scaled-e1715688088977.jpg
END:VEVENT
END:VCALENDAR