BEGIN:VCALENDAR
VERSION:2.0
PRODID:-//Bienvenue sur le site du Musée du Pays de Hanau - ECPv6.15.20//NONSGML v1.0//EN
CALSCALE:GREGORIAN
METHOD:PUBLISH
X-WR-CALNAME:Bienvenue sur le site du Musée du Pays de Hanau
X-ORIGINAL-URL:https://www.museedupaysdehanau.eu
X-WR-CALDESC:Évènements pour Bienvenue sur le site du Musée du Pays de Hanau
REFRESH-INTERVAL;VALUE=DURATION:PT1H
X-Robots-Tag:noindex
X-PUBLISHED-TTL:PT1H
BEGIN:VTIMEZONE
TZID:Europe/Paris
BEGIN:DAYLIGHT
TZOFFSETFROM:+0100
TZOFFSETTO:+0200
TZNAME:CEST
DTSTART:20240331T010000
END:DAYLIGHT
BEGIN:STANDARD
TZOFFSETFROM:+0200
TZOFFSETTO:+0100
TZNAME:CET
DTSTART:20241027T010000
END:STANDARD
BEGIN:DAYLIGHT
TZOFFSETFROM:+0100
TZOFFSETTO:+0200
TZNAME:CEST
DTSTART:20250330T010000
END:DAYLIGHT
BEGIN:STANDARD
TZOFFSETFROM:+0200
TZOFFSETTO:+0100
TZNAME:CET
DTSTART:20251026T010000
END:STANDARD
BEGIN:DAYLIGHT
TZOFFSETFROM:+0100
TZOFFSETTO:+0200
TZNAME:CEST
DTSTART:20260329T010000
END:DAYLIGHT
BEGIN:STANDARD
TZOFFSETFROM:+0200
TZOFFSETTO:+0100
TZNAME:CET
DTSTART:20261025T010000
END:STANDARD
END:VTIMEZONE
BEGIN:VEVENT
DTSTART;TZID=Europe/Paris:20250626T080000
DTEND;TZID=Europe/Paris:20250921T170000
DTSTAMP:20260424T171226
CREATED:20250613T201337Z
LAST-MODIFIED:20250613T201337Z
UID:7465-1750924800-1758474000@www.museedupaysdehanau.eu
SUMMARY:Exposition | Là où fleurissent nos cœurs ardents
DESCRIPTION:Une exposition incandescente où la passion du verre prend forme et vous enflamme ! \nLe Musée du Pays de Hanau accueille cet été les œuvres flamboyantes des diplômés de la promotion 2025 du Cerfav – Créateurs verriers. Une invitation à plonger dans un univers où transparence\, éclat\, matière et feu se rencontrent pour façonner une vision singulière du verre contemporain. Vitrail\, soufflage à la canne ou au chalumeau\, pâte de verre\, taille\, décoration… autant de savoir-faire que ces créateurs ont explorés\, maîtrisés et sublimés. \n« Approchez\, ne craignez rien… »\, nous disent ces jeunes artistes. Leurs cœurs ardents ont embrassé la matière pour mieux la métamorphoser. Cette exposition\, première rencontre avec le public\, est leur baptême du feu\, une déclaration d’amour passionnée au verre. Leurs œuvres vibrent de créativité\, de finesse et d’engagement artistique. Elles vous parlent du souffle\, du geste\, du feu et vous transportent dans un monde façonné à la main\, au chalumeau\, au cœur. \nLes artistes exposants\n Justine Ressot (@l_atelier_bariole) : soufflage à la canne Fiona Del Gallo (@princesseglass) : soufflage à la canne\, vitrail Théo Lukas (@le_verre_a_bois) : décoration\, pâte de verre\, ébénisterie Aude Seigneur (@odsgr) : décoration\, pâte de verre\, vitrail Alizée Berthet (@alizee.berthet) : travail à froid\, taille\, décoration Pauline Marchand-Tonel (@pauline_marchandtonel) : vitrail Caroline Moal (@caroo_moal) : soufflage au chalumeau\, verrerie scientifique Mathilde Etienne (@_thildae) : soufflage au chalumeau\, verrerie scientifique Nolwenn Felix (@nolwenn.flx) : soufflage au chalumeau\, verrerie scientifique Pauline Repussard (@pauline.repussard) : soufflage au chalumeau\, verrerie scientifique \nUne exposition du 26 juin au 21 septembre.
URL:https://www.museedupaysdehanau.eu/event/exposition-la-ou-fleurissent-nos-coeurs-ardents/
LOCATION:Musée du Pays de Hanau\, 3 place du Château \, Bouxwiller\, 67330
ATTACH;FMTTYPE=image/jpeg:https://www.museedupaysdehanau.eu/wp-content/uploads/2025/06/0-A4-sans-trait-de-coupe_page-0001-1.jpg
ORGANIZER;CN="Mus%C3%A9e du Pays de Hanau":MAILTO:contact@museedupaysdehanau.eu
END:VEVENT
BEGIN:VEVENT
DTSTART;TZID=Europe/Paris:20250803T150000
DTEND;TZID=Europe/Paris:20250803T150000
DTSTAMP:20260424T171226
CREATED:20250710T123236Z
LAST-MODIFIED:20250710T123236Z
UID:7489-1754233200-1754233200@www.museedupaysdehanau.eu
SUMMARY:Visite guidée de l’exposition "Là où fleurissent nos cœurs ardents"
DESCRIPTION:En compagnie d’une médiatrice du musée\, découvrez les œuvres de neuf jeunes créateurs verriers du Cerfav (Centre Européen de Recherches et de Formation aux Arts Verriers). Ces artistes nous livrent un brasier créatif\, où chaque pièce exprime une vision singulière du verre\, matériau fascinant\, polymorphe et lumineux. Objets du quotidien\, bijoux\, sculptures\, luminaires ou encore vitraux composent un parcours artistique riche et enflammé\, offrant une première rencontre publique avec le travail de ces jeunes talents. \nActivation exceptionnelle de l’œuvre de Mathilde Etienne\, Ce que l’eau nous murmure encore. \nDurée : 45 minutes\nPlaces limitées. Réservations obligatoires au 03 88 00 38 39 ou contact@museedupaysdehanau.eu\nLieu : Musée du Pays de Hanau – 3 place du Château 67330 Bouxwiller
URL:https://www.museedupaysdehanau.eu/event/visite-guidee-de-lexposition-la-ou-fleurissent-nos-coeurs-ardents/
ATTACH;FMTTYPE=image/jpeg:https://www.museedupaysdehanau.eu/wp-content/uploads/2025/07/expo-cerfav-photo-MLH-24-scaled-e1752150707521.jpg
END:VEVENT
BEGIN:VEVENT
DTSTART;TZID=Europe/Paris:20250807T143000
DTEND;TZID=Europe/Paris:20250807T143000
DTSTAMP:20260424T171226
CREATED:20250517T132958Z
LAST-MODIFIED:20250517T132958Z
UID:7412-1754577000-1754577000@www.museedupaysdehanau.eu
SUMMARY:Visite guidée « À la découverte du Musée du Pays de Hanau »
DESCRIPTION:Le Pays de Hanau est le berceau des symboles de l’Alsace. Saviez-vous que le bretzel et la coiffe traditionnelle\, avec son grand nœud noir\, sont originaires du Pays de Hanau ? Ou encore que Bouxwiller a été autrefois une capitale princière et rayonnait sur un grand territoire de part et d’autre du Rhin ? Découvrez la riche histoire du Pays de Hanau dans un magnifique cadre architectural datant des 14ème et 16ème siècles\, en compagnie d’une de nos guides du Musée. \nVisite proposée tous les jeudis du 7 août au 4 septembre inclus 2024.\nDurée : 1h\nTarif : Entrée du Musée\nPlaces limitées. Réservation obligatoire au 03 88 00 38 39 ou contact@museedupaysdehanau.eu\nLieu : Musée du Pays de Hanau – 3 place du Château 67330 Bouxwiller
URL:https://www.museedupaysdehanau.eu/event/visite-guidee-a-la-decouverte-du-musee-du-pays-de-hanau-3/
ATTACH;FMTTYPE=image/jpeg:https://www.museedupaysdehanau.eu/wp-content/uploads/2024/09/JEP-Musee-ouvert-et-visite-guidee-du-5-septembre-photo-Marion_cherot-Sycoparc-e1725719411577.jpg
END:VEVENT
BEGIN:VEVENT
DTSTART;TZID=Europe/Paris:20250808T203000
DTEND;TZID=Europe/Paris:20250808T203000
DTSTAMP:20260424T171226
CREATED:20250517T133306Z
LAST-MODIFIED:20250709T135722Z
UID:7414-1754685000-1754685000@www.museedupaysdehanau.eu
SUMMARY:Visite guidée nocturne du village l'Imbsheim : « Sorcière ! Sorcières ! »
DESCRIPTION:En compagnie de la conteuse Christine Fischbach et de la guide et conteuse\, Laure Lickel\, partez à la découverte des sorcières\, des croyances et des superstitions qui sont encore bien présentes\, et qui vous feront patienter jusqu’au 27 et 28 septembre\, où le Festival des Sorcières investira\, pour sa seconde édition\, le centre historique de la Petite Cité de Caractère ® de Bouxwiller. \nAnimation gratuite dans le cadre de la programmation « Les vendredis de l’été » organisée par la Ville de Bouxwiller\nDurée : 2h\nPlaces limitées. Réservations obligatoires au 03 88 00 38 39 ou contact@museedupaysdehanau.eu\nLieu de départ : Lavoir à Imbsheim
URL:https://www.museedupaysdehanau.eu/event/visite-guidee-nocturne-de-la-ville-de-bouxwiller-sorciere-sorcieres/
ATTACH;FMTTYPE=image/jpeg:https://www.museedupaysdehanau.eu/wp-content/uploads/2025/05/08-08-visite-nocturne-photo-Ville-de-Bouxwiller-scaled-e1747488762646.jpg
END:VEVENT
BEGIN:VEVENT
DTSTART;TZID=Europe/Paris:20250810T150000
DTEND;TZID=Europe/Paris:20250810T150000
DTSTAMP:20260424T171226
CREATED:20250517T133441Z
LAST-MODIFIED:20250517T133441Z
UID:7417-1754838000-1754838000@www.museedupaysdehanau.eu
SUMMARY:Visite guidée de la ville de Bouxwiller : « Cité historique entre Moyen Âge et Renaissance »
DESCRIPTION:En compagnie de Laure Lickel\, chargée de médiation\, partez à la découverte des vestiges médiévaux et Renaissance qui jalonnent encore aujourd’hui les ruelles historiques de la Petite Cité de Caractère ®\, qu’est Bouxwiller. Ce sera aussi l’occasion d’évoquer son passé en tant que capitale du comté de Hanau-Lichtenberg qui lui a valu sa large notoriété et ses cours nobles que nous pouvons encore admirer dans la rue des Seigneurs. \nAnimation gratuite\nDurée : 2h\nRéservations obligatoires au 03 88 00 38 39 ou contact@museedupaysdehanau.eu\nLieu de départ : Musée du Pays de Hanau – 3 place du Château 67330 Bouxwiller
URL:https://www.museedupaysdehanau.eu/event/visite-guidee-de-la-ville-de-bouxwiller-cite-historique-entre-moyen-age-et-renaissance/
ATTACH;FMTTYPE=image/jpeg:https://www.museedupaysdehanau.eu/wp-content/uploads/2024/05/28-aout-VG-photo-Melanie-Le-Hir-scaled-e1715694460349.jpg
END:VEVENT
BEGIN:VEVENT
DTSTART;TZID=Europe/Paris:20250813T143000
DTEND;TZID=Europe/Paris:20250813T143000
DTSTAMP:20260424T171226
CREATED:20250517T134212Z
LAST-MODIFIED:20250517T134333Z
UID:7421-1755095400-1755095400@www.museedupaysdehanau.eu
SUMMARY:Atelier « Des fossiles ensorcelés »  7-12 ans
DESCRIPTION:Avant le développement des sciences\, les fossiles étaient perçus comme des objets mystérieux et ont nourri les superstitions autour de la colline du Bastberg.\nLors de cet atelier original\, les enfants découvriront comment l’homme est capable de se construire un imaginaire à partir des éléments trouvés dans la nature\, et comment naissent les légendes. Les enfants pourront ensuite inventer leur propre créature magique et découvrir l’une des légendes de sorcière de Bouxwiller\, à l’aide d’un kamishibaï. \nEnfant de 7-12 ans\nDurée : 2h\n5€\nPlaces limitées. Réservations au 03 88 00 38 39 ou contact@museedupaysdehanau.eu\nLieu : Musée du Pays de Hanau – 3 place du Château 67330 Bouxwiller
URL:https://www.museedupaysdehanau.eu/event/atelier-des-fossiles-ensorceles-7-12-ans/
ATTACH;FMTTYPE=image/jpeg:https://www.museedupaysdehanau.eu/wp-content/uploads/2025/05/13-08-atelier-fossiles-ensorceles-photo-Melanie-Le-Hir-scaled-e1747489211340.jpg
END:VEVENT
BEGIN:VEVENT
DTSTART;TZID=Europe/Paris:20250814T143000
DTEND;TZID=Europe/Paris:20250814T143000
DTSTAMP:20260424T171226
CREATED:20250517T133704Z
LAST-MODIFIED:20250517T133704Z
UID:7419-1755181800-1755181800@www.museedupaysdehanau.eu
SUMMARY:Visite guidée « À la découverte du Musée du Pays de Hanau »
DESCRIPTION:Le Pays de Hanau est le berceau des symboles de l’Alsace. Saviez-vous que le bretzel et la coiffe traditionnelle\, avec son grand nœud noir\, sont originaires du Pays de Hanau ? Ou encore que Bouxwiller a été autrefois une capitale princière et rayonnait sur un grand territoire de part et d’autre du Rhin ? Découvrez la riche histoire du Pays de Hanau dans un magnifique cadre architectural datant des 14ème et 16ème siècles\, en compagnie d’une de nos guides du Musée. \nVisite proposée tous les jeudis du 7 août au 4 septembre inclus 2024.\nDurée : 1h\nTarif : Entrée du Musée\nPlaces limitées. Réservation obligatoire au 03 88 00 38 39 ou contact@museedupaysdehanau.eu\nLieu : Musée du Pays de Hanau – 3 place du Château 67330 Bouxwiller
URL:https://www.museedupaysdehanau.eu/event/visite-guidee-a-la-decouverte-du-musee-du-pays-de-hanau-9/
ATTACH;FMTTYPE=image/jpeg:https://www.museedupaysdehanau.eu/wp-content/uploads/2024/09/JEP-Musee-ouvert-et-visite-guidee-du-5-septembre-photo-Marion_cherot-Sycoparc-e1725719411577.jpg
END:VEVENT
BEGIN:VEVENT
DTSTART;TZID=Europe/Paris:20250820T143000
DTEND;TZID=Europe/Paris:20250820T143000
DTSTAMP:20260424T171226
CREATED:20250517T134718Z
LAST-MODIFIED:20250517T134718Z
UID:7425-1755700200-1755700200@www.museedupaysdehanau.eu
SUMMARY:Visite guidée de la colline du Bastberg : « Les sorcières et les plantes magiques »
DESCRIPTION:En compagnie de Laure Lickel\, chargée de médiation\, les plantes des magiciennes seront mises à l’honneur. Vous découvrirez ces alliées des sorcières aux pouvoirs\, magiques ou guérisseurs\, et pour certaines\, aux propriétés hallucinogènes. La connaissance de ces plantes a valu à certaines femmes maintes tourmentes\, jusqu’au procès de sorcellerie\, dont l’issue était le plus souvent tragique. \nAnimation gratuite\nDurée : 2h30\nRéservations obligatoires au 03 88 00 38 39 ou contact@museedupaysdehanau.eu\nLieu de départ : RFC9+WF Bouxwiller – Parking du château d’eau en face de la ferme pédagogique du Hexehoft
URL:https://www.museedupaysdehanau.eu/event/visite-guidee-de-la-colline-du-bastberg-les-sorcieres-et-les-plantes-magiques/
ATTACH;FMTTYPE=image/jpeg:https://www.museedupaysdehanau.eu/wp-content/uploads/2025/05/20-08-visite-plantes-et-sorcieres-photo-Melanie-Le-Hir-4-scaled-e1747489577713.jpg
END:VEVENT
BEGIN:VEVENT
DTSTART;TZID=Europe/Paris:20250821T143000
DTEND;TZID=Europe/Paris:20250821T143000
DTSTAMP:20260424T171226
CREATED:20250517T134846Z
LAST-MODIFIED:20250517T134846Z
UID:7428-1755786600-1755786600@www.museedupaysdehanau.eu
SUMMARY:Visite guidée « À la découverte du Musée du Pays de Hanau »
DESCRIPTION:Le Pays de Hanau est le berceau des symboles de l’Alsace. Saviez-vous que le bretzel et la coiffe traditionnelle\, avec son grand nœud noir\, sont originaires du Pays de Hanau ? Ou encore que Bouxwiller a été autrefois une capitale princière et rayonnait sur un grand territoire de part et d’autre du Rhin ? Découvrez la riche histoire du Pays de Hanau dans un magnifique cadre architectural datant des 14ème et 16ème siècles\, en compagnie d’une de nos guides du Musée. \nVisite proposée tous les jeudis du 7 août au 4 septembre inclus 2024.\nDurée : 1h\nTarif : Entrée du Musée\nPlaces limitées. Réservation obligatoire au 03 88 00 38 39 ou contact@museedupaysdehanau.eu\nLieu : Musée du Pays de Hanau – 3 place du Château 67330 Bouxwiller
URL:https://www.museedupaysdehanau.eu/event/visite-guidee-a-la-decouverte-du-musee-du-pays-de-hanau-10/
ATTACH;FMTTYPE=image/jpeg:https://www.museedupaysdehanau.eu/wp-content/uploads/2024/09/JEP-Musee-ouvert-et-visite-guidee-du-5-septembre-photo-Marion_cherot-Sycoparc-e1725719411577.jpg
END:VEVENT
BEGIN:VEVENT
DTSTART;TZID=Europe/Paris:20250828T143000
DTEND;TZID=Europe/Paris:20250828T143000
DTSTAMP:20260424T171226
CREATED:20250517T135416Z
LAST-MODIFIED:20250517T135416Z
UID:7430-1756391400-1756391400@www.museedupaysdehanau.eu
SUMMARY:Visite guidée « À la découverte du Musée du Pays de Hanau »
DESCRIPTION:Le Pays de Hanau est le berceau des symboles de l’Alsace. Saviez-vous que le bretzel et la coiffe traditionnelle\, avec son grand nœud noir\, sont originaires du Pays de Hanau ? Ou encore que Bouxwiller a été autrefois une capitale princière et rayonnait sur un grand territoire de part et d’autre du Rhin ? Découvrez la riche histoire du Pays de Hanau dans un magnifique cadre architectural datant des 14ème et 16ème siècles\, en compagnie d’une de nos guides du Musée. \nVisite proposée tous les jeudis du 7 août au 4 septembre inclus 2024.\nDurée : 1h\nTarif : Entrée du Musée\nPlaces limitées. Réservation obligatoire au 03 88 00 38 39 ou contact@museedupaysdehanau.eu\nLieu : Musée du Pays de Hanau – 3 place du Château 67330 Bouxwiller
URL:https://www.museedupaysdehanau.eu/event/visite-guidee-a-la-decouverte-du-musee-du-pays-de-hanau-11/
ATTACH;FMTTYPE=image/jpeg:https://www.museedupaysdehanau.eu/wp-content/uploads/2024/09/JEP-Musee-ouvert-et-visite-guidee-du-5-septembre-photo-Marion_cherot-Sycoparc-e1725719411577.jpg
END:VEVENT
BEGIN:VEVENT
DTSTART;TZID=Europe/Paris:20250828T160000
DTEND;TZID=Europe/Paris:20250828T160000
DTSTAMP:20260424T171226
CREATED:20250710T123427Z
LAST-MODIFIED:20250710T123427Z
UID:7493-1756396800-1756396800@www.museedupaysdehanau.eu
SUMMARY:Visite guidée de l’exposition "Là où fleurissent nos cœurs ardents"
DESCRIPTION:En compagnie d’une médiatrice du musée\, découvrez les œuvres de neuf jeunes créateurs verriers du Cerfav (Centre Européen de Recherches et de Formation aux Arts Verriers). Ces artistes nous livrent un brasier créatif\, où chaque pièce exprime une vision singulière du verre\, matériau fascinant\, polymorphe et lumineux. Objets du quotidien\, bijoux\, sculptures\, luminaires ou encore vitraux composent un parcours artistique riche et enflammé\, offrant une première rencontre publique avec le travail de ces jeunes talents. \nActivation exceptionnelle de l’œuvre de Mathilde Etienne\, Ce que l’eau nous murmure encore. \nDurée : 45 minutes\nPlaces limitées. Réservations obligatoires au 03 88 00 38 39 ou contact@museedupaysdehanau.eu\nLieu : Musée du Pays de Hanau – 3 place du Château 67330 Bouxwiller
URL:https://www.museedupaysdehanau.eu/event/visite-guidee-de-lexposition-la-ou-fleurissent-nos-coeurs-ardents-2/
ATTACH;FMTTYPE=image/jpeg:https://www.museedupaysdehanau.eu/wp-content/uploads/2025/07/expo-cerfav-photo-MLH-24-scaled-e1752150707521.jpg
END:VEVENT
END:VCALENDAR