BEGIN:VCALENDAR
VERSION:2.0
PRODID:-//Bienvenue sur le site du Musée du Pays de Hanau - ECPv6.15.20//NONSGML v1.0//EN
CALSCALE:GREGORIAN
METHOD:PUBLISH
X-ORIGINAL-URL:https://www.museedupaysdehanau.eu
X-WR-CALDESC:Évènements pour Bienvenue sur le site du Musée du Pays de Hanau
REFRESH-INTERVAL;VALUE=DURATION:PT1H
X-Robots-Tag:noindex
X-PUBLISHED-TTL:PT1H
BEGIN:VTIMEZONE
TZID:Europe/Paris
BEGIN:DAYLIGHT
TZOFFSETFROM:+0100
TZOFFSETTO:+0200
TZNAME:CEST
DTSTART:20240331T010000
END:DAYLIGHT
BEGIN:STANDARD
TZOFFSETFROM:+0200
TZOFFSETTO:+0100
TZNAME:CET
DTSTART:20241027T010000
END:STANDARD
BEGIN:DAYLIGHT
TZOFFSETFROM:+0100
TZOFFSETTO:+0200
TZNAME:CEST
DTSTART:20250330T010000
END:DAYLIGHT
BEGIN:STANDARD
TZOFFSETFROM:+0200
TZOFFSETTO:+0100
TZNAME:CET
DTSTART:20251026T010000
END:STANDARD
BEGIN:DAYLIGHT
TZOFFSETFROM:+0100
TZOFFSETTO:+0200
TZNAME:CEST
DTSTART:20260329T010000
END:DAYLIGHT
BEGIN:STANDARD
TZOFFSETFROM:+0200
TZOFFSETTO:+0100
TZNAME:CET
DTSTART:20261025T010000
END:STANDARD
END:VTIMEZONE
BEGIN:VEVENT
DTSTART;TZID=Europe/Paris:20251004T140000
DTEND;TZID=Europe/Paris:20251004T160000
DTSTAMP:20260424T143027
CREATED:20250917T145615Z
LAST-MODIFIED:20250922T141120Z
UID:7538-1759586400-1759593600@www.museedupaysdehanau.eu
SUMMARY:Kamishibaï au rendez-vous du Relais Petite Enfance
DESCRIPTION: Samedi 4 octobre 2025 – 14h à 16h\n \nDans le cadre de la Semaine du Jeu organisée du 29 septembre au 3 octobre sur le territoire de Hanau-La Petite Pierre\, le Relais Petite Enfance vous donne rendez-vous à Bouxwiller pour une journée familiale et conviviale placée sous le signe du jeu et de la découverte. \nLe Musée s’invite à la fête \nEn partenariat avec le Relais Petite Enfance\, le Musée de Bouxwiller et du Pays de Hanau participera à l’après-midi en proposant des séances de Kamishibaï\, petit théâtre d’images japonais\, autour des légendes locales et des sorcières. \nTrois séances sont au programme : \n Pour les 4-6 ans : 14h – 14h30 \n Pour les 7-10 ans : 14h15 – 14h45 \n Pour les 7-10 ans : 14h30 – 16h \nCes moments de lecture et d’échanges plongeront les enfants dans l’imaginaire et le patrimoine local\, tout en leur offrant une expérience ludique et originale. \nInfos pratiques \n Les inscriptions sont centralisées par le Relais Petite Enfance : \npar mail : rpe@hanau-lapetitepierre.alsace \npar téléphone : 03 88 89 69 50 \nvia la page Facebook de la Maison de la Famille \n L’événement est gratuit et ouvert à toutes les familles du territoire\, dans une ambiance chaleureuse et participative.
URL:https://www.museedupaysdehanau.eu/event/kamishibai-au-rendez-vous-du-relais-petite-enfance/
LOCATION:Bouxwiller
ATTACH;FMTTYPE=image/png:https://www.museedupaysdehanau.eu/wp-content/uploads/2025/09/Slider-Site-Musee-5.png
END:VEVENT
BEGIN:VEVENT
DTSTART;TZID=Europe/Paris:20251008T100000
DTEND;TZID=Europe/Paris:20251008T111500
DTSTAMP:20260424T143027
CREATED:20251001T124917Z
LAST-MODIFIED:20251001T124917Z
UID:7601-1759917600-1759922100@www.museedupaysdehanau.eu
SUMMARY:Animation - une histoire de sorcières
DESCRIPTION:À travers un kamishibaï\, laissez-vous emporter par l’étrange histoire de la « sorcière cheval ». Puis\, explorez d’autres récits recueillis par le folkloriste du 19e siècle\, Auguste Stœber et laissez libre cours à votre imagination en créant et dessinant votre propre sorcière\, inspirée de ces légendes mystérieuses !\nVisite proposée dans le cadre de l’événement d’octobre « ÉVEIL DES SENS 2025 » \n\nMercredi 8 octobre à 10h\nEnfant à partir de 6 ans\nAdapté au public en situation de handicap mental\nDurée : 1h15\nTarif : gratuit\nPlaces limitées.\nRéservation obligatoire au 03 88 00 38 39 ou contact@museedupaysdehanau.eu
URL:https://www.museedupaysdehanau.eu/event/animation-une-histoire-de-sorcieres/
LOCATION:Musée du Pays de Hanau\, 3 place du Château \, Bouxwiller\, 67330
ATTACH;FMTTYPE=image/png:https://www.museedupaysdehanau.eu/wp-content/uploads/2025/10/Animation-une-histoire-de-sorciere-1.png
END:VEVENT
BEGIN:VEVENT
DTSTART;TZID=Europe/Paris:20251023T143000
DTEND;TZID=Europe/Paris:20251023T170000
DTSTAMP:20260424T143027
CREATED:20251001T125044Z
LAST-MODIFIED:20251001T125044Z
UID:7603-1761229800-1761238800@www.museedupaysdehanau.eu
SUMMARY:Atelier bricolage d'automne
DESCRIPTION:Plongez au cœur de l’automne\, avec les bénévoles Régine et Ruth\, membres de l’Association des Amis du Musée.\nElles proposeront aux enfants de réaliser des bricolages de saison\, dans la joie et la bonne humeur. \n\nJeudi 23 octobre à 14h30\nDurée : 2h30\nTarif : 5€ goûter offert\nPlaces limitées.\nRéservation obligatoire au 03 88 00 38 39 ou contact@museedupaysdehanau.eu
URL:https://www.museedupaysdehanau.eu/event/atelier-bricolage-dautomne/
LOCATION:Musée du Pays de Hanau\, 3 place du Château \, Bouxwiller\, 67330
ATTACH;FMTTYPE=image/png:https://www.museedupaysdehanau.eu/wp-content/uploads/2025/10/Atelier-bricolage-dautomne-1.png
END:VEVENT
BEGIN:VEVENT
DTSTART;TZID=Europe/Paris:20251030T080000
DTEND;TZID=Europe/Paris:20251030T170000
DTSTAMP:20260424T143027
CREATED:20251030T132503Z
LAST-MODIFIED:20251126T105347Z
UID:7668-1761811200-1761843600@www.museedupaysdehanau.eu
SUMMARY:Vitrine de Noël
DESCRIPTION:Découvrez le Noël traditionnel avec ses personnages et ses décorations façonnées par les artisans verriers de notre territoire. Rencontrez le Hàns Tràpp et le Christkindel dans un décor évoquant un atelier de verrier et profitez de l’exposition d’une sélection d’ornements de sapin\, datés des 19e et 20e siècles. \nℹ️ Visite libre
URL:https://www.museedupaysdehanau.eu/event/vitrine-de-noel/
ATTACH;FMTTYPE=image/png:https://www.museedupaysdehanau.eu/wp-content/uploads/2025/10/vitrine-de-Noel-2.png
END:VEVENT
END:VCALENDAR